BEGIN:VCALENDAR
VERSION:2.0
PRODID:-//Freddys Bar &amp; Grill - ECPv6.8.3//NONSGML v1.0//EN
CALSCALE:GREGORIAN
METHOD:PUBLISH
X-WR-CALNAME:Freddys Bar &amp; Grill
X-ORIGINAL-URL:http://www.freddysbarrocks.com
X-WR-CALDESC:Events for Freddys Bar &amp; Grill
REFRESH-INTERVAL;VALUE=DURATION:PT1H
X-Robots-Tag:noindex
X-PUBLISHED-TTL:PT1H
BEGIN:VTIMEZONE
TZID:UTC
BEGIN:STANDARD
TZOFFSETFROM:+0000
TZOFFSETTO:+0000
TZNAME:UTC
DTSTART:20230101T000000
END:STANDARD
END:VTIMEZONE
BEGIN:VEVENT
DTSTART;TZID=UTC:20230721T210000
DTEND;TZID=UTC:20230721T210000
DTSTAMP:20260419T164903
CREATED:20230503T211845Z
LAST-MODIFIED:20230503T211845Z
UID:2387-1689973200-1689973200@www.freddysbarrocks.com
SUMMARY:7/21 LIVE MUSIC: Planet of Fun
DESCRIPTION:Live music starts at 9pm. We do accept a certain amount of reservations so make sure you call and save your spot. Freddy’s is the place to be for all of you live music lovin people!
URL:http://www.freddysbarrocks.com/event/7-21-live-music-planet-of-fun/
LOCATION:Freddy’s Bar\, 40000 Garfield Rd\, Clinton Twp\, MI\, 48038
CATEGORIES:Concert
ATTACH;FMTTYPE=image/jpeg:http://www.freddysbarrocks.com/wp-content/uploads/2023/05/thumbnail.jpg
END:VEVENT
BEGIN:VEVENT
DTSTART;TZID=UTC:20230720T190000
DTEND;TZID=UTC:20230720T190000
DTSTAMP:20260419T164903
CREATED:20230503T203858Z
LAST-MODIFIED:20230503T203858Z
UID:2337-1689879600-1689879600@www.freddysbarrocks.com
SUMMARY:7/20 BIKE NIGHT: Planet of Fun
DESCRIPTION:BIKE NIGHT ROCKS! Every Thursday this summer\, Freddy’s has you covered with the BEST LIVE MUSIC AROUND! \nLIVE MUSIC by Planet of Fun starts at 7pm. The bikes start rolling in around 6pm. Get here early to reserve your spot! Enjoy great food\, drink specials and amazing service from our wonderful staff. \nThis year we have teamed up with Reason to Ride Magazine and Detroit Life to bring you the BEST BIKE NIGHT ON THE EASTSIDE! \nHalf Off Pizza \n$12 Domestic Buckets \n$6 Jager Bombs – $5 Tito’s – $5 Crown Royal
URL:http://www.freddysbarrocks.com/event/7-20-bike-night-planet-of-fun/
LOCATION:Freddy’s Bar\, 40000 Garfield Rd\, Clinton Twp\, MI\, 48038
CATEGORIES:Concert
ATTACH;FMTTYPE=image/jpeg:http://www.freddysbarrocks.com/wp-content/uploads/2023/04/Freddys-Bike-Night-2023-screen.jpg
END:VEVENT
BEGIN:VEVENT
DTSTART;TZID=UTC:20230718T190000
DTEND;TZID=UTC:20230718T190000
DTSTAMP:20260419T164903
CREATED:20230503T205251Z
LAST-MODIFIED:20230503T205251Z
UID:2360-1689706800-1689706800@www.freddysbarrocks.com
SUMMARY:7/18 Taco Tuesday with Weekend Comeback
DESCRIPTION:Not only is it Taco Tuesday but it is also our Jack of Spades Raffle. Every Tuesday the pot grows until one lucky winner finds the Jack of Spades. Each week there will be a separate $150 winner just because we love you all! Live music goes on at 7pm and the drawing is at 8pm. Proceeds go to The Kiwanis club of Clinton Township. Come say hi to them\, our staff and your host with the most Doug Simonson every Tuesday night!
URL:http://www.freddysbarrocks.com/event/7-18-taco-tuesday-with-weekend-comeback/
LOCATION:Freddy’s Bar\, 40000 Garfield Rd\, Clinton Twp\, MI\, 48038
CATEGORIES:Concert
ATTACH;FMTTYPE=image/jpeg:http://www.freddysbarrocks.com/wp-content/uploads/2022/12/Taco-Tuesday-Weekend-Come-Back-social.jpg
END:VEVENT
BEGIN:VEVENT
DTSTART;TZID=UTC:20230716T130000
DTEND;TZID=UTC:20230716T130000
DTSTAMP:20260419T164903
CREATED:20230711T212511Z
LAST-MODIFIED:20230711T212549Z
UID:2527-1689512400-1689512400@www.freddysbarrocks.com
SUMMARY:7/16 The Honor Reed Schwallie CONCERT - JAM
DESCRIPTION:In Honor of Reed Schwallie one of the best guitarist\, song writer and singers in Detroit. Come on out and enjoy the day with a few Local Artists and Friends of Reed: \nMartin Chaparro- MC3\nThe Steve Taylor Three\nAlexandria N’ Transit\nMaggie McCabe\nThe Harvengers\nMoxie Blitz
URL:http://www.freddysbarrocks.com/event/9-30-the-honor-reed-schwallie-concert-jam/
LOCATION:Freddy’s Bar\, 40000 Garfield Rd\, Clinton Twp\, MI\, 48038
CATEGORIES:Concert
ATTACH;FMTTYPE=image/jpeg:http://www.freddysbarrocks.com/wp-content/uploads/2023/07/reed-7.16.jpg
END:VEVENT
BEGIN:VEVENT
DTSTART;TZID=UTC:20230715T210000
DTEND;TZID=UTC:20230715T210000
DTSTAMP:20260419T164903
CREATED:20230503T211618Z
LAST-MODIFIED:20230503T211618Z
UID:2384-1689454800-1689454800@www.freddysbarrocks.com
SUMMARY:7/15 LIVE MUSIC: Beyond 11
DESCRIPTION:Live music starts at 9pm. We do accept a certain amount of reservations so make sure you call and save your spot. Freddy’s is the place to be for all of you live music lovin people!
URL:http://www.freddysbarrocks.com/event/7-15-live-music-beyond-11/
LOCATION:Freddy’s Bar\, 40000 Garfield Rd\, Clinton Twp\, MI\, 48038
CATEGORIES:Concert
ATTACH;FMTTYPE=image/jpeg:http://www.freddysbarrocks.com/wp-content/uploads/2023/05/80656535_211241026566559_8012974738726977536_n.jpg
END:VEVENT
BEGIN:VEVENT
DTSTART;TZID=UTC:20230714T210000
DTEND;TZID=UTC:20230714T210000
DTSTAMP:20260419T164903
CREATED:20230503T211321Z
LAST-MODIFIED:20230503T211321Z
UID:2382-1689368400-1689368400@www.freddysbarrocks.com
SUMMARY:7/14 LIVE MUSIC: CHIT!
DESCRIPTION:Live music starts at 9pm. We do accept a certain amount of reservations so make sure you call and save your spot. Freddy’s is the place to be for all of you live music lovin people!
URL:http://www.freddysbarrocks.com/event/7-14-live-music-chit/
LOCATION:Freddy’s Bar\, 40000 Garfield Rd\, Clinton Twp\, MI\, 48038
CATEGORIES:Concert
ATTACH;FMTTYPE=image/jpeg:http://www.freddysbarrocks.com/wp-content/uploads/2020/10/chit.jpg
END:VEVENT
BEGIN:VEVENT
DTSTART;TZID=UTC:20230713T190000
DTEND;TZID=UTC:20230713T190000
DTSTAMP:20260419T164903
CREATED:20230503T203738Z
LAST-MODIFIED:20230503T203738Z
UID:2335-1689274800-1689274800@www.freddysbarrocks.com
SUMMARY:7/13 BIKE NIGHT: The Devil You Know
DESCRIPTION:BIKE NIGHT ROCKS! Every Thursday this summer\, Freddy’s has you covered with the BEST LIVE MUSIC AROUND! \nLIVE MUSIC by Planet of Fun starts at 7pm. The bikes start rolling in around 6pm. Get here early to reserve your spot! Enjoy great food\, drink specials and amazing service from our wonderful staff. \nThis year we have teamed up with Reason to Ride Magazine and Detroit Life to bring you the BEST BIKE NIGHT ON THE EASTSIDE! \nHalf Off Pizza \n$12 Domestic Buckets \n$6 Jager Bombs – $5 Tito’s – $5 Crown Royal
URL:http://www.freddysbarrocks.com/event/7-13-bike-night-the-devil-you-know/
LOCATION:Freddy’s Bar\, 40000 Garfield Rd\, Clinton Twp\, MI\, 48038
CATEGORIES:Concert
ATTACH;FMTTYPE=image/jpeg:http://www.freddysbarrocks.com/wp-content/uploads/2023/04/Freddys-Bike-Night-2023-screen.jpg
END:VEVENT
BEGIN:VEVENT
DTSTART;TZID=UTC:20230711T190000
DTEND;TZID=UTC:20230711T190000
DTSTAMP:20260419T164903
CREATED:20230503T205059Z
LAST-MODIFIED:20230504T182100Z
UID:2358-1689102000-1689102000@www.freddysbarrocks.com
SUMMARY:7/11 Taco Tuesday with Julia & the Band:Its
DESCRIPTION:Not only is it Taco Tuesday but it is also our Jack of Spades Raffle. Every Tuesday the pot grows until one lucky winner finds the Jack of Spades. Each week there will be a separate $150 winner just because we love you all! Live music goes on at 7pm and the drawing is at 8pm. Proceeds go to The Kiwanis club of Clinton Township. Come say hi to them\, our staff and your host with the most Doug Simonson every Tuesday night!
URL:http://www.freddysbarrocks.com/event/7-11-taco-tuesday-with-julia-the-bandits/
LOCATION:Freddy’s Bar\, 40000 Garfield Rd\, Clinton Twp\, MI\, 48038
CATEGORIES:Concert
ATTACH;FMTTYPE=image/jpeg:http://www.freddysbarrocks.com/wp-content/uploads/2023/04/Taco-Tuesday-Julia-The-Bandits-social.jpg
END:VEVENT
BEGIN:VEVENT
DTSTART;TZID=UTC:20230708T210000
DTEND;TZID=UTC:20230708T210000
DTSTAMP:20260419T164903
CREATED:20230622T210452Z
LAST-MODIFIED:20230622T210452Z
UID:2483-1688850000-1688850000@www.freddysbarrocks.com
SUMMARY:7/8 LIVE MUSIC: Half Nelson
DESCRIPTION:Live music starts at 9pm. We do accept a certain amount of reservations so make sure you call and save your spot. Freddy’s is the place to be for all of you live music lovin people!
URL:http://www.freddysbarrocks.com/event/7-8-live-music-half-nelson/
LOCATION:Freddy’s Bar\, 40000 Garfield Rd\, Clinton Twp\, MI\, 48038
CATEGORIES:Concert
ATTACH;FMTTYPE=image/jpeg:http://www.freddysbarrocks.com/wp-content/uploads/2023/06/354569562_737258865065852_4789429913200774862_n.jpg
END:VEVENT
BEGIN:VEVENT
DTSTART;TZID=UTC:20230707T210000
DTEND;TZID=UTC:20230707T210000
DTSTAMP:20260419T164903
CREATED:20230622T210215Z
LAST-MODIFIED:20230622T210215Z
UID:2480-1688763600-1688763600@www.freddysbarrocks.com
SUMMARY:7/7 LIVE MUSIC: All Time High
DESCRIPTION:Live music starts at 9pm. We do accept a certain amount of reservations so make sure you call and save your spot. Freddy’s is the place to be for all of you live music lovin people!
URL:http://www.freddysbarrocks.com/event/7-7-live-music-all-time-high/
LOCATION:Freddy’s Bar\, 40000 Garfield Rd\, Clinton Twp\, MI\, 48038
CATEGORIES:Concert
ATTACH;FMTTYPE=image/jpeg:http://www.freddysbarrocks.com/wp-content/uploads/2023/06/343063467_181238664821344_757357038159484651_n-1.jpg
END:VEVENT
BEGIN:VEVENT
DTSTART;TZID=UTC:20230706T190000
DTEND;TZID=UTC:20230706T190000
DTSTAMP:20260419T164903
CREATED:20230503T203638Z
LAST-MODIFIED:20230503T203638Z
UID:2333-1688670000-1688670000@www.freddysbarrocks.com
SUMMARY:7/6 BIKE NIGHT: Threshold
DESCRIPTION:BIKE NIGHT ROCKS! Every Thursday this summer\, Freddy’s has you covered with the BEST LIVE MUSIC AROUND! \nLIVE MUSIC by Planet of Fun starts at 7pm. The bikes start rolling in around 6pm. Get here early to reserve your spot! Enjoy great food\, drink specials and amazing service from our wonderful staff. \nThis year we have teamed up with Reason to Ride Magazine and Detroit Life to bring you the BEST BIKE NIGHT ON THE EASTSIDE! \nHalf Off Pizza \n$12 Domestic Buckets \n$6 Jager Bombs – $5 Tito’s – $5 Crown Royal
URL:http://www.freddysbarrocks.com/event/7-6-bike-night-threshold/
LOCATION:Freddy’s Bar\, 40000 Garfield Rd\, Clinton Twp\, MI\, 48038
CATEGORIES:Concert
ATTACH;FMTTYPE=image/jpeg:http://www.freddysbarrocks.com/wp-content/uploads/2023/04/Freddys-Bike-Night-2023-screen.jpg
END:VEVENT
BEGIN:VEVENT
DTSTART;TZID=UTC:20230701T210000
DTEND;TZID=UTC:20230701T210000
DTSTAMP:20260419T164903
CREATED:20230622T205949Z
LAST-MODIFIED:20230622T205949Z
UID:2477-1688245200-1688245200@www.freddysbarrocks.com
SUMMARY:7/1 LIVE MUSIC: Dirt Road to Nowhere
DESCRIPTION:Live music starts at 9pm. We do accept a certain amount of reservations so make sure you call and save your spot. Freddy’s is the place to be for all of you live music lovin people!
URL:http://www.freddysbarrocks.com/event/7-1-live-music-dirt-road-to-nowhere/
LOCATION:Freddy’s Bar\, 40000 Garfield Rd\, Clinton Twp\, MI\, 48038
CATEGORIES:Concert
ATTACH;FMTTYPE=image/jpeg:http://www.freddysbarrocks.com/wp-content/uploads/2023/06/355312038_10221369624565218_1316636253603357128_n.jpg
END:VEVENT
BEGIN:VEVENT
DTSTART;TZID=UTC:20230630T210000
DTEND;TZID=UTC:20230630T210000
DTSTAMP:20260419T164903
CREATED:20230622T205726Z
LAST-MODIFIED:20230622T205726Z
UID:2474-1688158800-1688158800@www.freddysbarrocks.com
SUMMARY:6/30 LIVE MUSIC: 90D Proof
DESCRIPTION:Live music starts at 9pm. We do accept a certain amount of reservations so make sure you call and save your spot. Freddy’s is the place to be for all of you live music lovin people!
URL:http://www.freddysbarrocks.com/event/6-30-live-music-90d-proof/
LOCATION:Freddy’s Bar\, 40000 Garfield Rd\, Clinton Twp\, MI\, 48038
CATEGORIES:Concert
ATTACH;FMTTYPE=image/jpeg:http://www.freddysbarrocks.com/wp-content/uploads/2023/06/348546503_1266785634225093_264185753297683600_n.jpg
END:VEVENT
BEGIN:VEVENT
DTSTART;TZID=UTC:20230629T190000
DTEND;TZID=UTC:20230629T190000
DTSTAMP:20260419T164903
CREATED:20230416T111228Z
LAST-MODIFIED:20230426T190753Z
UID:2141-1688065200-1688065200@www.freddysbarrocks.com
SUMMARY:6/29 BIKE NIGHT: Northbound
DESCRIPTION:BIKE NIGHT ROCKS! Every Thursday this summer\, Freddy’s has you covered with the BEST LIVE MUSIC AROUND! \nLIVE MUSIC by Northbound starts at 7pm. The bikes start rolling in around 6pm. Get here early to reserve your spot! Enjoy great food\, drink specials and amazing service from our wonderful staff. \nThis year we have teamed up with Reason to Ride Magazine and Detroit Life to bring you the BEST BIKE NIGHT ON THE EASTSIDE! \nHalf Off Pizza \n$12 Domestic Buckets \n$6 Jager Bombs – $5 Tito’s – $5 Crown Royal
URL:http://www.freddysbarrocks.com/event/bike-night-northbound/
LOCATION:Freddy’s Bar\, 40000 Garfield Rd\, Clinton Twp\, MI\, 48038
CATEGORIES:Concert
ATTACH;FMTTYPE=image/jpeg:http://www.freddysbarrocks.com/wp-content/uploads/2023/04/Freddys-Bike-Night-2023-screen.jpg
END:VEVENT
BEGIN:VEVENT
DTSTART;TZID=UTC:20230627T190000
DTEND;TZID=UTC:20230627T190000
DTSTAMP:20260419T164903
CREATED:20230416T111114Z
LAST-MODIFIED:20230426T191713Z
UID:2139-1687892400-1687892400@www.freddysbarrocks.com
SUMMARY:6/27 Taco Tuesday with Whiskey for Ransom
DESCRIPTION:Not only is it Taco Tuesday but it is also our Jack of Spades Raffle. Every Tuesday the pot grows until one lucky winner finds the Jack of Spades. Each week there will be a separate $150 winner just because we love you all! Live music goes on at 7pm and the drawing is at 8pm. Proceeds go to The Kiwanis club of Clinton Township. Come say hi to them\, our staff and your host with the most Doug Simonson every Tuesday night!
URL:http://www.freddysbarrocks.com/event/taco-tuesday-with-whiskey-for-ransom-7/
LOCATION:Freddy’s Bar\, 40000 Garfield Rd\, Clinton Twp\, MI\, 48038
CATEGORIES:Concert
ATTACH;FMTTYPE=image/jpeg:http://www.freddysbarrocks.com/wp-content/uploads/2022/12/Taco-Tuesday-Whiskey-For-Ransom-social.jpg
END:VEVENT
BEGIN:VEVENT
DTSTART;TZID=UTC:20230624T210000
DTEND;TZID=UTC:20230624T210000
DTSTAMP:20260419T164903
CREATED:20230416T111010Z
LAST-MODIFIED:20230426T192224Z
UID:2135-1687640400-1687640400@www.freddysbarrocks.com
SUMMARY:6/24 LIVE MUSIC: Planet of Fun
DESCRIPTION:Live music starts at 9pm. We do accept a certain amount of reservations so make sure you call and save your spot. Freddy’s is the place to be for all of you live music lovin people!
URL:http://www.freddysbarrocks.com/event/live-music-planet-of-fun-46/
LOCATION:Freddy’s Bar\, 40000 Garfield Rd\, Clinton Twp\, MI\, 48038
CATEGORIES:Concert
ATTACH;FMTTYPE=image/jpeg:http://www.freddysbarrocks.com/wp-content/uploads/2020/10/Planet-of-Fun.jpg
END:VEVENT
BEGIN:VEVENT
DTSTART;TZID=UTC:20230623T210000
DTEND;TZID=UTC:20230623T210000
DTSTAMP:20260419T164903
CREATED:20230416T111001Z
LAST-MODIFIED:20230426T192354Z
UID:2136-1687554000-1687554000@www.freddysbarrocks.com
SUMMARY:6/23 LIVE MUSIC: Planet of Fun
DESCRIPTION:Live music starts at 9pm. We do accept a certain amount of reservations so make sure you call and save your spot. Freddy’s is the place to be for all of you live music lovin people!
URL:http://www.freddysbarrocks.com/event/live-music-planet-of-fun-45/
LOCATION:Freddy’s Bar\, 40000 Garfield Rd\, Clinton Twp\, MI\, 48038
CATEGORIES:Concert
ATTACH;FMTTYPE=image/jpeg:http://www.freddysbarrocks.com/wp-content/uploads/2020/10/Planet-of-Fun.jpg
END:VEVENT
BEGIN:VEVENT
DTSTART;TZID=UTC:20230622T190000
DTEND;TZID=UTC:20230622T190000
DTSTAMP:20260419T164903
CREATED:20230416T110905Z
LAST-MODIFIED:20230426T190639Z
UID:2132-1687460400-1687460400@www.freddysbarrocks.com
SUMMARY:6/22 BIKE NIGHT: Planet of Fun
DESCRIPTION:BIKE NIGHT ROCKS! Every Thursday this summer\, Freddy’s has you covered with the BEST LIVE MUSIC AROUND! \nLIVE MUSIC by Planet of Fun starts at 7pm. The bikes start rolling in around 6pm. Get here early to reserve your spot! Enjoy great food\, drink specials and amazing service from our wonderful staff. \nThis year we have teamed up with Reason to Ride Magazine and Detroit Life to bring you the BEST BIKE NIGHT ON THE EASTSIDE! \nHalf Off Pizza \n$12 Domestic Buckets \n$6 Jager Bombs – $5 Tito’s – $5 Crown Royal
URL:http://www.freddysbarrocks.com/event/bike-night-planet-of-fun-8/
LOCATION:Freddy’s Bar\, 40000 Garfield Rd\, Clinton Twp\, MI\, 48038
CATEGORIES:Concert
ATTACH;FMTTYPE=image/jpeg:http://www.freddysbarrocks.com/wp-content/uploads/2023/04/Freddys-Bike-Night-2023-screen.jpg
END:VEVENT
BEGIN:VEVENT
DTSTART;TZID=UTC:20230620T190000
DTEND;TZID=UTC:20230620T190000
DTSTAMP:20260419T164903
CREATED:20230416T110753Z
LAST-MODIFIED:20230426T192425Z
UID:2129-1687287600-1687287600@www.freddysbarrocks.com
SUMMARY:6/20 Taco Tuesday with Doug Simonson
DESCRIPTION:Not only is it Taco Tuesday but it is also our Jack of Spades Raffle. Every Tuesday the pot grows until one lucky winner finds the Jack of Spades. Each week there will be a separate $150 winner just because we love you all! Live music goes on at 7pm and the drawing is at 8pm. Proceeds go to The Kiwanis club of Clinton Township. Come say hi to them\, our staff and your host with the most Doug Simonson every Tuesday night!
URL:http://www.freddysbarrocks.com/event/taco-tuesday-with-doug-simonson-8/
LOCATION:Freddy’s Bar\, 40000 Garfield Rd\, Clinton Twp\, MI\, 48038
CATEGORIES:Concert
ATTACH;FMTTYPE=image/jpeg:http://www.freddysbarrocks.com/wp-content/uploads/2022/12/Taco-Tuesday-No-Band-social.jpg
END:VEVENT
BEGIN:VEVENT
DTSTART;TZID=UTC:20230617T210000
DTEND;TZID=UTC:20230617T210000
DTSTAMP:20260419T164903
CREATED:20230612T155029Z
LAST-MODIFIED:20230612T155029Z
UID:2465-1687035600-1687035600@www.freddysbarrocks.com
SUMMARY:6/17 LIVE MUSIC: The Stone Blossoms
DESCRIPTION:Live music starts at 9pm. We do accept a certain amount of reservations so make sure you call and save your spot. Freddy’s is the place to be for all of you live music lovin people!
URL:http://www.freddysbarrocks.com/event/6-17-live-music-the-stone-blossoms/
LOCATION:Freddy’s Bar\, 40000 Garfield Rd\, Clinton Twp\, MI\, 48038
CATEGORIES:Concert
ATTACH;FMTTYPE=image/png:http://www.freddysbarrocks.com/wp-content/uploads/2020/06/stone-blossoms.png
END:VEVENT
BEGIN:VEVENT
DTSTART;TZID=UTC:20230616T210000
DTEND;TZID=UTC:20230616T210000
DTSTAMP:20260419T164903
CREATED:20230416T110654Z
LAST-MODIFIED:20230426T192454Z
UID:2126-1686949200-1686949200@www.freddysbarrocks.com
SUMMARY:6/16 LIVE MUSIC: Bandwagon
DESCRIPTION:Live music starts at 9pm. We do accept a certain amount of reservations so make sure you call and save your spot. Freddy’s is the place to be for all of you live music lovin people!
URL:http://www.freddysbarrocks.com/event/live-music-bandwagon/
LOCATION:Freddy’s Bar\, 40000 Garfield Rd\, Clinton Twp\, MI\, 48038
CATEGORIES:Concert
ATTACH;FMTTYPE=image/jpeg:http://www.freddysbarrocks.com/wp-content/uploads/2023/04/Bandwagon.jpg
END:VEVENT
BEGIN:VEVENT
DTSTART;TZID=UTC:20230615T190000
DTEND;TZID=UTC:20230615T190000
DTSTAMP:20260419T164903
CREATED:20230426T190518Z
LAST-MODIFIED:20230426T190518Z
UID:2277-1686855600-1686855600@www.freddysbarrocks.com
SUMMARY:6/15 BIKE NIGHT: Classic Maniacs
DESCRIPTION:BIKE NIGHT ROCKS! Every Thursday this summer\, Freddy’s has you covered with the BEST LIVE MUSIC AROUND! \nLIVE MUSIC by Classic Maniacs starts at 7pm. The bikes start rolling in around 6pm. Get here early to reserve your spot! Enjoy great food\, drink specials and amazing service from our wonderful staff. \nThis year we have teamed up with Reason to Ride Magazine and Detroit Life to bring you the BEST BIKE NIGHT ON THE EASTSIDE! \nHalf Off Pizza \n$12 Domestic Buckets \n$6 Jager Bombs – $5 Tito’s – $5 Crown Royal
URL:http://www.freddysbarrocks.com/event/6-15-bike-night-classic-maniacs/
LOCATION:MI
CATEGORIES:Concert
ATTACH;FMTTYPE=image/jpeg:http://www.freddysbarrocks.com/wp-content/uploads/2023/04/Freddys-Bike-Night-2023-screen.jpg
END:VEVENT
BEGIN:VEVENT
DTSTART;TZID=UTC:20230613T190000
DTEND;TZID=UTC:20230613T190000
DTSTAMP:20260419T164903
CREATED:20230416T110503Z
LAST-MODIFIED:20230426T192522Z
UID:2124-1686682800-1686682800@www.freddysbarrocks.com
SUMMARY:6/13 Taco Tuesday with Rumor Has It
DESCRIPTION:Not only is it Taco Tuesday but it is also our Jack of Spades Raffle. Every Tuesday the pot grows until one lucky winner finds the Jack of Spades. Each week there will be a separate $150 winner just because we love you all! Live music goes on at 7pm and the drawing is at 8pm. Proceeds go to The Kiwanis club of Clinton Township. Come say hi to them\, our staff and your host with the most Doug Simonson every Tuesday night!
URL:http://www.freddysbarrocks.com/event/taco-tuesday-with-rumor-has-it/
LOCATION:Freddy’s Bar\, 40000 Garfield Rd\, Clinton Twp\, MI\, 48038
CATEGORIES:Concert
ATTACH;FMTTYPE=image/jpeg:http://www.freddysbarrocks.com/wp-content/uploads/2022/12/Taco-Tuesday-No-Band-social.jpg
END:VEVENT
BEGIN:VEVENT
DTSTART;TZID=UTC:20230610T210000
DTEND;TZID=UTC:20230610T210000
DTSTAMP:20260419T164903
CREATED:20230416T110354Z
LAST-MODIFIED:20230426T192553Z
UID:2121-1686430800-1686430800@www.freddysbarrocks.com
SUMMARY:6/10 LIVE MUSIC: The Offbeat
DESCRIPTION:Live music starts at 9pm. We do accept a certain amount of reservations so make sure you call and save your spot. Freddy’s is the place to be for all of you live music lovin people!
URL:http://www.freddysbarrocks.com/event/live-music-the-offbeat/
LOCATION:Freddy’s Bar\, 40000 Garfield Rd\, Clinton Twp\, MI\, 48038
CATEGORIES:Concert
ATTACH;FMTTYPE=image/jpeg:http://www.freddysbarrocks.com/wp-content/uploads/2023/04/The-Offbeat.jpg
END:VEVENT
BEGIN:VEVENT
DTSTART;TZID=UTC:20230609T210000
DTEND;TZID=UTC:20230609T210000
DTSTAMP:20260419T164903
CREATED:20230416T110204Z
LAST-MODIFIED:20230426T192714Z
UID:2118-1686344400-1686344400@www.freddysbarrocks.com
SUMMARY:6/9 LIVE MUSIC: Local Heros
DESCRIPTION:Live music starts at 9pm. We do accept a certain amount of reservations so make sure you call and save your spot. Freddy’s is the place to be for all of you live music lovin people!
URL:http://www.freddysbarrocks.com/event/live-music-local-heros-2/
LOCATION:Freddy’s Bar\, 40000 Garfield Rd\, Clinton Twp\, MI\, 48038
CATEGORIES:Concert
ATTACH;FMTTYPE=image/jpeg:http://www.freddysbarrocks.com/wp-content/uploads/2022/12/local-heros.jpg
END:VEVENT
BEGIN:VEVENT
DTSTART;TZID=UTC:20230608T190000
DTEND;TZID=UTC:20230608T190000
DTSTAMP:20260419T164903
CREATED:20230416T110031Z
LAST-MODIFIED:20230426T190842Z
UID:2116-1686250800-1686250800@www.freddysbarrocks.com
SUMMARY:6/8 BIKE NIGHT: The Cover Up
DESCRIPTION:BIKE NIGHT ROCKS! Every Thursday this summer\, Freddy’s has you covered with the BEST LIVE MUSIC AROUND! \nLIVE MUSIC by The Cover Up starts at 7pm. The bikes start rolling in around 6pm. Get here early to reserve your spot! Enjoy great food\, drink specials and amazing service from our wonderful staff. \nThis year we have teamed up with Reason to Ride Magazine and Detroit Life to bring you the BEST BIKE NIGHT ON THE EASTSIDE! \nHalf Off Pizza \n$12 Domestic Buckets \n$6 Jager Bombs – $5 Tito’s – $5 Crown Royal
URL:http://www.freddysbarrocks.com/event/bike-night-the-cover-up-2/
LOCATION:MI
CATEGORIES:Concert
ATTACH;FMTTYPE=image/jpeg:http://www.freddysbarrocks.com/wp-content/uploads/2023/04/Freddys-Bike-Night-2023-screen.jpg
END:VEVENT
BEGIN:VEVENT
DTSTART;TZID=UTC:20230606T190000
DTEND;TZID=UTC:20230606T190000
DTSTAMP:20260419T164903
CREATED:20230416T105926Z
LAST-MODIFIED:20230426T192924Z
UID:2113-1686078000-1686078000@www.freddysbarrocks.com
SUMMARY:6/6 Taco Tuesday with Erik Blundel
DESCRIPTION:Not only is it Taco Tuesday but it is also our Jack of Spades Raffle. Every Tuesday the pot grows until one lucky winner finds the Jack of Spades. Each week there will be a separate $150 winner just because we love you all! Live music goes on at 7pm and the drawing is at 8pm. Proceeds go to The Kiwanis club of Clinton Township. Come say hi to them\, our staff and your host with the most Doug Simonson every Tuesday night!
URL:http://www.freddysbarrocks.com/event/taco-tuesday-with-erik-blundel/
LOCATION:Freddy’s Bar\, 40000 Garfield Rd\, Clinton Twp\, MI\, 48038
CATEGORIES:Concert
ATTACH;FMTTYPE=image/jpeg:http://www.freddysbarrocks.com/wp-content/uploads/2022/12/Taco-Tuesday-No-Band-social.jpg
END:VEVENT
BEGIN:VEVENT
DTSTART;TZID=UTC:20230603T210000
DTEND;TZID=UTC:20230603T210000
DTSTAMP:20260419T164903
CREATED:20230416T105801Z
LAST-MODIFIED:20230530T211223Z
UID:2109-1685826000-1685826000@www.freddysbarrocks.com
SUMMARY:6/3 LIVE MUSIC: Suckerpunch
DESCRIPTION:Live music starts at 9pm. We do accept a certain amount of reservations so make sure you call and save your spot. Freddy’s is the place to be for all of you live music lovin people!
URL:http://www.freddysbarrocks.com/event/live-music-parallel-fifth-28/
LOCATION:Freddy’s Bar\, 40000 Garfield Rd\, Clinton Twp\, MI\, 48038
CATEGORIES:Concert
ATTACH;FMTTYPE=image/jpeg:http://www.freddysbarrocks.com/wp-content/uploads/2022/07/Suckerpunch.jpg
END:VEVENT
BEGIN:VEVENT
DTSTART;TZID=UTC:20230602T210000
DTEND;TZID=UTC:20230602T210000
DTSTAMP:20260419T164903
CREATED:20230416T105813Z
LAST-MODIFIED:20230530T211314Z
UID:2110-1685739600-1685739600@www.freddysbarrocks.com
SUMMARY:6/2 LIVE MUSIC: Willits Records
DESCRIPTION:Live music starts at 9pm. We do accept a certain amount of reservations so make sure you call and save your spot. Freddy’s is the place to be for all of you live music lovin people!
URL:http://www.freddysbarrocks.com/event/live-music-parallel-fifth-29/
LOCATION:Freddy’s Bar\, 40000 Garfield Rd\, Clinton Twp\, MI\, 48038
CATEGORIES:Concert
ATTACH;FMTTYPE=image/jpeg:http://www.freddysbarrocks.com/wp-content/uploads/2023/04/Willits-Records-New.jpg
END:VEVENT
BEGIN:VEVENT
DTSTART;TZID=UTC:20230601T190000
DTEND;TZID=UTC:20230601T190000
DTSTAMP:20260419T164903
CREATED:20230416T105612Z
LAST-MODIFIED:20230426T190920Z
UID:2105-1685646000-1685646000@www.freddysbarrocks.com
SUMMARY:6/1 BIKE NIGHT: American Ages
DESCRIPTION:BIKE NIGHT ROCKS! Every Thursday this summer\, Freddy’s has you covered with the BEST LIVE MUSIC AROUND! \nLIVE MUSIC by American Ages starts at 7pm. The bikes start rolling in around 6pm. Get here early to reserve your spot! Enjoy great food\, drink specials and amazing service from our wonderful staff. \nThis year we have teamed up with Reason to Ride Magazine and Detroit Life to bring you the BEST BIKE NIGHT ON THE EASTSIDE! \nHalf Off Pizza \n$12 Domestic Buckets \n$6 Jager Bombs – $5 Tito’s – $5 Crown Royal
URL:http://www.freddysbarrocks.com/event/bike-night-american-ages/
LOCATION:MI
CATEGORIES:Concert
ATTACH;FMTTYPE=image/jpeg:http://www.freddysbarrocks.com/wp-content/uploads/2023/04/Freddys-Bike-Night-2023-screen.jpg
END:VEVENT
END:VCALENDAR