BEGIN:VCALENDAR
VERSION:2.0
PRODID:-//Freddys Bar &amp; Grill - ECPv6.8.3//NONSGML v1.0//EN
CALSCALE:GREGORIAN
METHOD:PUBLISH
X-WR-CALNAME:Freddys Bar &amp; Grill
X-ORIGINAL-URL:http://www.freddysbarrocks.com
X-WR-CALDESC:Events for Freddys Bar &amp; Grill
REFRESH-INTERVAL;VALUE=DURATION:PT1H
X-Robots-Tag:noindex
X-PUBLISHED-TTL:PT1H
BEGIN:VTIMEZONE
TZID:UTC
BEGIN:STANDARD
TZOFFSETFROM:+0000
TZOFFSETTO:+0000
TZNAME:UTC
DTSTART:20230101T000000
END:STANDARD
END:VTIMEZONE
BEGIN:VEVENT
DTSTART;TZID=UTC:20230314T190000
DTEND;TZID=UTC:20230314T190000
DTSTAMP:20260420T013403
CREATED:20221214T212858Z
LAST-MODIFIED:20221214T212858Z
UID:1318-1678820400-1678820400@www.freddysbarrocks.com
SUMMARY:Taco Tuesday with Julia and the Band: It's
DESCRIPTION:Not only is it Taco Tuesday but it is also our Jack of Spades Raffle. Every Tuesday the pot grows until one lucky winner finds the Jack of Spades. Each week there will be a separate $150 winner just because we love you all! Live music goes on at 7pm and the drawing is at 8pm. Proceeds go to The Kiwanis club of Clinton Township. Come say hi to them\, our staff and your host with the most Doug Simonson every Tuesday night!
URL:http://www.freddysbarrocks.com/event/taco-tuesday-with-julia-and-the-band-its/
LOCATION:Freddy’s Bar\, 40000 Garfield Rd\, Clinton Twp\, MI\, 48038
CATEGORIES:Concert
ATTACH;FMTTYPE=image/jpeg:http://www.freddysbarrocks.com/wp-content/uploads/2022/12/Taco-Tuesday-No-Band-social.jpg
END:VEVENT
BEGIN:VEVENT
DTSTART;TZID=UTC:20230311T210000
DTEND;TZID=UTC:20230311T210000
DTSTAMP:20260420T013403
CREATED:20221214T215024Z
LAST-MODIFIED:20221214T215024Z
UID:1332-1678568400-1678568400@www.freddysbarrocks.com
SUMMARY:LIVE MUSIC: Parallel Fifth
DESCRIPTION:Live music starts at 9pm. We do accept a certain amount of reservations so make sure you call and save your spot. Freddy’s is the place to be for all of you live music lovin people!
URL:http://www.freddysbarrocks.com/event/live-music-parallel-fifth-22/
LOCATION:Freddy’s Bar\, 40000 Garfield Rd\, Clinton Twp\, MI\, 48038
CATEGORIES:Concert
ATTACH;FMTTYPE=image/jpeg:http://www.freddysbarrocks.com/wp-content/uploads/2021/07/Parallel-Fifth.jpg
END:VEVENT
BEGIN:VEVENT
DTSTART;TZID=UTC:20230310T210000
DTEND;TZID=UTC:20230310T210000
DTSTAMP:20260420T013403
CREATED:20221214T215057Z
LAST-MODIFIED:20221214T215057Z
UID:1334-1678482000-1678482000@www.freddysbarrocks.com
SUMMARY:LIVE MUSIC: Parallel Fifth
DESCRIPTION:Live music starts at 9pm. We do accept a certain amount of reservations so make sure you call and save your spot. Freddy’s is the place to be for all of you live music lovin people!
URL:http://www.freddysbarrocks.com/event/live-music-parallel-fifth-23/
LOCATION:Freddy’s Bar\, 40000 Garfield Rd\, Clinton Twp\, MI\, 48038
CATEGORIES:Concert
ATTACH;FMTTYPE=image/jpeg:http://www.freddysbarrocks.com/wp-content/uploads/2021/07/Parallel-Fifth.jpg
END:VEVENT
BEGIN:VEVENT
DTSTART;TZID=UTC:20230309T190000
DTEND;TZID=UTC:20230309T190000
DTSTAMP:20260420T013403
CREATED:20221214T210308Z
LAST-MODIFIED:20221214T210308Z
UID:1283-1678388400-1678388400@www.freddysbarrocks.com
SUMMARY:Thursday Dueling Pianos
DESCRIPTION:Freddy’s turns into a Piano Bar on Thursday nights at 7pm. Dueling Piano shows are very entertaining and a great way to celebrate family gathering\, work functions\, birthdays\, date nights and anything else you can think of.  \nSPECIALS:\nHalf Off Pizza\n$6 Blakes Hard Cider Pints\n$15 Domestic Buckets\n$7 Maker’s Mark  \nCall (586) 416-7777 to reserve a spot for your group
URL:http://www.freddysbarrocks.com/event/thursday-dueling-pianos-19/
LOCATION:Freddy’s Bar\, 40000 Garfield Rd\, Clinton Twp\, MI\, 48038
CATEGORIES:Concert
ATTACH;FMTTYPE=image/jpeg:http://www.freddysbarrocks.com/wp-content/uploads/2022/12/Dueling-Pianos-Thursday-social.jpg
END:VEVENT
BEGIN:VEVENT
DTSTART;TZID=UTC:20230307T190000
DTEND;TZID=UTC:20230307T190000
DTSTAMP:20260420T013403
CREATED:20221214T212021Z
LAST-MODIFIED:20221214T212021Z
UID:1307-1678215600-1678215600@www.freddysbarrocks.com
SUMMARY:Taco Tuesday with Whiskey for Ransom
DESCRIPTION:Not only is it Taco Tuesday but it is also our Jack of Spades Raffle. Every Tuesday the pot grows until one lucky winner finds the Jack of Spades. Each week there will be a separate $150 winner just because we love you all! Live music goes on at 7pm and the drawing is at 8pm. Proceeds go to The Kiwanis club of Clinton Township. Come say hi to them\, our staff and your host with the most Doug Simonson every Tuesday night!
URL:http://www.freddysbarrocks.com/event/taco-tuesday-with-whiskey-for-ransom-4/
LOCATION:Freddy’s Bar\, 40000 Garfield Rd\, Clinton Twp\, MI\, 48038
CATEGORIES:Concert
ATTACH;FMTTYPE=image/jpeg:http://www.freddysbarrocks.com/wp-content/uploads/2022/12/Taco-Tuesday-Whiskey-For-Ransom-social.jpg
END:VEVENT
BEGIN:VEVENT
DTSTART;TZID=UTC:20230304T210000
DTEND;TZID=UTC:20230304T210000
DTSTAMP:20260420T013403
CREATED:20221214T215149Z
LAST-MODIFIED:20221214T215149Z
UID:1336-1677963600-1677963600@www.freddysbarrocks.com
SUMMARY:LIVE MUSIC: Doin' Time
DESCRIPTION:Live music starts at 9pm. We do accept a certain amount of reservations so make sure you call and save your spot. Freddy’s is the place to be for all of you live music lovin people!
URL:http://www.freddysbarrocks.com/event/live-music-doin-time-9/
LOCATION:Freddy’s Bar\, 40000 Garfield Rd\, Clinton Twp\, MI\, 48038
CATEGORIES:Concert
ATTACH;FMTTYPE=image/jpeg:http://www.freddysbarrocks.com/wp-content/uploads/2021/09/Doin-Time-Logo.jpg
END:VEVENT
BEGIN:VEVENT
DTSTART;TZID=UTC:20230303T210000
DTEND;TZID=UTC:20230303T210000
DTSTAMP:20260420T013403
CREATED:20221214T215304Z
LAST-MODIFIED:20221214T215304Z
UID:1338-1677877200-1677877200@www.freddysbarrocks.com
SUMMARY:LIVE MUSIC: Mainstreet Soul
DESCRIPTION:Live music starts at 9pm. We do accept a certain amount of reservations so make sure you call and save your spot. Freddy’s is the place to be for all of you live music lovin people!
URL:http://www.freddysbarrocks.com/event/live-music-mainstreet-soul-5/
LOCATION:Freddy’s Bar\, 40000 Garfield Rd\, Clinton Twp\, MI\, 48038
CATEGORIES:Concert
ATTACH;FMTTYPE=image/png:http://www.freddysbarrocks.com/wp-content/uploads/2021/12/1013096_10151480286230899_637594782_n.png
END:VEVENT
BEGIN:VEVENT
DTSTART;TZID=UTC:20230302T190000
DTEND;TZID=UTC:20230302T190000
DTSTAMP:20260420T013403
CREATED:20221214T210245Z
LAST-MODIFIED:20221214T210245Z
UID:1281-1677783600-1677783600@www.freddysbarrocks.com
SUMMARY:Thursday Dueling Pianos
DESCRIPTION:Freddy’s turns into a Piano Bar on Thursday nights at 7pm. Dueling Piano shows are very entertaining and a great way to celebrate family gathering\, work functions\, birthdays\, date nights and anything else you can think of.  \nSPECIALS:\nHalf Off Pizza\n$6 Blakes Hard Cider Pints\n$15 Domestic Buckets\n$7 Maker’s Mark  \nCall (586) 416-7777 to reserve a spot for your group
URL:http://www.freddysbarrocks.com/event/thursday-dueling-pianos-18/
LOCATION:Freddy’s Bar\, 40000 Garfield Rd\, Clinton Twp\, MI\, 48038
CATEGORIES:Concert
ATTACH;FMTTYPE=image/jpeg:http://www.freddysbarrocks.com/wp-content/uploads/2022/12/Dueling-Pianos-Thursday-social.jpg
END:VEVENT
BEGIN:VEVENT
DTSTART;TZID=UTC:20230228T190000
DTEND;TZID=UTC:20230228T190000
DTSTAMP:20260420T013403
CREATED:20221214T211938Z
LAST-MODIFIED:20221214T211938Z
UID:1305-1677610800-1677610800@www.freddysbarrocks.com
SUMMARY:Taco Tuesday with Weekend Comeback
DESCRIPTION:Not only is it Taco Tuesday but it is also our Jack of Spades Raffle. Every Tuesday the pot grows until one lucky winner finds the Jack of Spades. Each week there will be a separate $150 winner just because we love you all! Live music goes on at 7pm and the drawing is at 8pm. Proceeds go to The Kiwanis club of Clinton Township. Come say hi to them\, our staff and your host with the most Doug Simonson every Tuesday night!
URL:http://www.freddysbarrocks.com/event/taco-tuesday-with-weekend-comeback-19/
LOCATION:Freddy’s Bar\, 40000 Garfield Rd\, Clinton Twp\, MI\, 48038
CATEGORIES:Concert
ATTACH;FMTTYPE=image/jpeg:http://www.freddysbarrocks.com/wp-content/uploads/2022/12/Taco-Tuesday-Weekend-Come-Back-social.jpg
END:VEVENT
BEGIN:VEVENT
DTSTART;TZID=UTC:20230225T210000
DTEND;TZID=UTC:20230225T210000
DTSTAMP:20260420T013403
CREATED:20221214T215354Z
LAST-MODIFIED:20221214T215354Z
UID:1340-1677358800-1677358800@www.freddysbarrocks.com
SUMMARY:LIVE MUSIC: Planet of Fun
DESCRIPTION:Live music starts at 9pm. We do accept a certain amount of reservations so make sure you call and save your spot. Freddy’s is the place to be for all of you live music lovin people!
URL:http://www.freddysbarrocks.com/event/live-music-planet-of-fun-37/
LOCATION:Freddy’s Bar\, 40000 Garfield Rd\, Clinton Twp\, MI\, 48038
CATEGORIES:Concert
ATTACH;FMTTYPE=image/jpeg:http://www.freddysbarrocks.com/wp-content/uploads/2020/10/Planet-of-Fun.jpg
END:VEVENT
BEGIN:VEVENT
DTSTART;TZID=UTC:20230224T210000
DTEND;TZID=UTC:20230224T210000
DTSTAMP:20260420T013403
CREATED:20221214T215419Z
LAST-MODIFIED:20221214T215419Z
UID:1342-1677272400-1677272400@www.freddysbarrocks.com
SUMMARY:LIVE MUSIC: Planet of Fun
DESCRIPTION:Live music starts at 9pm. We do accept a certain amount of reservations so make sure you call and save your spot. Freddy’s is the place to be for all of you live music lovin people!
URL:http://www.freddysbarrocks.com/event/live-music-planet-of-fun-38/
LOCATION:Freddy’s Bar\, 40000 Garfield Rd\, Clinton Twp\, MI\, 48038
CATEGORIES:Concert
ATTACH;FMTTYPE=image/jpeg:http://www.freddysbarrocks.com/wp-content/uploads/2020/10/Planet-of-Fun.jpg
END:VEVENT
BEGIN:VEVENT
DTSTART;TZID=UTC:20230223T190000
DTEND;TZID=UTC:20230223T190000
DTSTAMP:20260420T013403
CREATED:20221214T210211Z
LAST-MODIFIED:20230213T214859Z
UID:1279-1677178800-1677178800@www.freddysbarrocks.com
SUMMARY:Cabin Fever Bike Night Party
DESCRIPTION:As we are getting closer to Bike Night season we know many of you have that itch. We are putting the dueling piano show on hold for a week to bring you Planet of Fun live for our Cabin Fever Bike Night Party.  \nSPECIALS:\nHalf Off Pizza\n$5 Calls\n$12 Domestic Buckets \nCall (586) 416-7777 to reserve a spot for your group
URL:http://www.freddysbarrocks.com/event/thursday-dueling-pianos-17/
LOCATION:Freddy’s Bar\, 40000 Garfield Rd\, Clinton Twp\, MI\, 48038
CATEGORIES:Concert
ATTACH;FMTTYPE=image/jpeg:http://www.freddysbarrocks.com/wp-content/uploads/2022/03/Alternate-Bike-Night-Logo.jpg
END:VEVENT
BEGIN:VEVENT
DTSTART;TZID=UTC:20230221T190000
DTEND;TZID=UTC:20230221T190000
DTSTAMP:20260420T013403
CREATED:20221214T212817Z
LAST-MODIFIED:20221214T212817Z
UID:1316-1677006000-1677006000@www.freddysbarrocks.com
SUMMARY:Taco Tuesday with Jim Teller
DESCRIPTION:Not only is it Taco Tuesday but it is also our Jack of Spades Raffle. Every Tuesday the pot grows until one lucky winner finds the Jack of Spades. Each week there will be a separate $150 winner just because we love you all! Live music goes on at 7pm and the drawing is at 8pm. Proceeds go to The Kiwanis club of Clinton Township. Come say hi to them\, our staff and your host with the most Doug Simonson every Tuesday night!
URL:http://www.freddysbarrocks.com/event/taco-tuesday-with-jim-teller-2/
LOCATION:Freddy’s Bar\, 40000 Garfield Rd\, Clinton Twp\, MI\, 48038
CATEGORIES:Concert
ATTACH;FMTTYPE=image/jpeg:http://www.freddysbarrocks.com/wp-content/uploads/2022/12/Taco-Tuesday-No-Band-social.jpg
END:VEVENT
BEGIN:VEVENT
DTSTART;TZID=UTC:20230218T210000
DTEND;TZID=UTC:20230218T210000
DTSTAMP:20260420T013403
CREATED:20221214T215513Z
LAST-MODIFIED:20221214T215513Z
UID:1344-1676754000-1676754000@www.freddysbarrocks.com
SUMMARY:LIVE MUSIC: Parallel Fifth
DESCRIPTION:Live music starts at 9pm. We do accept a certain amount of reservations so make sure you call and save your spot. Freddy’s is the place to be for all of you live music lovin people!
URL:http://www.freddysbarrocks.com/event/live-music-parallel-fifth-24/
LOCATION:Freddy’s Bar\, 40000 Garfield Rd\, Clinton Twp\, MI\, 48038
CATEGORIES:Concert
ATTACH;FMTTYPE=image/jpeg:http://www.freddysbarrocks.com/wp-content/uploads/2021/07/Parallel-Fifth.jpg
END:VEVENT
BEGIN:VEVENT
DTSTART;TZID=UTC:20230217T210000
DTEND;TZID=UTC:20230217T210000
DTSTAMP:20260420T013403
CREATED:20221214T215542Z
LAST-MODIFIED:20221214T215542Z
UID:1346-1676667600-1676667600@www.freddysbarrocks.com
SUMMARY:LIVE MUSIC: Parallel Fifth
DESCRIPTION:Live music starts at 9pm. We do accept a certain amount of reservations so make sure you call and save your spot. Freddy’s is the place to be for all of you live music lovin people!
URL:http://www.freddysbarrocks.com/event/live-music-parallel-fifth-25/
LOCATION:Freddy’s Bar\, 40000 Garfield Rd\, Clinton Twp\, MI\, 48038
CATEGORIES:Concert
ATTACH;FMTTYPE=image/jpeg:http://www.freddysbarrocks.com/wp-content/uploads/2021/07/Parallel-Fifth.jpg
END:VEVENT
BEGIN:VEVENT
DTSTART;TZID=UTC:20230216T190000
DTEND;TZID=UTC:20230216T190000
DTSTAMP:20260420T013403
CREATED:20221214T210145Z
LAST-MODIFIED:20221214T210145Z
UID:1277-1676574000-1676574000@www.freddysbarrocks.com
SUMMARY:Thursday Dueling Pianos
DESCRIPTION:Freddy’s turns into a Piano Bar on Thursday nights at 7pm. Dueling Piano shows are very entertaining and a great way to celebrate family gathering\, work functions\, birthdays\, date nights and anything else you can think of.  \nSPECIALS:\nHalf Off Pizza\n$6 Blakes Hard Cider Pints\n$15 Domestic Buckets\n$7 Maker’s Mark  \nCall (586) 416-7777 to reserve a spot for your group
URL:http://www.freddysbarrocks.com/event/thursday-dueling-pianos-16/
LOCATION:Freddy’s Bar\, 40000 Garfield Rd\, Clinton Twp\, MI\, 48038
CATEGORIES:Concert
ATTACH;FMTTYPE=image/jpeg:http://www.freddysbarrocks.com/wp-content/uploads/2022/12/Dueling-Pianos-Thursday-social.jpg
END:VEVENT
BEGIN:VEVENT
DTSTART;TZID=UTC:20230214T190000
DTEND;TZID=UTC:20230214T190000
DTSTAMP:20260420T013403
CREATED:20221214T211854Z
LAST-MODIFIED:20221214T211854Z
UID:1302-1676401200-1676401200@www.freddysbarrocks.com
SUMMARY:Taco Tuesday with Justin Alexander
DESCRIPTION:Not only is it Taco Tuesday but it is also our Jack of Spades Raffle. Every Tuesday the pot grows until one lucky winner finds the Jack of Spades. Each week there will be a separate $150 winner just because we love you all! Live music goes on at 7pm and the drawing is at 8pm. Proceeds go to The Kiwanis club of Clinton Township. Come say hi to them\, our staff and your host with the most Doug Simonson every Tuesday night!
URL:http://www.freddysbarrocks.com/event/taco-tuesday-with-justin-alexander-18/
LOCATION:Freddy’s Bar\, 40000 Garfield Rd\, Clinton Twp\, MI\, 48038
CATEGORIES:Concert
ATTACH;FMTTYPE=image/jpeg:http://www.freddysbarrocks.com/wp-content/uploads/2022/12/Taco-Tuesday-Justin-Alexander-social.jpg
END:VEVENT
BEGIN:VEVENT
DTSTART;TZID=UTC:20230211T210000
DTEND;TZID=UTC:20230211T210000
DTSTAMP:20260420T013403
CREATED:20221214T215644Z
LAST-MODIFIED:20221214T215644Z
UID:1348-1676149200-1676149200@www.freddysbarrocks.com
SUMMARY:LIVE MUSIC: The Stone Blossoms
DESCRIPTION:Live music starts at 9pm. We do accept a certain amount of reservations so make sure you call and save your spot. Freddy’s is the place to be for all of you live music lovin people!
URL:http://www.freddysbarrocks.com/event/live-music-the-stone-blossoms-3/
LOCATION:Freddy’s Bar\, 40000 Garfield Rd\, Clinton Twp\, MI\, 48038
CATEGORIES:Concert
ATTACH;FMTTYPE=image/png:http://www.freddysbarrocks.com/wp-content/uploads/2020/10/stone-blossoms.png
END:VEVENT
BEGIN:VEVENT
DTSTART;TZID=UTC:20230210T210000
DTEND;TZID=UTC:20230210T210000
DTSTAMP:20260420T013403
CREATED:20221214T215712Z
LAST-MODIFIED:20221214T215712Z
UID:1350-1676062800-1676062800@www.freddysbarrocks.com
SUMMARY:LIVE MUSIC: The Stone Blossoms
DESCRIPTION:Live music starts at 9pm. We do accept a certain amount of reservations so make sure you call and save your spot. Freddy’s is the place to be for all of you live music lovin people!
URL:http://www.freddysbarrocks.com/event/live-music-the-stone-blossoms-4/
LOCATION:Freddy’s Bar\, 40000 Garfield Rd\, Clinton Twp\, MI\, 48038
CATEGORIES:Concert
ATTACH;FMTTYPE=image/png:http://www.freddysbarrocks.com/wp-content/uploads/2020/10/stone-blossoms.png
END:VEVENT
BEGIN:VEVENT
DTSTART;TZID=UTC:20230209T190000
DTEND;TZID=UTC:20230209T190000
DTSTAMP:20260420T013403
CREATED:20221214T210104Z
LAST-MODIFIED:20221214T210104Z
UID:1274-1675969200-1675969200@www.freddysbarrocks.com
SUMMARY:Thursday Dueling Pianos
DESCRIPTION:Freddy’s turns into a Piano Bar on Thursday nights at 7pm. Dueling Piano shows are very entertaining and a great way to celebrate family gathering\, work functions\, birthdays\, date nights and anything else you can think of.  \nSPECIALS:\nHalf Off Pizza\n$6 Blakes Hard Cider Pints\n$15 Domestic Buckets\n$7 Maker’s Mark  \nCall (586) 416-7777 to reserve a spot for your group
URL:http://www.freddysbarrocks.com/event/thursday-dueling-pianos-15/
LOCATION:Freddy’s Bar\, 40000 Garfield Rd\, Clinton Twp\, MI\, 48038
CATEGORIES:Concert
ATTACH;FMTTYPE=image/jpeg:http://www.freddysbarrocks.com/wp-content/uploads/2022/12/Dueling-Pianos-Thursday-social.jpg
END:VEVENT
BEGIN:VEVENT
DTSTART;TZID=UTC:20230207T190000
DTEND;TZID=UTC:20230207T190000
DTSTAMP:20260420T013403
CREATED:20221214T210745Z
LAST-MODIFIED:20221214T210827Z
UID:1297-1675796400-1675796400@www.freddysbarrocks.com
SUMMARY:Taco Tuesday with Whiskey for Ransom
DESCRIPTION:Not only is it Taco Tuesday but it is also our Jack of Spades Raffle. Every Tuesday the pot grows until one lucky winner finds the Jack of Spades. Each week there will be a separate $150 winner just because we love you all! Live music goes on at 7pm and the drawing is at 8pm. Proceeds go to The Kiwanis club of Clinton Township. Come say hi to them\, our staff and your host with the most Doug Simonson every Tuesday night!
URL:http://www.freddysbarrocks.com/event/taco-tuesday-with-dave-hamilton-4/
LOCATION:Freddy’s Bar\, 40000 Garfield Rd\, Clinton Twp\, MI\, 48038
CATEGORIES:Concert
ATTACH;FMTTYPE=image/jpeg:http://www.freddysbarrocks.com/wp-content/uploads/2022/12/Taco-Tuesday-Whiskey-For-Ransom-social.jpg
END:VEVENT
BEGIN:VEVENT
DTSTART;TZID=UTC:20230203T210000
DTEND;TZID=UTC:20230203T210000
DTSTAMP:20260420T013403
CREATED:20221214T215901Z
LAST-MODIFIED:20221214T215901Z
UID:1352-1675458000-1675458000@www.freddysbarrocks.com
SUMMARY:LIVE MUSIC: Grinder feat. Darren McCarty
DESCRIPTION:Live music starts at 9pm. We do accept a certain amount of reservations so make sure you call and save your spot. Freddy’s is the place to be for all of you live music lovin people!
URL:http://www.freddysbarrocks.com/event/live-music-grinder-feat-darren-mccarty/
LOCATION:Freddy’s Bar\, 40000 Garfield Rd\, Clinton Twp\, MI\, 48038
CATEGORIES:Concert
ATTACH;FMTTYPE=image/jpeg:http://www.freddysbarrocks.com/wp-content/uploads/2022/12/grinder.jpg
END:VEVENT
BEGIN:VEVENT
DTSTART;TZID=UTC:20230202T190000
DTEND;TZID=UTC:20230202T190000
DTSTAMP:20260420T013403
CREATED:20221214T210042Z
LAST-MODIFIED:20221214T210042Z
UID:1272-1675364400-1675364400@www.freddysbarrocks.com
SUMMARY:Thursday Dueling Pianos
DESCRIPTION:Freddy’s turns into a Piano Bar on Thursday nights at 7pm. Dueling Piano shows are very entertaining and a great way to celebrate family gathering\, work functions\, birthdays\, date nights and anything else you can think of.  \nSPECIALS:\nHalf Off Pizza\n$6 Blakes Hard Cider Pints\n$15 Domestic Buckets\n$7 Maker’s Mark  \nCall (586) 416-7777 to reserve a spot for your group
URL:http://www.freddysbarrocks.com/event/thursday-dueling-pianos-14/
LOCATION:Freddy’s Bar\, 40000 Garfield Rd\, Clinton Twp\, MI\, 48038
CATEGORIES:Concert
ATTACH;FMTTYPE=image/jpeg:http://www.freddysbarrocks.com/wp-content/uploads/2022/12/Dueling-Pianos-Thursday-social.jpg
END:VEVENT
BEGIN:VEVENT
DTSTART;TZID=UTC:20230128T210000
DTEND;TZID=UTC:20230128T210000
DTSTAMP:20260420T013403
CREATED:20221214T220312Z
LAST-MODIFIED:20221214T220312Z
UID:1355-1674939600-1674939600@www.freddysbarrocks.com
SUMMARY:LIVE MUSIC: Local Heros
DESCRIPTION:Live music starts at 9pm. We do accept a certain amount of reservations so make sure you call and save your spot. Freddy’s is the place to be for all of you live music lovin people!
URL:http://www.freddysbarrocks.com/event/live-music-local-heros/
LOCATION:Freddy’s Bar\, 40000 Garfield Rd\, Clinton Twp\, MI\, 48038
CATEGORIES:Concert
ATTACH;FMTTYPE=image/jpeg:http://www.freddysbarrocks.com/wp-content/uploads/2022/12/local-heros.jpg
END:VEVENT
BEGIN:VEVENT
DTSTART;TZID=UTC:20230127T210000
DTEND;TZID=UTC:20230127T210000
DTSTAMP:20260420T013403
CREATED:20221214T220417Z
LAST-MODIFIED:20221214T220417Z
UID:1358-1674853200-1674853200@www.freddysbarrocks.com
SUMMARY:LIVE MUSIC: Mainstreet Soul
DESCRIPTION:Live music starts at 9pm. We do accept a certain amount of reservations so make sure you call and save your spot. Freddy’s is the place to be for all of you live music lovin people!
URL:http://www.freddysbarrocks.com/event/live-music-mainstreet-soul-6/
LOCATION:Freddy’s Bar\, 40000 Garfield Rd\, Clinton Twp\, MI\, 48038
CATEGORIES:Concert
ATTACH;FMTTYPE=image/png:http://www.freddysbarrocks.com/wp-content/uploads/2021/12/1013096_10151480286230899_637594782_n.png
END:VEVENT
BEGIN:VEVENT
DTSTART;TZID=UTC:20230126T190000
DTEND;TZID=UTC:20230126T190000
DTSTAMP:20260420T013403
CREATED:20221214T210007Z
LAST-MODIFIED:20221214T210007Z
UID:1270-1674759600-1674759600@www.freddysbarrocks.com
SUMMARY:Thursday Dueling Pianos
DESCRIPTION:Freddy’s turns into a Piano Bar on Thursday nights at 7pm. Dueling Piano shows are very entertaining and a great way to celebrate family gathering\, work functions\, birthdays\, date nights and anything else you can think of.  \nSPECIALS:\nHalf Off Pizza\n$6 Blakes Hard Cider Pints\n$15 Domestic Buckets\n$7 Maker’s Mark  \nCall (586) 416-7777 to reserve a spot for your group
URL:http://www.freddysbarrocks.com/event/thursday-dueling-pianos-13/
LOCATION:Freddy’s Bar\, 40000 Garfield Rd\, Clinton Twp\, MI\, 48038
CATEGORIES:Concert
ATTACH;FMTTYPE=image/jpeg:http://www.freddysbarrocks.com/wp-content/uploads/2022/12/Dueling-Pianos-Thursday-social.jpg
END:VEVENT
BEGIN:VEVENT
DTSTART;TZID=UTC:20230124T190000
DTEND;TZID=UTC:20230124T190000
DTSTAMP:20260420T013403
CREATED:20221214T212740Z
LAST-MODIFIED:20221214T212740Z
UID:1314-1674586800-1674586800@www.freddysbarrocks.com
SUMMARY:Taco Tuesday with John Ross
DESCRIPTION:Not only is it Taco Tuesday but it is also our Jack of Spades Raffle. Every Tuesday the pot grows until one lucky winner finds the Jack of Spades. Each week there will be a separate $150 winner just because we love you all! Live music goes on at 7pm and the drawing is at 8pm. Proceeds go to The Kiwanis club of Clinton Township. Come say hi to them\, our staff and your host with the most Doug Simonson every Tuesday night!
URL:http://www.freddysbarrocks.com/event/taco-tuesday-with-john-ross-2/
LOCATION:Freddy’s Bar\, 40000 Garfield Rd\, Clinton Twp\, MI\, 48038
CATEGORIES:Concert
ATTACH;FMTTYPE=image/jpeg:http://www.freddysbarrocks.com/wp-content/uploads/2022/12/Taco-Tuesday-No-Band-social.jpg
END:VEVENT
BEGIN:VEVENT
DTSTART;TZID=UTC:20230120T210000
DTEND;TZID=UTC:20230120T210000
DTSTAMP:20260420T013403
CREATED:20221229T223258Z
LAST-MODIFIED:20221229T223258Z
UID:1363-1674248400-1674248400@www.freddysbarrocks.com
SUMMARY:LIVE MUSIC: The Stone Blossoms
DESCRIPTION:Live music starts at 9pm. We do accept a certain amount of reservations so make sure you call and save your spot. Freddy’s is the place to be for all of you live music lovin people!
URL:http://www.freddysbarrocks.com/event/live-music-the-stone-blossoms-6/
LOCATION:Freddy’s Bar\, 40000 Garfield Rd\, Clinton Twp\, MI\, 48038
CATEGORIES:Concert
ATTACH;FMTTYPE=image/png:http://www.freddysbarrocks.com/wp-content/uploads/2020/10/stone-blossoms.png
END:VEVENT
BEGIN:VEVENT
DTSTART;TZID=UTC:20230119T190000
DTEND;TZID=UTC:20230119T190000
DTSTAMP:20260420T013403
CREATED:20221214T205943Z
LAST-MODIFIED:20221214T205943Z
UID:1268-1674154800-1674154800@www.freddysbarrocks.com
SUMMARY:Thursday Dueling Pianos
DESCRIPTION:Freddy’s turns into a Piano Bar on Thursday nights at 7pm. Dueling Piano shows are very entertaining and a great way to celebrate family gathering\, work functions\, birthdays\, date nights and anything else you can think of.  \nSPECIALS:\nHalf Off Pizza\n$6 Blakes Hard Cider Pints\n$15 Domestic Buckets\n$7 Maker’s Mark  \nCall (586) 416-7777 to reserve a spot for your group
URL:http://www.freddysbarrocks.com/event/thursday-dueling-pianos-12/
LOCATION:Freddy’s Bar\, 40000 Garfield Rd\, Clinton Twp\, MI\, 48038
CATEGORIES:Concert
ATTACH;FMTTYPE=image/jpeg:http://www.freddysbarrocks.com/wp-content/uploads/2022/12/Dueling-Pianos-Thursday-social.jpg
END:VEVENT
BEGIN:VEVENT
DTSTART;TZID=UTC:20230117T190000
DTEND;TZID=UTC:20230117T190000
DTSTAMP:20260420T013403
CREATED:20221214T210655Z
LAST-MODIFIED:20221214T210655Z
UID:1294-1673982000-1673982000@www.freddysbarrocks.com
SUMMARY:Taco Tuesday with Whiskey for Ransom
DESCRIPTION:Not only is it Taco Tuesday but it is also our Jack of Spades Raffle. Every Tuesday the pot grows until one lucky winner finds the Jack of Spades. Each week there will be a separate $150 winner just because we love you all! Live music goes on at 7pm and the drawing is at 8pm. Proceeds go to The Kiwanis club of Clinton Township. Come say hi to them\, our staff and your host with the most Doug Simonson every Tuesday night!
URL:http://www.freddysbarrocks.com/event/taco-tuesday-with-whiskey-for-ransom-3/
LOCATION:Freddy’s Bar\, 40000 Garfield Rd\, Clinton Twp\, MI\, 48038
CATEGORIES:Concert
ATTACH;FMTTYPE=image/jpeg:http://www.freddysbarrocks.com/wp-content/uploads/2022/12/Taco-Tuesday-Whiskey-For-Ransom-social.jpg
END:VEVENT
END:VCALENDAR