BEGIN:VCALENDAR
VERSION:2.0
PRODID:-//Freddys Bar &amp; Grill - ECPv6.8.3//NONSGML v1.0//EN
CALSCALE:GREGORIAN
METHOD:PUBLISH
X-WR-CALNAME:Freddys Bar &amp; Grill
X-ORIGINAL-URL:http://www.freddysbarrocks.com
X-WR-CALDESC:Events for Freddys Bar &amp; Grill
REFRESH-INTERVAL;VALUE=DURATION:PT1H
X-Robots-Tag:noindex
X-PUBLISHED-TTL:PT1H
BEGIN:VTIMEZONE
TZID:UTC
BEGIN:STANDARD
TZOFFSETFROM:+0000
TZOFFSETTO:+0000
TZNAME:UTC
DTSTART:20220101T000000
END:STANDARD
END:VTIMEZONE
BEGIN:VEVENT
DTSTART;TZID=UTC:20230127T210000
DTEND;TZID=UTC:20230127T210000
DTSTAMP:20260420T042106
CREATED:20221214T220417Z
LAST-MODIFIED:20221214T220417Z
UID:1358-1674853200-1674853200@www.freddysbarrocks.com
SUMMARY:LIVE MUSIC: Mainstreet Soul
DESCRIPTION:Live music starts at 9pm. We do accept a certain amount of reservations so make sure you call and save your spot. Freddy’s is the place to be for all of you live music lovin people!
URL:http://www.freddysbarrocks.com/event/live-music-mainstreet-soul-6/
LOCATION:Freddy’s Bar\, 40000 Garfield Rd\, Clinton Twp\, MI\, 48038
CATEGORIES:Concert
ATTACH;FMTTYPE=image/png:http://www.freddysbarrocks.com/wp-content/uploads/2021/12/1013096_10151480286230899_637594782_n.png
END:VEVENT
BEGIN:VEVENT
DTSTART;TZID=UTC:20230126T190000
DTEND;TZID=UTC:20230126T190000
DTSTAMP:20260420T042106
CREATED:20221214T210007Z
LAST-MODIFIED:20221214T210007Z
UID:1270-1674759600-1674759600@www.freddysbarrocks.com
SUMMARY:Thursday Dueling Pianos
DESCRIPTION:Freddy’s turns into a Piano Bar on Thursday nights at 7pm. Dueling Piano shows are very entertaining and a great way to celebrate family gathering\, work functions\, birthdays\, date nights and anything else you can think of.  \nSPECIALS:\nHalf Off Pizza\n$6 Blakes Hard Cider Pints\n$15 Domestic Buckets\n$7 Maker’s Mark  \nCall (586) 416-7777 to reserve a spot for your group
URL:http://www.freddysbarrocks.com/event/thursday-dueling-pianos-13/
LOCATION:Freddy’s Bar\, 40000 Garfield Rd\, Clinton Twp\, MI\, 48038
CATEGORIES:Concert
ATTACH;FMTTYPE=image/jpeg:http://www.freddysbarrocks.com/wp-content/uploads/2022/12/Dueling-Pianos-Thursday-social.jpg
END:VEVENT
BEGIN:VEVENT
DTSTART;TZID=UTC:20230124T190000
DTEND;TZID=UTC:20230124T190000
DTSTAMP:20260420T042106
CREATED:20221214T212740Z
LAST-MODIFIED:20221214T212740Z
UID:1314-1674586800-1674586800@www.freddysbarrocks.com
SUMMARY:Taco Tuesday with John Ross
DESCRIPTION:Not only is it Taco Tuesday but it is also our Jack of Spades Raffle. Every Tuesday the pot grows until one lucky winner finds the Jack of Spades. Each week there will be a separate $150 winner just because we love you all! Live music goes on at 7pm and the drawing is at 8pm. Proceeds go to The Kiwanis club of Clinton Township. Come say hi to them\, our staff and your host with the most Doug Simonson every Tuesday night!
URL:http://www.freddysbarrocks.com/event/taco-tuesday-with-john-ross-2/
LOCATION:Freddy’s Bar\, 40000 Garfield Rd\, Clinton Twp\, MI\, 48038
CATEGORIES:Concert
ATTACH;FMTTYPE=image/jpeg:http://www.freddysbarrocks.com/wp-content/uploads/2022/12/Taco-Tuesday-No-Band-social.jpg
END:VEVENT
BEGIN:VEVENT
DTSTART;TZID=UTC:20230120T210000
DTEND;TZID=UTC:20230120T210000
DTSTAMP:20260420T042106
CREATED:20221229T223258Z
LAST-MODIFIED:20221229T223258Z
UID:1363-1674248400-1674248400@www.freddysbarrocks.com
SUMMARY:LIVE MUSIC: The Stone Blossoms
DESCRIPTION:Live music starts at 9pm. We do accept a certain amount of reservations so make sure you call and save your spot. Freddy’s is the place to be for all of you live music lovin people!
URL:http://www.freddysbarrocks.com/event/live-music-the-stone-blossoms-6/
LOCATION:Freddy’s Bar\, 40000 Garfield Rd\, Clinton Twp\, MI\, 48038
CATEGORIES:Concert
ATTACH;FMTTYPE=image/png:http://www.freddysbarrocks.com/wp-content/uploads/2020/10/stone-blossoms.png
END:VEVENT
BEGIN:VEVENT
DTSTART;TZID=UTC:20230119T190000
DTEND;TZID=UTC:20230119T190000
DTSTAMP:20260420T042106
CREATED:20221214T205943Z
LAST-MODIFIED:20221214T205943Z
UID:1268-1674154800-1674154800@www.freddysbarrocks.com
SUMMARY:Thursday Dueling Pianos
DESCRIPTION:Freddy’s turns into a Piano Bar on Thursday nights at 7pm. Dueling Piano shows are very entertaining and a great way to celebrate family gathering\, work functions\, birthdays\, date nights and anything else you can think of.  \nSPECIALS:\nHalf Off Pizza\n$6 Blakes Hard Cider Pints\n$15 Domestic Buckets\n$7 Maker’s Mark  \nCall (586) 416-7777 to reserve a spot for your group
URL:http://www.freddysbarrocks.com/event/thursday-dueling-pianos-12/
LOCATION:Freddy’s Bar\, 40000 Garfield Rd\, Clinton Twp\, MI\, 48038
CATEGORIES:Concert
ATTACH;FMTTYPE=image/jpeg:http://www.freddysbarrocks.com/wp-content/uploads/2022/12/Dueling-Pianos-Thursday-social.jpg
END:VEVENT
BEGIN:VEVENT
DTSTART;TZID=UTC:20230117T190000
DTEND;TZID=UTC:20230117T190000
DTSTAMP:20260420T042106
CREATED:20221214T210655Z
LAST-MODIFIED:20221214T210655Z
UID:1294-1673982000-1673982000@www.freddysbarrocks.com
SUMMARY:Taco Tuesday with Whiskey for Ransom
DESCRIPTION:Not only is it Taco Tuesday but it is also our Jack of Spades Raffle. Every Tuesday the pot grows until one lucky winner finds the Jack of Spades. Each week there will be a separate $150 winner just because we love you all! Live music goes on at 7pm and the drawing is at 8pm. Proceeds go to The Kiwanis club of Clinton Township. Come say hi to them\, our staff and your host with the most Doug Simonson every Tuesday night!
URL:http://www.freddysbarrocks.com/event/taco-tuesday-with-whiskey-for-ransom-3/
LOCATION:Freddy’s Bar\, 40000 Garfield Rd\, Clinton Twp\, MI\, 48038
CATEGORIES:Concert
ATTACH;FMTTYPE=image/jpeg:http://www.freddysbarrocks.com/wp-content/uploads/2022/12/Taco-Tuesday-Whiskey-For-Ransom-social.jpg
END:VEVENT
BEGIN:VEVENT
DTSTART;TZID=UTC:20230114T210000
DTEND;TZID=UTC:20230114T210000
DTSTAMP:20260420T042106
CREATED:20221214T220620Z
LAST-MODIFIED:20221214T220758Z
UID:1360-1673730000-1673730000@www.freddysbarrocks.com
SUMMARY:LIVE MUSIC: Parallel Fifth
DESCRIPTION:Live music starts at 9pm. We do accept a certain amount of reservations so make sure you call and save your spot. Freddy’s is the place to be for all of you live music lovin people!
URL:http://www.freddysbarrocks.com/event/live-music-the-stone-blossoms-5/
LOCATION:Freddy’s Bar\, 40000 Garfield Rd\, Clinton Twp\, MI\, 48038
CATEGORIES:Concert
ATTACH;FMTTYPE=image/jpeg:http://www.freddysbarrocks.com/wp-content/uploads/2021/07/Parallel-Fifth.jpg
END:VEVENT
BEGIN:VEVENT
DTSTART;TZID=UTC:20230113T210000
DTEND;TZID=UTC:20230113T210000
DTSTAMP:20260420T042106
CREATED:20221214T220824Z
LAST-MODIFIED:20221214T220824Z
UID:1365-1673643600-1673643600@www.freddysbarrocks.com
SUMMARY:LIVE MUSIC: Parallel Fifth
DESCRIPTION:Live music starts at 9pm. We do accept a certain amount of reservations so make sure you call and save your spot. Freddy’s is the place to be for all of you live music lovin people!
URL:http://www.freddysbarrocks.com/event/live-music-parallel-fifth-26/
LOCATION:Freddy’s Bar\, 40000 Garfield Rd\, Clinton Twp\, MI\, 48038
CATEGORIES:Concert
ATTACH;FMTTYPE=image/jpeg:http://www.freddysbarrocks.com/wp-content/uploads/2021/07/Parallel-Fifth.jpg
END:VEVENT
BEGIN:VEVENT
DTSTART;TZID=UTC:20230112T190000
DTEND;TZID=UTC:20230112T190000
DTSTAMP:20260420T042106
CREATED:20221214T205919Z
LAST-MODIFIED:20221214T205919Z
UID:1266-1673550000-1673550000@www.freddysbarrocks.com
SUMMARY:Thursday Dueling Pianos
DESCRIPTION:Freddy’s turns into a Piano Bar on Thursday nights at 7pm. Dueling Piano shows are very entertaining and a great way to celebrate family gathering\, work functions\, birthdays\, date nights and anything else you can think of.  \nSPECIALS:\nHalf Off Pizza\n$6 Blakes Hard Cider Pints\n$15 Domestic Buckets\n$7 Maker’s Mark  \nCall (586) 416-7777 to reserve a spot for your group
URL:http://www.freddysbarrocks.com/event/thursday-dueling-pianos-11/
LOCATION:Freddy’s Bar\, 40000 Garfield Rd\, Clinton Twp\, MI\, 48038
CATEGORIES:Concert
ATTACH;FMTTYPE=image/jpeg:http://www.freddysbarrocks.com/wp-content/uploads/2022/12/Dueling-Pianos-Thursday-social.jpg
END:VEVENT
BEGIN:VEVENT
DTSTART;TZID=UTC:20230110T190000
DTEND;TZID=UTC:20230110T190000
DTSTAMP:20260420T042106
CREATED:20221214T212701Z
LAST-MODIFIED:20221214T212701Z
UID:1311-1673377200-1673377200@www.freddysbarrocks.com
SUMMARY:Taco Tuesday with Doug Simonson
DESCRIPTION:Not only is it Taco Tuesday but it is also our Jack of Spades Raffle. Every Tuesday the pot grows until one lucky winner finds the Jack of Spades. Each week there will be a separate $150 winner just because we love you all! Live music goes on at 7pm and the drawing is at 8pm. Proceeds go to The Kiwanis club of Clinton Township. Come say hi to them\, our staff and your host with the most Doug Simonson every Tuesday night!
URL:http://www.freddysbarrocks.com/event/taco-tuesday-with-doug-simonson-7/
LOCATION:Freddy’s Bar\, 40000 Garfield Rd\, Clinton Twp\, MI\, 48038
CATEGORIES:Concert
ATTACH;FMTTYPE=image/jpeg:http://www.freddysbarrocks.com/wp-content/uploads/2022/12/Taco-Tuesday-No-Band-social.jpg
END:VEVENT
BEGIN:VEVENT
DTSTART;TZID=UTC:20230107T210000
DTEND;TZID=UTC:20230107T210000
DTSTAMP:20260420T042106
CREATED:20221214T220913Z
LAST-MODIFIED:20221214T220913Z
UID:1367-1673125200-1673125200@www.freddysbarrocks.com
SUMMARY:LIVE MUSIC: Planet of Fun
DESCRIPTION:Live music starts at 9pm. We do accept a certain amount of reservations so make sure you call and save your spot. Freddy’s is the place to be for all of you live music lovin people!
URL:http://www.freddysbarrocks.com/event/live-music-planet-of-fun-39/
LOCATION:Freddy’s Bar\, 40000 Garfield Rd\, Clinton Twp\, MI\, 48038
CATEGORIES:Concert
ATTACH;FMTTYPE=image/jpeg:http://www.freddysbarrocks.com/wp-content/uploads/2020/10/Planet-of-Fun.jpg
END:VEVENT
BEGIN:VEVENT
DTSTART;TZID=UTC:20230106T210000
DTEND;TZID=UTC:20230106T210000
DTSTAMP:20260420T042107
CREATED:20221214T220943Z
LAST-MODIFIED:20221214T220943Z
UID:1369-1673038800-1673038800@www.freddysbarrocks.com
SUMMARY:LIVE MUSIC: Planet of Fun
DESCRIPTION:Live music starts at 9pm. We do accept a certain amount of reservations so make sure you call and save your spot. Freddy’s is the place to be for all of you live music lovin people!
URL:http://www.freddysbarrocks.com/event/live-music-planet-of-fun-40/
LOCATION:Freddy’s Bar\, 40000 Garfield Rd\, Clinton Twp\, MI\, 48038
CATEGORIES:Concert
ATTACH;FMTTYPE=image/jpeg:http://www.freddysbarrocks.com/wp-content/uploads/2020/10/Planet-of-Fun.jpg
END:VEVENT
BEGIN:VEVENT
DTSTART;TZID=UTC:20230105T190000
DTEND;TZID=UTC:20230105T190000
DTSTAMP:20260420T042107
CREATED:20221214T205401Z
LAST-MODIFIED:20221214T205842Z
UID:1261-1672945200-1672945200@www.freddysbarrocks.com
SUMMARY:Thursday Dueling Pianos
DESCRIPTION:Freddy’s turns into a Piano Bar on Thursday nights at 7pm. Dueling Piano shows are very entertaining and a great way to celebrate family gathering\, work functions\, birthdays\, date nights and anything else you can think of.  \nSPECIALS:\nHalf Off Pizza\n$6 Blakes Hard Cider Pints\n$15 Domestic Buckets\n$7 Maker’s Mark  \nCall (586) 416-7777 to reserve a spot for your group
URL:http://www.freddysbarrocks.com/event/thursday-dueling-pianos-10/
LOCATION:Freddy’s Bar\, 40000 Garfield Rd\, Clinton Twp\, MI\, 48038
CATEGORIES:Concert
ATTACH;FMTTYPE=image/jpeg:http://www.freddysbarrocks.com/wp-content/uploads/2022/12/Dueling-Pianos-Thursday-social.jpg
END:VEVENT
BEGIN:VEVENT
DTSTART;TZID=UTC:20230103T190000
DTEND;TZID=UTC:20230103T190000
DTSTAMP:20260420T042107
CREATED:20221214T210600Z
LAST-MODIFIED:20221214T210600Z
UID:1291-1672772400-1672772400@www.freddysbarrocks.com
SUMMARY:Taco Tuesday with Weekend Comeback
DESCRIPTION:Not only is it Taco Tuesday but it is also our Jack of Spades Raffle. Every Tuesday the pot grows until one lucky winner finds the Jack of Spades. Each week there will be a separate $150 winner just because we love you all! Live music goes on at 7pm and the drawing is at 8pm. Proceeds go to The Kiwanis club of Clinton Township. Come say hi to them\, our staff and your host with the most Doug Simonson every Tuesday night!
URL:http://www.freddysbarrocks.com/event/taco-tuesday-with-weekend-comeback-18/
LOCATION:Freddy’s Bar\, 40000 Garfield Rd\, Clinton Twp\, MI\, 48038
CATEGORIES:Concert
ATTACH;FMTTYPE=image/jpeg:http://www.freddysbarrocks.com/wp-content/uploads/2022/12/Taco-Tuesday-Weekend-Come-Back-social.jpg
END:VEVENT
BEGIN:VEVENT
DTSTART;TZID=UTC:20221231T210000
DTEND;TZID=UTC:20221231T210000
DTSTAMP:20260420T042107
CREATED:20220906T203309Z
LAST-MODIFIED:20220906T203309Z
UID:1241-1672520400-1672520400@www.freddysbarrocks.com
SUMMARY:NEW YEARS EVE with PLANET OF FUN
DESCRIPTION:Bring in the NEW YEAR with PLANET OF FUN! The dance floor will be packed all night long.  \nReservations for this fill up fast.  \nCall (586) 416-7777
URL:http://www.freddysbarrocks.com/event/new-years-eve-with-planet-of-fun/
LOCATION:Freddy’s Bar\, 40000 Garfield Rd\, Clinton Twp\, MI\, 48038
CATEGORIES:Concert
ATTACH;FMTTYPE=image/jpeg:http://www.freddysbarrocks.com/wp-content/uploads/2020/10/Planet-of-Fun.jpg
END:VEVENT
BEGIN:VEVENT
DTSTART;TZID=UTC:20221229T190000
DTEND;TZID=UTC:20221229T190000
DTSTAMP:20260420T042107
CREATED:20220831T215237Z
LAST-MODIFIED:20220831T215237Z
UID:1175-1672340400-1672340400@www.freddysbarrocks.com
SUMMARY:Thursday Dueling Pianos
DESCRIPTION:Freddy’s turns into a Piano Bar on Thursday nights at 7pm. Dueling Piano shows are very entertaining and a great way to celebrate family gathering\, work functions\, birthdays\, date nights and anything else you can think of.  \nSPECIALS:\nHalf Off Pizza\n$6.50 Nutrl\n$15 Domestic Buckets\n$5 Glass of Wine \nCall (586) 416-7777 to reserve a spot for your group
URL:http://www.freddysbarrocks.com/event/thursday-dueling-pianos-8/
LOCATION:Freddy’s Bar\, 40000 Garfield Rd\, Clinton Twp\, MI\, 48038
CATEGORIES:Concert
ATTACH;FMTTYPE=image/jpeg:http://www.freddysbarrocks.com/wp-content/uploads/2022/08/pianos-graphic.jpg
END:VEVENT
BEGIN:VEVENT
DTSTART;TZID=UTC:20221223T210000
DTEND;TZID=UTC:20221223T210000
DTSTAMP:20260420T042107
CREATED:20220906T202527Z
LAST-MODIFIED:20220906T202527Z
UID:1238-1671829200-1671829200@www.freddysbarrocks.com
SUMMARY:LIVE MUSIC: Alibi 5
DESCRIPTION:Live music starts at 9pm. We do accept a certain amount of reservations so make sure you call and save your spot. Freddy’s is the place to be for all of you live music lovin people!
URL:http://www.freddysbarrocks.com/event/live-music-alibi-5/
LOCATION:Freddy’s Bar\, 40000 Garfield Rd\, Clinton Twp\, MI\, 48038
CATEGORIES:Concert
ATTACH;FMTTYPE=image/jpeg:http://www.freddysbarrocks.com/wp-content/uploads/2022/09/Alibi-5.jpg
END:VEVENT
BEGIN:VEVENT
DTSTART;TZID=UTC:20221222T190000
DTEND;TZID=UTC:20221222T190000
DTSTAMP:20260420T042107
CREATED:20220831T215211Z
LAST-MODIFIED:20220831T215211Z
UID:1173-1671735600-1671735600@www.freddysbarrocks.com
SUMMARY:Thursday Dueling Pianos
DESCRIPTION:Freddy’s turns into a Piano Bar on Thursday nights at 7pm. Dueling Piano shows are very entertaining and a great way to celebrate family gathering\, work functions\, birthdays\, date nights and anything else you can think of.  \nSPECIALS:\nHalf Off Pizza\n$6.50 Nutrl\n$15 Domestic Buckets\n$5 Glass of Wine \nCall (586) 416-7777 to reserve a spot for your group
URL:http://www.freddysbarrocks.com/event/thursday-dueling-pianos-7/
LOCATION:Freddy’s Bar\, 40000 Garfield Rd\, Clinton Twp\, MI\, 48038
CATEGORIES:Concert
ATTACH;FMTTYPE=image/jpeg:http://www.freddysbarrocks.com/wp-content/uploads/2022/08/pianos-graphic.jpg
END:VEVENT
BEGIN:VEVENT
DTSTART;TZID=UTC:20221220T190000
DTEND;TZID=UTC:20221220T190000
DTSTAMP:20260420T042107
CREATED:20220831T202049Z
LAST-MODIFIED:20220831T202049Z
UID:1145-1671562800-1671562800@www.freddysbarrocks.com
SUMMARY:Taco Tuesday with Momford & Son
DESCRIPTION:Not only is it Taco Tuesday but it is also our Jack of Spades Raffle. Every Tuesday the pot grows until one lucky winner finds the Jack of Spades. Each week there will be a separate $150 winner just because we love you all! Live music goes on at 7pm and the drawing is at 8pm. Proceeds go to The Kiwanis club of Clinton Township. Come say hi to them\, our staff and your host with the most Doug Simonson every Tuesday night!
URL:http://www.freddysbarrocks.com/event/taco-tuesday-with-momford-son/
LOCATION:Freddy’s Bar\, 40000 Garfield Rd\, Clinton Twp\, MI\, 48038
CATEGORIES:Concert
ATTACH;FMTTYPE=image/jpeg:http://www.freddysbarrocks.com/wp-content/uploads/2020/06/Jack-Of-Spades-Raffle-social.jpg
END:VEVENT
BEGIN:VEVENT
DTSTART;TZID=UTC:20221217T210000
DTEND;TZID=UTC:20221217T210000
DTSTAMP:20260420T042107
CREATED:20220906T202420Z
LAST-MODIFIED:20220906T202420Z
UID:1236-1671310800-1671310800@www.freddysbarrocks.com
SUMMARY:LIVE MUSIC: Parallel Fifth
DESCRIPTION:Live music starts at 9pm. We do accept a certain amount of reservations so make sure you call and save your spot. Freddy’s is the place to be for all of you live music lovin people!
URL:http://www.freddysbarrocks.com/event/live-music-parallel-fifth-19/
LOCATION:Freddy’s Bar\, 40000 Garfield Rd\, Clinton Twp\, MI\, 48038
CATEGORIES:Concert
ATTACH;FMTTYPE=image/jpeg:http://www.freddysbarrocks.com/wp-content/uploads/2021/07/Parallel-Fifth.jpg
END:VEVENT
BEGIN:VEVENT
DTSTART;TZID=UTC:20221216T210000
DTEND;TZID=UTC:20221216T210000
DTSTAMP:20260420T042107
CREATED:20220906T202352Z
LAST-MODIFIED:20220906T202352Z
UID:1234-1671224400-1671224400@www.freddysbarrocks.com
SUMMARY:LIVE MUSIC: Parallel Fifth
DESCRIPTION:Live music starts at 9pm. We do accept a certain amount of reservations so make sure you call and save your spot. Freddy’s is the place to be for all of you live music lovin people!
URL:http://www.freddysbarrocks.com/event/live-music-parallel-fifth-18/
LOCATION:Freddy’s Bar\, 40000 Garfield Rd\, Clinton Twp\, MI\, 48038
CATEGORIES:Concert
ATTACH;FMTTYPE=image/jpeg:http://www.freddysbarrocks.com/wp-content/uploads/2021/07/Parallel-Fifth.jpg
END:VEVENT
BEGIN:VEVENT
DTSTART;TZID=UTC:20221215T190000
DTEND;TZID=UTC:20221215T190000
DTSTAMP:20260420T042107
CREATED:20220831T215146Z
LAST-MODIFIED:20220831T215146Z
UID:1171-1671130800-1671130800@www.freddysbarrocks.com
SUMMARY:Thursday Dueling Pianos
DESCRIPTION:Freddy’s turns into a Piano Bar on Thursday nights at 7pm. Dueling Piano shows are very entertaining and a great way to celebrate family gathering\, work functions\, birthdays\, date nights and anything else you can think of.  \nSPECIALS:\nHalf Off Pizza\n$6.50 Nutrl\n$15 Domestic Buckets\n$5 Glass of Wine \nCall (586) 416-7777 to reserve a spot for your group
URL:http://www.freddysbarrocks.com/event/thursday-dueling-pianos-6/
LOCATION:Freddy’s Bar\, 40000 Garfield Rd\, Clinton Twp\, MI\, 48038
CATEGORIES:Concert
ATTACH;FMTTYPE=image/jpeg:http://www.freddysbarrocks.com/wp-content/uploads/2022/08/pianos-graphic.jpg
END:VEVENT
BEGIN:VEVENT
DTSTART;TZID=UTC:20221213T190000
DTEND;TZID=UTC:20221213T190000
DTSTAMP:20260420T042107
CREATED:20220831T202013Z
LAST-MODIFIED:20220831T202013Z
UID:1143-1670958000-1670958000@www.freddysbarrocks.com
SUMMARY:Taco Tuesday with Whiskey For Ransom
DESCRIPTION:Not only is it Taco Tuesday but it is also our Jack of Spades Raffle. Every Tuesday the pot grows until one lucky winner finds the Jack of Spades. Each week there will be a separate $150 winner just because we love you all! Live music goes on at 7pm and the drawing is at 8pm. Proceeds go to The Kiwanis club of Clinton Township. Come say hi to them\, our staff and your host with the most Doug Simonson every Tuesday night!
URL:http://www.freddysbarrocks.com/event/taco-tuesday-with-whiskey-for-ransom-2/
LOCATION:Freddy’s Bar\, 40000 Garfield Rd\, Clinton Twp\, MI\, 48038
CATEGORIES:Concert
ATTACH;FMTTYPE=image/jpeg:http://www.freddysbarrocks.com/wp-content/uploads/2020/06/Jack-Of-Spades-Raffle-social.jpg
END:VEVENT
BEGIN:VEVENT
DTSTART;TZID=UTC:20221210T210000
DTEND;TZID=UTC:20221210T210000
DTSTAMP:20260420T042107
CREATED:20220906T202244Z
LAST-MODIFIED:20220906T202244Z
UID:1232-1670706000-1670706000@www.freddysbarrocks.com
SUMMARY:LIVE MUSIC: Doin' Time
DESCRIPTION:Live music starts at 9pm. We do accept a certain amount of reservations so make sure you call and save your spot. Freddy’s is the place to be for all of you live music lovin people!
URL:http://www.freddysbarrocks.com/event/live-music-doin-time-8/
LOCATION:Freddy’s Bar\, 40000 Garfield Rd\, Clinton Twp\, MI\, 48038
CATEGORIES:Concert
ATTACH;FMTTYPE=image/jpeg:http://www.freddysbarrocks.com/wp-content/uploads/2021/09/Doin-Time-Logo.jpg
END:VEVENT
BEGIN:VEVENT
DTSTART;TZID=UTC:20221209T210000
DTEND;TZID=UTC:20221209T210000
DTSTAMP:20260420T042107
CREATED:20220906T202158Z
LAST-MODIFIED:20220906T202158Z
UID:1230-1670619600-1670619600@www.freddysbarrocks.com
SUMMARY:LIVE MUSIC: Stone Blossoms
DESCRIPTION:Live music starts at 9pm. We do accept a certain amount of reservations so make sure you call and save your spot. Freddy’s is the place to be for all of you live music lovin people!
URL:http://www.freddysbarrocks.com/event/live-music-stone-blossoms-9/
LOCATION:Freddy’s Bar\, 40000 Garfield Rd\, Clinton Twp\, MI\, 48038
CATEGORIES:Concert
ATTACH;FMTTYPE=image/png:http://www.freddysbarrocks.com/wp-content/uploads/2020/10/stone-blossoms.png
END:VEVENT
BEGIN:VEVENT
DTSTART;TZID=UTC:20221208T190000
DTEND;TZID=UTC:20221208T190000
DTSTAMP:20260420T042107
CREATED:20220831T215120Z
LAST-MODIFIED:20220831T215120Z
UID:1169-1670526000-1670526000@www.freddysbarrocks.com
SUMMARY:Thursday Dueling Pianos
DESCRIPTION:Freddy’s turns into a Piano Bar on Thursday nights at 7pm. Dueling Piano shows are very entertaining and a great way to celebrate family gathering\, work functions\, birthdays\, date nights and anything else you can think of.  \nSPECIALS:\nHalf Off Pizza\n$6.50 Nutrl\n$15 Domestic Buckets\n$5 Glass of Wine \nCall (586) 416-7777 to reserve a spot for your group
URL:http://www.freddysbarrocks.com/event/thursday-dueling-pianos-5/
LOCATION:Freddy’s Bar\, 40000 Garfield Rd\, Clinton Twp\, MI\, 48038
CATEGORIES:Concert
ATTACH;FMTTYPE=image/jpeg:http://www.freddysbarrocks.com/wp-content/uploads/2022/08/pianos-graphic.jpg
END:VEVENT
BEGIN:VEVENT
DTSTART;TZID=UTC:20221206T190000
DTEND;TZID=UTC:20221206T190000
DTSTAMP:20260420T042107
CREATED:20220831T201928Z
LAST-MODIFIED:20220831T201928Z
UID:1141-1670353200-1670353200@www.freddysbarrocks.com
SUMMARY:Taco Tuesday with Weekend Comeback
DESCRIPTION:Not only is it Taco Tuesday but it is also our Jack of Spades Raffle. Every Tuesday the pot grows until one lucky winner finds the Jack of Spades. Each week there will be a separate $150 winner just because we love you all! Live music goes on at 7pm and the drawing is at 8pm. Proceeds go to The Kiwanis club of Clinton Township. Come say hi to them\, our staff and your host with the most Doug Simonson every Tuesday night!
URL:http://www.freddysbarrocks.com/event/taco-tuesday-with-weekend-comeback-17/
LOCATION:Freddy’s Bar\, 40000 Garfield Rd\, Clinton Twp\, MI\, 48038
CATEGORIES:Concert
ATTACH;FMTTYPE=image/jpeg:http://www.freddysbarrocks.com/wp-content/uploads/2020/06/Jack-Of-Spades-Raffle-social.jpg
END:VEVENT
BEGIN:VEVENT
DTSTART;TZID=UTC:20221201T190000
DTEND;TZID=UTC:20221201T190000
DTSTAMP:20260420T042107
CREATED:20220831T215512Z
LAST-MODIFIED:20220831T215512Z
UID:1177-1669921200-1669921200@www.freddysbarrocks.com
SUMMARY:Jam with the Band w/Planet of Fun
DESCRIPTION:Come jam with the band! Planet of Fun is one of the best cover bands in Metro Detroit. They provide the backline for the night. Bring your talents up to Freddy’s stage and show us what you got. Get here early so you can make it on the sign in sheet.  \nCall (586) 416-7777 for reservations
URL:http://www.freddysbarrocks.com/event/jam-with-the-band-w-planet-of-fun/
LOCATION:Freddy’s Bar\, 40000 Garfield Rd\, Clinton Twp\, MI\, 48038
CATEGORIES:Concert
ATTACH;FMTTYPE=image/jpeg:http://www.freddysbarrocks.com/wp-content/uploads/2020/10/Planet-of-Fun.jpg
END:VEVENT
BEGIN:VEVENT
DTSTART;TZID=UTC:20221129T190000
DTEND;TZID=UTC:20221129T190000
DTSTAMP:20260420T042107
CREATED:20220831T201850Z
LAST-MODIFIED:20220831T201850Z
UID:1139-1669748400-1669748400@www.freddysbarrocks.com
SUMMARY:Taco Tuesday with Justin Alexander
DESCRIPTION:Not only is it Taco Tuesday but it is also our Jack of Spades Raffle. Every Tuesday the pot grows until one lucky winner finds the Jack of Spades. Each week there will be a separate $150 winner just because we love you all! Live music goes on at 7pm and the drawing is at 8pm. Proceeds go to The Kiwanis club of Clinton Township. Come say hi to them\, our staff and your host with the most Doug Simonson every Tuesday night!
URL:http://www.freddysbarrocks.com/event/taco-tuesday-with-justin-alexander-17/
LOCATION:Freddy’s Bar\, 40000 Garfield Rd\, Clinton Twp\, MI\, 48038
CATEGORIES:Concert
ATTACH;FMTTYPE=image/jpeg:http://www.freddysbarrocks.com/wp-content/uploads/2020/06/Jack-Of-Spades-Raffle-social.jpg
END:VEVENT
BEGIN:VEVENT
DTSTART;TZID=UTC:20221126T210000
DTEND;TZID=UTC:20221126T210000
DTSTAMP:20260420T042107
CREATED:20220906T202101Z
LAST-MODIFIED:20220906T202110Z
UID:1228-1669496400-1669496400@www.freddysbarrocks.com
SUMMARY:LIVE MUSIC: Planet of Fun
DESCRIPTION:Live music starts at 9pm. We do accept a certain amount of reservations so make sure you call and save your spot. Freddy’s is the place to be for all of you live music lovin people!
URL:http://www.freddysbarrocks.com/event/live-music-planet-of-fun-33/
LOCATION:Freddy’s Bar\, 40000 Garfield Rd\, Clinton Twp\, MI\, 48038
CATEGORIES:Concert
ATTACH;FMTTYPE=image/jpeg:http://www.freddysbarrocks.com/wp-content/uploads/2020/10/Planet-of-Fun.jpg
END:VEVENT
END:VCALENDAR