BEGIN:VCALENDAR
VERSION:2.0
PRODID:-//Freddys Bar &amp; Grill - ECPv6.8.3//NONSGML v1.0//EN
CALSCALE:GREGORIAN
METHOD:PUBLISH
X-WR-CALNAME:Freddys Bar &amp; Grill
X-ORIGINAL-URL:http://www.freddysbarrocks.com
X-WR-CALDESC:Events for Freddys Bar &amp; Grill
REFRESH-INTERVAL;VALUE=DURATION:PT1H
X-Robots-Tag:noindex
X-PUBLISHED-TTL:PT1H
BEGIN:VTIMEZONE
TZID:UTC
BEGIN:STANDARD
TZOFFSETFROM:+0000
TZOFFSETTO:+0000
TZNAME:UTC
DTSTART:20220101T000000
END:STANDARD
END:VTIMEZONE
BEGIN:VEVENT
DTSTART;TZID=UTC:20220623T190000
DTEND;TZID=UTC:20220623T190000
DTSTAMP:20260420T165931
CREATED:20220323T193354Z
LAST-MODIFIED:20220323T193354Z
UID:1021-1656010800-1656010800@www.freddysbarrocks.com
SUMMARY:BIKE NIGHT: Planet of Fun
DESCRIPTION:Live music starts at 7pm. Half off Pizza and $12 domestic buckets all night. $5 Bike Night specials on all call liquors. (Jack Daniels\, Jager\, Jim Beam\, Jameson\, 1800\, Tito’s\, Captain Morgan\, Bacardi and more)
URL:http://www.freddysbarrocks.com/event/bike-night-planet-of-fun-3/
LOCATION:Freddy’s Bar\, 40000 Garfield Rd\, Clinton Twp\, MI\, 48038
CATEGORIES:Concert
ATTACH;FMTTYPE=image/jpeg:http://www.freddysbarrocks.com/wp-content/uploads/2022/03/Alternate-Bike-Night-Logo.jpg
END:VEVENT
BEGIN:VEVENT
DTSTART;TZID=UTC:20220621T190000
DTEND;TZID=UTC:20220621T190000
DTSTAMP:20260420T165931
CREATED:20220323T192006Z
LAST-MODIFIED:20220323T192006Z
UID:992-1655838000-1655838000@www.freddysbarrocks.com
SUMMARY:Taco Tuesday with Acoustic Phun
DESCRIPTION:Not only is it Taco Tuesday but it is also our Jack of Spades Raffle. Every Tuesday the pot grows until one lucky winner finds the Jack of Spades. Each week there will be a separate $150 winner just because we love you all! Live music goes on at 7pm and the drawing is at 8pm. Proceeds go to The Kiwanis club of Clinton Township. Come say hi to them\, our staff and your host with the most Doug Simonson every Tuesday night!
URL:http://www.freddysbarrocks.com/event/taco-tuesday-with-acoustic-phun/
LOCATION:Freddy’s Bar\, 40000 Garfield Rd\, Clinton Twp\, MI\, 48038
CATEGORIES:Concert
ATTACH;FMTTYPE=image/jpeg:http://www.freddysbarrocks.com/wp-content/uploads/2020/06/Jack-Of-Spades-Raffle-social.jpg
END:VEVENT
BEGIN:VEVENT
DTSTART;TZID=UTC:20220618T210000
DTEND;TZID=UTC:20220618T210000
DTSTAMP:20260420T165931
CREATED:20220323T192856Z
LAST-MODIFIED:20220323T192856Z
UID:1009-1655586000-1655586000@www.freddysbarrocks.com
SUMMARY:LIVE MUSIC: Heard That Band
DESCRIPTION:Live music starts at 9pm. We do accept a certain amount of reservations so make sure you call and save your spot. Freddy’s is the place to be for all of you live music lovin people!
URL:http://www.freddysbarrocks.com/event/live-music-heard-that-band/
LOCATION:Freddy’s Bar\, 40000 Garfield Rd\, Clinton Twp\, MI\, 48038
CATEGORIES:Concert
ATTACH;FMTTYPE=image/jpeg:http://www.freddysbarrocks.com/wp-content/uploads/2020/06/live-music.jpg
END:VEVENT
BEGIN:VEVENT
DTSTART;TZID=UTC:20220617T210000
DTEND;TZID=UTC:20220617T210000
DTSTAMP:20260420T165931
CREATED:20220323T192615Z
LAST-MODIFIED:20220323T192738Z
UID:1005-1655499600-1655499600@www.freddysbarrocks.com
SUMMARY:LIVE MUSIC: Motor City Josh
DESCRIPTION:Live music starts at 9pm. We do accept a certain amount of reservations so make sure you call and save your spot. Freddy’s is the place to be for all of you live music lovin people!
URL:http://www.freddysbarrocks.com/event/live-music-trip-to-fall/
LOCATION:Freddy’s Bar\, 40000 Garfield Rd\, Clinton Twp\, MI\, 48038
CATEGORIES:Concert
ATTACH;FMTTYPE=image/jpeg:http://www.freddysbarrocks.com/wp-content/uploads/2022/01/Motor-City-Josh.jpg
END:VEVENT
BEGIN:VEVENT
DTSTART;TZID=UTC:20220616T190000
DTEND;TZID=UTC:20220616T190000
DTSTAMP:20260420T165931
CREATED:20220323T193315Z
LAST-MODIFIED:20220323T193315Z
UID:1019-1655406000-1655406000@www.freddysbarrocks.com
SUMMARY:BIKE NIGHT: Classic Maniacs
DESCRIPTION:Live music starts at 7pm. Half off Pizza and $12 domestic buckets all night. $5 Bike Night specials on all call liquors. (Jack Daniels\, Jager\, Jim Beam\, Jameson\, 1800\, Tito’s\, Captain Morgan\, Bacardi and more)
URL:http://www.freddysbarrocks.com/event/bike-night-classic-maniacs/
LOCATION:Freddy’s Bar\, 40000 Garfield Rd\, Clinton Twp\, MI\, 48038
CATEGORIES:Concert
ATTACH;FMTTYPE=image/jpeg:http://www.freddysbarrocks.com/wp-content/uploads/2022/03/Alternate-Bike-Night-Logo.jpg
END:VEVENT
BEGIN:VEVENT
DTSTART;TZID=UTC:20220614T190000
DTEND;TZID=UTC:20220614T190000
DTSTAMP:20260420T165931
CREATED:20220323T191932Z
LAST-MODIFIED:20220323T191932Z
UID:990-1655233200-1655233200@www.freddysbarrocks.com
SUMMARY:Taco Tuesday with Justin Alexander
DESCRIPTION:Not only is it Taco Tuesday but it is also our Jack of Spades Raffle. Every Tuesday the pot grows until one lucky winner finds the Jack of Spades. Each week there will be a separate $150 winner just because we love you all! Live music goes on at 7pm and the drawing is at 8pm. Proceeds go to The Kiwanis club of Clinton Township. Come say hi to them\, our staff and your host with the most Doug Simonson every Tuesday night!
URL:http://www.freddysbarrocks.com/event/taco-tuesday-with-justin-alexander-13/
LOCATION:Freddy’s Bar\, 40000 Garfield Rd\, Clinton Twp\, MI\, 48038
CATEGORIES:Concert
ATTACH;FMTTYPE=image/jpeg:http://www.freddysbarrocks.com/wp-content/uploads/2020/06/Jack-Of-Spades-Raffle-social.jpg
END:VEVENT
BEGIN:VEVENT
DTSTART;TZID=UTC:20220611T210000
DTEND;TZID=UTC:20220611T210000
DTSTAMP:20260420T165931
CREATED:20220411T231043Z
LAST-MODIFIED:20220411T231043Z
UID:1028-1654981200-1654981200@www.freddysbarrocks.com
SUMMARY:LIVE MUSIC: Trip to Fall
DESCRIPTION:Live music starts at 9pm. We do accept a certain amount of reservations so make sure you call and save your spot. Freddy’s is the place to be for all of you live music lovin people!
URL:http://www.freddysbarrocks.com/event/live-music-trip-to-fall-2/
LOCATION:Freddy’s Bar\, 40000 Garfield Rd\, Clinton Twp\, MI\, 48038
CATEGORIES:Concert
ATTACH;FMTTYPE=image/jpeg:http://www.freddysbarrocks.com/wp-content/uploads/2022/04/Trip-to-Fall.jpg
END:VEVENT
BEGIN:VEVENT
DTSTART;TZID=UTC:20220610T210000
DTEND;TZID=UTC:20220610T210000
DTSTAMP:20260420T165931
CREATED:20220323T192520Z
LAST-MODIFIED:20220323T192520Z
UID:1003-1654894800-1654894800@www.freddysbarrocks.com
SUMMARY:LIVE MUSIC: Beyond 11
DESCRIPTION:Live music starts at 9pm. We do accept a certain amount of reservations so make sure you call and save your spot. Freddy’s is the place to be for all of you live music lovin people!
URL:http://www.freddysbarrocks.com/event/live-music-beyond-11/
LOCATION:Freddy’s Bar\, 40000 Garfield Rd\, Clinton Twp\, MI\, 48038
CATEGORIES:Concert
ATTACH;FMTTYPE=image/jpeg:http://www.freddysbarrocks.com/wp-content/uploads/2020/06/live-music.jpg
END:VEVENT
BEGIN:VEVENT
DTSTART;TZID=UTC:20220609T190000
DTEND;TZID=UTC:20220609T190000
DTSTAMP:20260420T165931
CREATED:20220323T193208Z
LAST-MODIFIED:20220323T193208Z
UID:1017-1654801200-1654801200@www.freddysbarrocks.com
SUMMARY:BIKE NIGHT: Interstate 90's
DESCRIPTION:Live music starts at 7pm. Half off Pizza and $12 domestic buckets all night. $5 Bike Night specials on all call liquors. (Jack Daniels\, Jager\, Jim Beam\, Jameson\, 1800\, Tito’s\, Captain Morgan\, Bacardi and more)
URL:http://www.freddysbarrocks.com/event/bike-night-interstate-90s/
LOCATION:Freddy’s Bar\, 40000 Garfield Rd\, Clinton Twp\, MI\, 48038
CATEGORIES:Concert
ATTACH;FMTTYPE=image/jpeg:http://www.freddysbarrocks.com/wp-content/uploads/2022/03/Alternate-Bike-Night-Logo.jpg
END:VEVENT
BEGIN:VEVENT
DTSTART;TZID=UTC:20220607T190000
DTEND;TZID=UTC:20220607T190000
DTSTAMP:20260420T165931
CREATED:20220323T191835Z
LAST-MODIFIED:20220323T191835Z
UID:988-1654628400-1654628400@www.freddysbarrocks.com
SUMMARY:Taco Tuesday with Weekend Comeback
DESCRIPTION:Not only is it Taco Tuesday but it is also our Jack of Spades Raffle. Every Tuesday the pot grows until one lucky winner finds the Jack of Spades. Each week there will be a separate $150 winner just because we love you all! Live music goes on at 7pm and the drawing is at 8pm. Proceeds go to The Kiwanis club of Clinton Township. Come say hi to them\, our staff and your host with the most Doug Simonson every Tuesday night!
URL:http://www.freddysbarrocks.com/event/taco-tuesday-with-weekend-comeback-12/
LOCATION:Freddy’s Bar\, 40000 Garfield Rd\, Clinton Twp\, MI\, 48038
CATEGORIES:Concert
ATTACH;FMTTYPE=image/jpeg:http://www.freddysbarrocks.com/wp-content/uploads/2020/06/Jack-Of-Spades-Raffle-social.jpg
END:VEVENT
BEGIN:VEVENT
DTSTART;TZID=UTC:20220604T210000
DTEND;TZID=UTC:20220604T210000
DTSTAMP:20260420T165931
CREATED:20220323T192407Z
LAST-MODIFIED:20220323T192407Z
UID:1001-1654376400-1654376400@www.freddysbarrocks.com
SUMMARY:LIVE MUSIC: Rusty Toys Band
DESCRIPTION:Live music starts at 9pm. We do accept a certain amount of reservations so make sure you call and save your spot. Freddy’s is the place to be for all of you live music lovin people!
URL:http://www.freddysbarrocks.com/event/live-music-rusty-toys-band-2/
LOCATION:Freddy’s Bar\, 40000 Garfield Rd\, Clinton Twp\, MI\, 48038
CATEGORIES:Concert
ATTACH;FMTTYPE=image/jpeg:http://www.freddysbarrocks.com/wp-content/uploads/2020/10/rusty-toys-band.jpg
END:VEVENT
BEGIN:VEVENT
DTSTART;TZID=UTC:20220603T210000
DTEND;TZID=UTC:20220603T210000
DTSTAMP:20260420T165931
CREATED:20220323T192300Z
LAST-MODIFIED:20220323T192300Z
UID:998-1654290000-1654290000@www.freddysbarrocks.com
SUMMARY:LIVE MUSIC: The Groove Council
DESCRIPTION:Live music starts at 9pm. We do accept a certain amount of reservations so make sure you call and save your spot. Freddy’s is the place to be for all of you live music lovin people!
URL:http://www.freddysbarrocks.com/event/live-music-the-groove-council/
LOCATION:Freddy’s Bar\, 40000 Garfield Rd\, Clinton Twp\, MI\, 48038
CATEGORIES:Concert
ATTACH;FMTTYPE=image/jpeg:http://www.freddysbarrocks.com/wp-content/uploads/2022/03/Groove-Council-Logo.jpg
END:VEVENT
BEGIN:VEVENT
DTSTART;TZID=UTC:20220602T190000
DTEND;TZID=UTC:20220602T190000
DTSTAMP:20260420T165931
CREATED:20220323T193111Z
LAST-MODIFIED:20220323T193111Z
UID:1015-1654196400-1654196400@www.freddysbarrocks.com
SUMMARY:BIKE NIGHT: Goodfellas
DESCRIPTION:Live music starts at 7pm. Half off Pizza and $12 domestic buckets all night. $5 Bike Night specials on all call liquors. (Jack Daniels\, Jager\, Jim Beam\, Jameson\, 1800\, Tito’s\, Captain Morgan\, Bacardi and more)
URL:http://www.freddysbarrocks.com/event/bike-night-goodfellas/
LOCATION:Freddy’s Bar\, 40000 Garfield Rd\, Clinton Twp\, MI\, 48038
CATEGORIES:Concert
ATTACH;FMTTYPE=image/jpeg:http://www.freddysbarrocks.com/wp-content/uploads/2022/03/Alternate-Bike-Night-Logo.jpg
END:VEVENT
BEGIN:VEVENT
DTSTART;TZID=UTC:20220531T190000
DTEND;TZID=UTC:20220531T190000
DTSTAMP:20260420T165931
CREATED:20220323T191745Z
LAST-MODIFIED:20220323T191745Z
UID:986-1654023600-1654023600@www.freddysbarrocks.com
SUMMARY:Taco Tuesday with Johnny P
DESCRIPTION:Not only is it Taco Tuesday but it is also our Jack of Spades Raffle. Every Tuesday the pot grows until one lucky winner finds the Jack of Spades. Each week there will be a separate $150 winner just because we love you all! Live music goes on at 7pm and the drawing is at 8pm. Proceeds go to The Kiwanis club of Clinton Township. Come say hi to them\, our staff and your host with the most Doug Simonson every Tuesday night!
URL:http://www.freddysbarrocks.com/event/taco-tuesday-with-johnny-p-3/
LOCATION:Freddy’s Bar\, 40000 Garfield Rd\, Clinton Twp\, MI\, 48038
CATEGORIES:Concert
ATTACH;FMTTYPE=image/jpeg:http://www.freddysbarrocks.com/wp-content/uploads/2020/06/Jack-Of-Spades-Raffle-social.jpg
END:VEVENT
BEGIN:VEVENT
DTSTART;TZID=UTC:20220528T210000
DTEND;TZID=UTC:20220528T210000
DTSTAMP:20260420T165931
CREATED:20220322T202946Z
LAST-MODIFIED:20220322T202946Z
UID:967-1653771600-1653771600@www.freddysbarrocks.com
SUMMARY:LIVE MUSIC: The Stone Blossoms
DESCRIPTION:Live music starts at 9pm. We do accept a certain amount of reservations so make sure you call and save your spot. Freddy’s is the place to be for all of you live music lovin people!
URL:http://www.freddysbarrocks.com/event/live-music-the-stone-blossoms/
LOCATION:Freddy’s Bar\, 40000 Garfield Rd\, Clinton Twp\, MI\, 48038
CATEGORIES:Concert
ATTACH;FMTTYPE=image/png:http://www.freddysbarrocks.com/wp-content/uploads/2020/06/stone-blossoms.png
END:VEVENT
BEGIN:VEVENT
DTSTART;TZID=UTC:20220527T210000
DTEND;TZID=UTC:20220527T210000
DTSTAMP:20260420T165931
CREATED:20220322T202905Z
LAST-MODIFIED:20220322T202905Z
UID:965-1653685200-1653685200@www.freddysbarrocks.com
SUMMARY:LIVE MUSIC: Electrik Dream
DESCRIPTION:Live music starts at 9pm. We do accept a certain amount of reservations so make sure you call and save your spot. Freddy’s is the place to be for all of you live music lovin people!
URL:http://www.freddysbarrocks.com/event/live-music-electrik-dream-2/
LOCATION:Freddy’s Bar\, 40000 Garfield Rd\, Clinton Twp\, MI\, 48038
CATEGORIES:Concert
ATTACH;FMTTYPE=image/jpeg:http://www.freddysbarrocks.com/wp-content/uploads/2022/03/Electrik-Dream.jpg
END:VEVENT
BEGIN:VEVENT
DTSTART;TZID=UTC:20220526T190000
DTEND;TZID=UTC:20220526T190000
DTSTAMP:20260420T165931
CREATED:20220322T204217Z
LAST-MODIFIED:20220322T204217Z
UID:976-1653591600-1653591600@www.freddysbarrocks.com
SUMMARY:BIKE NIGHT: Eddie King Band
DESCRIPTION:Live music starts at 7pm. Half off Pizza and $12 domestic buckets all night. $5 Bike Night specials on all call liquors. (Jack Daniels\, Jager\, Jim Beam\, Jameson\, 1800\, Tito’s\, Captain Morgan\, Bacardi and more)
URL:http://www.freddysbarrocks.com/event/bike-night-eddie-king-band/
LOCATION:Freddy’s Bar\, 40000 Garfield Rd\, Clinton Twp\, MI\, 48038
CATEGORIES:Concert
ATTACH;FMTTYPE=image/jpeg:http://www.freddysbarrocks.com/wp-content/uploads/2022/03/Alternate-Bike-Night-Logo.jpg
END:VEVENT
BEGIN:VEVENT
DTSTART;TZID=UTC:20220524T190000
DTEND;TZID=UTC:20220524T190000
DTSTAMP:20260420T165931
CREATED:20220323T191713Z
LAST-MODIFIED:20220323T191713Z
UID:984-1653418800-1653418800@www.freddysbarrocks.com
SUMMARY:Taco Tuesday with Erich Gobel
DESCRIPTION:Not only is it Taco Tuesday but it is also our Jack of Spades Raffle. Every Tuesday the pot grows until one lucky winner finds the Jack of Spades. Each week there will be a separate $150 winner just because we love you all! Live music goes on at 7pm and the drawing is at 8pm. Proceeds go to The Kiwanis club of Clinton Township. Come say hi to them\, our staff and your host with the most Doug Simonson every Tuesday night!
URL:http://www.freddysbarrocks.com/event/taco-tuesday-with-erich-gobel/
LOCATION:Freddy’s Bar\, 40000 Garfield Rd\, Clinton Twp\, MI\, 48038
CATEGORIES:Concert
ATTACH;FMTTYPE=image/jpeg:http://www.freddysbarrocks.com/wp-content/uploads/2020/06/Jack-Of-Spades-Raffle-social.jpg
END:VEVENT
BEGIN:VEVENT
DTSTART;TZID=UTC:20220522T190000
DTEND;TZID=UTC:20220522T190000
DTSTAMP:20260420T165931
CREATED:20220323T192113Z
LAST-MODIFIED:20220323T193757Z
UID:996-1653246000-1653246000@www.freddysbarrocks.com
SUMMARY:Tribute Sundays: Infinity and Beyond (Journey Tribute)
DESCRIPTION:$30 tickets include dinner and the show. Doors open at 5pm and the show starts at 6pm. This is a ticket only event. Make sure to reserve your seat.  \nCall (586) 416-7777
URL:http://www.freddysbarrocks.com/event/taco-tuesday-with-justin-alexader/
LOCATION:Freddy’s Bar\, 40000 Garfield Rd\, Clinton Twp\, MI\, 48038
CATEGORIES:Concert
ATTACH;FMTTYPE=image/jpeg:http://www.freddysbarrocks.com/wp-content/uploads/2022/03/Journey-Tribute-5.22.22-social.jpg
END:VEVENT
BEGIN:VEVENT
DTSTART;TZID=UTC:20220521T210000
DTEND;TZID=UTC:20220521T210000
DTSTAMP:20260420T165931
CREATED:20220322T202827Z
LAST-MODIFIED:20220322T202827Z
UID:963-1653166800-1653166800@www.freddysbarrocks.com
SUMMARY:LIVE MUSIC: Planet of Fun
DESCRIPTION:Live music starts at 9pm. We do accept a certain amount of reservations so make sure you call and save your spot. Freddy’s is the place to be for all of you live music lovin people!
URL:http://www.freddysbarrocks.com/event/live-music-planet-of-fun-23/
LOCATION:Freddy’s Bar\, 40000 Garfield Rd\, Clinton Twp\, MI\, 48038
CATEGORIES:Concert
ATTACH;FMTTYPE=image/jpeg:http://www.freddysbarrocks.com/wp-content/uploads/2020/10/Planet-of-Fun.jpg
END:VEVENT
BEGIN:VEVENT
DTSTART;TZID=UTC:20220520T210000
DTEND;TZID=UTC:20220520T210000
DTSTAMP:20260420T165931
CREATED:20220322T202810Z
LAST-MODIFIED:20220322T202810Z
UID:961-1653080400-1653080400@www.freddysbarrocks.com
SUMMARY:LIVE MUSIC: Planet of Fun
DESCRIPTION:Live music starts at 9pm. We do accept a certain amount of reservations so make sure you call and save your spot. Freddy’s is the place to be for all of you live music lovin people!
URL:http://www.freddysbarrocks.com/event/live-music-planet-of-fun-22/
LOCATION:Freddy’s Bar\, 40000 Garfield Rd\, Clinton Twp\, MI\, 48038
CATEGORIES:Concert
ATTACH;FMTTYPE=image/jpeg:http://www.freddysbarrocks.com/wp-content/uploads/2020/10/Planet-of-Fun.jpg
END:VEVENT
BEGIN:VEVENT
DTSTART;TZID=UTC:20220519T190000
DTEND;TZID=UTC:20220519T190000
DTSTAMP:20260420T165931
CREATED:20220322T204128Z
LAST-MODIFIED:20220322T204139Z
UID:973-1652986800-1652986800@www.freddysbarrocks.com
SUMMARY:BIKE NIGHT: Planet of Fun
DESCRIPTION:Live music starts at 7pm. Half off Pizza and $12 domestic buckets all night. $5 Bike Night specials on all call liquors. (Jack Daniels\, Jager\, Jim Beam\, Jameson\, 1800\, Tito’s\, Captain Morgan\, Bacardi and more)
URL:http://www.freddysbarrocks.com/event/bike-night-planet-of-fun-2/
LOCATION:Freddy’s Bar\, 40000 Garfield Rd\, Clinton Twp\, MI\, 48038
CATEGORIES:Concert
ATTACH;FMTTYPE=image/jpeg:http://www.freddysbarrocks.com/wp-content/uploads/2022/03/Alternate-Bike-Night-Logo.jpg
END:VEVENT
BEGIN:VEVENT
DTSTART;TZID=UTC:20220517T190000
DTEND;TZID=UTC:20220517T190000
DTSTAMP:20260420T165931
CREATED:20220323T191607Z
LAST-MODIFIED:20220323T191607Z
UID:982-1652814000-1652814000@www.freddysbarrocks.com
SUMMARY:Taco Tuesday with Justin Alexander
DESCRIPTION:Not only is it Taco Tuesday but it is also our Jack of Spades Raffle. Every Tuesday the pot grows until one lucky winner finds the Jack of Spades. Each week there will be a separate $150 winner just because we love you all! Live music goes on at 7pm and the drawing is at 8pm. Proceeds go to The Kiwanis club of Clinton Township. Come say hi to them\, our staff and your host with the most Doug Simonson every Tuesday night!
URL:http://www.freddysbarrocks.com/event/taco-tuesday-with-justin-alexander-12/
LOCATION:Freddy’s Bar\, 40000 Garfield Rd\, Clinton Twp\, MI\, 48038
CATEGORIES:Concert
ATTACH;FMTTYPE=image/jpeg:http://www.freddysbarrocks.com/wp-content/uploads/2020/06/Jack-Of-Spades-Raffle-social.jpg
END:VEVENT
BEGIN:VEVENT
DTSTART;TZID=UTC:20220515T183000
DTEND;TZID=UTC:20220515T183000
DTSTAMP:20260420T165931
CREATED:20220411T231257Z
LAST-MODIFIED:20220411T232352Z
UID:1031-1652639400-1652639400@www.freddysbarrocks.com
SUMMARY:LIVE COMEDY: Derek Richards
DESCRIPTION:Freddy’s “Sunday Night Live” Comedy Showcase Presents:\nAn evening with Comedian Derek Richards wsg\nBill Morrison. Hosted by Tyler Nissen.\nYour Emcee: COMEDIAN TYLER NISSEN.\nTyler Nissen has been performing Stand-up comedy and storytelling in the Michigan circuit for over 4 years now. He was a finalist in the “Jumpstart Your Comedy Career” contest at Joey’s Comedy Club\, a finalist in the Moth’s Detroit “StorySlam” competition\, and recently a semi-finalist in Mark Ridley’s Comedy Castle’s “Detroit to LA” comedy competition!\nTyler’s comedy consists of punch-filled observations on the norms of society\, joined with a touch of humility to let the audience in on his own little world. Come join Tyler’s world for the entertainment of a lifetime! Or at least 15 minutes of it.\nYour Feature: COMEDIAN BILL MORRISON\nBill Morrison was born and raised in the Detroit area. Bills humor comes from his experiences of a husband and father and his dealings with the trials and tribulations of everyday life.\nBill’s lifetime of bottled up frustrations come out in a torrent of emotions that allows others to release their angst\, vicariously through him. Bill is no doctor but laughing along with him might just make your day:)\nHe has performed at One Night Stans Comedy Club in Waterford and Mark Ridley’s Comedy Castle in Royal Oak. Bill has also performed at various clubs in Las Vegas. Get ready for your Uncle Bill! Ya just might learn something!\nYour Headliner: COMEDIAN DEREK RICHARDS\nA regular on the Las Vegas strip\, Derek’s act is fast\, fresh\, and at times fanatical. He brings the funny with tales of his blue-collar upbringing\, his divorce\, the Holidays\, and his child-free existence.\nA veteran of several USO tours\, Richards was chosen as one of the first performers at Guantanamo Bay\, Cuba after the base began guarding jailed Al-Qaida terrorists. The Comedy tour earned Richards national coverage in Newsweek.\nHe has also performed at U.S base camps in Iraq\, Afghanistan\, and more than 15 countries.\nYou can hear him on the air via SiriusXM Satellite Radio Network\, and on the nationally syndicated\, Bob & Tom Radio Show with Bob and Sheri. He was also featured on the Weather Channel’s Top 10.\nOn the concert stage\, he has been the opening act for Motown legends;) The Temptations\, and The Four Tops. His third Comedy album\, 60MPH School Zone\, garnered honorable mention accolades in the International Songwriting Competition in the spoken word category.\nBe sure to get your copy at shows\, iTunes\, and at derekrichards.com. Hit the site to hear a sample of why this lunatic leaves every audience howling\, and hoping he’ll be back. Don’t miss this long-time Detroit original!\nDoors: 6:30pm\nShowtime: 7:30pm\n$15 advance tickets are available by calling Freddy’s at 585-416-7777 for reservations. Tickets are also available at the door for $20\n$20 Door.\nFreddy’s is known for great food\, drink\, the very Best in Live Entertainment\, and awesome waitstaff! Have dinner before\, dinner\, or after the show!\nFreddy’s Bar & Grill\n40000 Garfield Rd.\nClinton Township\, Mi 48038\n1-586-416-7777
URL:http://www.freddysbarrocks.com/event/live-comedy-derek-richards/
LOCATION:Freddy’s Bar\, 40000 Garfield Rd\, Clinton Twp\, MI\, 48038
CATEGORIES:Comedy
ATTACH;FMTTYPE=image/jpeg:http://www.freddysbarrocks.com/wp-content/uploads/2022/04/Derek-Richards.jpg
END:VEVENT
BEGIN:VEVENT
DTSTART;TZID=UTC:20220514T210000
DTEND;TZID=UTC:20220514T210000
DTSTAMP:20260420T165931
CREATED:20220322T202735Z
LAST-MODIFIED:20220322T202735Z
UID:959-1652562000-1652562000@www.freddysbarrocks.com
SUMMARY:LIVE MUSIC: Chit
DESCRIPTION:Live music starts at 9pm. We do accept a certain amount of reservations so make sure you call and save your spot. Freddy’s is the place to be for all of you live music lovin people!
URL:http://www.freddysbarrocks.com/event/live-music-chit/
LOCATION:Freddy’s Bar\, 40000 Garfield Rd\, Clinton Twp\, MI\, 48038
CATEGORIES:Concert
ATTACH;FMTTYPE=image/jpeg:http://www.freddysbarrocks.com/wp-content/uploads/2020/10/chit.jpg
END:VEVENT
BEGIN:VEVENT
DTSTART;TZID=UTC:20220513T210000
DTEND;TZID=UTC:20220513T210000
DTSTAMP:20260420T165931
CREATED:20220322T202657Z
LAST-MODIFIED:20220322T202657Z
UID:956-1652475600-1652475600@www.freddysbarrocks.com
SUMMARY:LIVE MUSIC: Last Exit
DESCRIPTION:Live music starts at 9pm. We do accept a certain amount of reservations so make sure you call and save your spot. Freddy’s is the place to be for all of you live music lovin people!
URL:http://www.freddysbarrocks.com/event/live-music-last-exit/
LOCATION:Freddy’s Bar\, 40000 Garfield Rd\, Clinton Twp\, MI\, 48038
CATEGORIES:Concert
ATTACH;FMTTYPE=image/jpeg:http://www.freddysbarrocks.com/wp-content/uploads/2022/03/Last-exit-band.jpg
END:VEVENT
BEGIN:VEVENT
DTSTART;TZID=UTC:20220512T190000
DTEND;TZID=UTC:20220512T190000
DTSTAMP:20260420T165931
CREATED:20220322T203342Z
LAST-MODIFIED:20220322T203342Z
UID:971-1652382000-1652382000@www.freddysbarrocks.com
SUMMARY:LIVE MUSIC: Weekend Comeback
DESCRIPTION:Live music starts at 7pm. Half off Pizza and $12 domestic buckets all night.
URL:http://www.freddysbarrocks.com/event/live-music-weekend-comeback-5/
LOCATION:Freddy’s Bar\, 40000 Garfield Rd\, Clinton Twp\, MI\, 48038
CATEGORIES:Concert
ATTACH;FMTTYPE=image/jpeg:http://www.freddysbarrocks.com/wp-content/uploads/2020/06/live-music.jpg
END:VEVENT
BEGIN:VEVENT
DTSTART;TZID=UTC:20220510T190000
DTEND;TZID=UTC:20220510T190000
DTSTAMP:20260420T165931
CREATED:20220322T204614Z
LAST-MODIFIED:20220322T204614Z
UID:980-1652209200-1652209200@www.freddysbarrocks.com
SUMMARY:Taco Tuesday with Jim Tellar
DESCRIPTION:Not only is it Taco Tuesday but it is also our Jack of Spades Raffle. Every Tuesday the pot grows until one lucky winner finds the Jack of Spades. Each week there will be a separate $150 winner just because we love you all! Live music goes on at 7pm and the drawing is at 8pm. Proceeds go to The Kiwanis club of Clinton Township. Come say hi to them\, our staff and your host with the most Doug Simonson every Tuesday night!
URL:http://www.freddysbarrocks.com/event/taco-tuesday-with-jim-tellar/
LOCATION:Freddy’s Bar\, 40000 Garfield Rd\, Clinton Twp\, MI\, 48038
CATEGORIES:Concert
ATTACH;FMTTYPE=image/jpeg:http://www.freddysbarrocks.com/wp-content/uploads/2020/06/Jack-Of-Spades-Raffle-social.jpg
END:VEVENT
BEGIN:VEVENT
DTSTART;TZID=UTC:20220506T210000
DTEND;TZID=UTC:20220506T210000
DTSTAMP:20260420T165931
CREATED:20220322T201802Z
LAST-MODIFIED:20220322T201802Z
UID:952-1651870800-1651870800@www.freddysbarrocks.com
SUMMARY:LIVE MUSIC: Reckless Revival
DESCRIPTION:Live music starts at 9pm. We do accept a certain amount of reservations so make sure you call and save your spot. Freddy’s is the place to be for all of you live music lovin people!
URL:http://www.freddysbarrocks.com/event/live-music-reckless-revival-3/
LOCATION:Freddy’s Bar\, 40000 Garfield Rd\, Clinton Twp\, MI\, 48038
CATEGORIES:Concert
ATTACH;FMTTYPE=image/png:http://www.freddysbarrocks.com/wp-content/uploads/2020/10/Reckless-Revival-Logo.png
END:VEVENT
BEGIN:VEVENT
DTSTART;TZID=UTC:20220505T180000
DTEND;TZID=UTC:20220505T180000
DTSTAMP:20260420T165931
CREATED:20220418T223158Z
LAST-MODIFIED:20220418T223158Z
UID:1038-1651773600-1651773600@www.freddysbarrocks.com
SUMMARY:Salsa Competition (No\, not that kind of salsa)
DESCRIPTION:How proud are you of your homemade salsa? Well\, make a batch and enter it into our Salsa Competition. Basically ran like a chili cook off but with salsa instead. Every get-together there is always that one person who makes the salsa that everyone loves\, if that person is you than this is your event! 3 prizes will be given out. Live Latin music by Vybra starts at 7pm.    \nCall (586) 416-7777 to enter and for reservations.
URL:http://www.freddysbarrocks.com/event/salsa-competition-no-not-that-kind-of-salsa/
LOCATION:Freddy’s Bar\, 40000 Garfield Rd\, Clinton Twp\, MI\, 48038
CATEGORIES:Concert
ATTACH;FMTTYPE=image/jpeg:http://www.freddysbarrocks.com/wp-content/uploads/2022/04/Salsa-Competition-2022-social.jpg
END:VEVENT
END:VCALENDAR