BEGIN:VCALENDAR
VERSION:2.0
PRODID:-//Freddys Bar &amp; Grill - ECPv6.8.3//NONSGML v1.0//EN
CALSCALE:GREGORIAN
METHOD:PUBLISH
X-WR-CALNAME:Freddys Bar &amp; Grill
X-ORIGINAL-URL:http://www.freddysbarrocks.com
X-WR-CALDESC:Events for Freddys Bar &amp; Grill
REFRESH-INTERVAL;VALUE=DURATION:PT1H
X-Robots-Tag:noindex
X-PUBLISHED-TTL:PT1H
BEGIN:VTIMEZONE
TZID:UTC
BEGIN:STANDARD
TZOFFSETFROM:+0000
TZOFFSETTO:+0000
TZNAME:UTC
DTSTART:20220101T000000
END:STANDARD
END:VTIMEZONE
BEGIN:VEVENT
DTSTART;TZID=UTC:20220308T190000
DTEND;TZID=UTC:20220308T190000
DTSTAMP:20260423T174449
CREATED:20220120T230655Z
LAST-MODIFIED:20220120T230655Z
UID:867-1646766000-1646766000@www.freddysbarrocks.com
SUMMARY:Taco Tuesday with Kynd Acoustic
DESCRIPTION:Not only is it Taco Tuesday but it is also our Jack of Spades Raffle. Every Tuesday the pot grows until one lucky winner finds the Jack of Spades. Each week there will be a separate $150 winner just because we love you all! Live music goes on at 7pm and the drawing is at 8pm. Proceeds go to The Kiwanis club of Clinton Township. Come say hi to them\, our staff and your host with the most Doug Simonson every Tuesday night!
URL:http://www.freddysbarrocks.com/event/taco-tuesday-with-kynd-acoustic/
LOCATION:Freddy’s Bar\, 40000 Garfield Rd\, Clinton Twp\, MI\, 48038
CATEGORIES:Concert
ATTACH;FMTTYPE=image/jpeg:http://www.freddysbarrocks.com/wp-content/uploads/2020/06/Jack-Of-Spades-Raffle-social.jpg
END:VEVENT
BEGIN:VEVENT
DTSTART;TZID=UTC:20220305T210000
DTEND;TZID=UTC:20220305T210000
DTSTAMP:20260423T174449
CREATED:20220120T231815Z
LAST-MODIFIED:20220120T231936Z
UID:881-1646514000-1646514000@www.freddysbarrocks.com
SUMMARY:LIVE MUSIC: O.C.D.
DESCRIPTION:Live music starts at 9pm. We do accept a certain amount of reservations so make sure you call and save your spot. Freddy’s is the place to be for all of you live music lovin people!
URL:http://www.freddysbarrocks.com/event/live-music-stone-blossoms-5/
LOCATION:Freddy’s Bar\, 40000 Garfield Rd\, Clinton Twp\, MI\, 48038
CATEGORIES:Concert
ATTACH;FMTTYPE=image/png:http://www.freddysbarrocks.com/wp-content/uploads/2021/07/OCD.png
END:VEVENT
BEGIN:VEVENT
DTSTART;TZID=UTC:20220304T210000
DTEND;TZID=UTC:20220304T210000
DTSTAMP:20260423T174449
CREATED:20220302T192917Z
LAST-MODIFIED:20220302T192917Z
UID:885-1646427600-1646427600@www.freddysbarrocks.com
SUMMARY:LIVE MUSIC: Stone Blossoms
DESCRIPTION:Live music starts at 9pm. We do accept a certain amount of reservations so make sure you call and save your spot. Freddy’s is the place to be for all of you live music lovin people!
URL:http://www.freddysbarrocks.com/event/live-music-stone-blossoms-6/
LOCATION:Freddy’s Bar\, 40000 Garfield Rd\, Clinton Twp\, MI\, 48038
CATEGORIES:Concert
ATTACH;FMTTYPE=image/png:http://www.freddysbarrocks.com/wp-content/uploads/2020/10/stone-blossoms.png
END:VEVENT
BEGIN:VEVENT
DTSTART;TZID=UTC:20220303T190000
DTEND;TZID=UTC:20220303T190000
DTSTAMP:20260423T174449
CREATED:20220120T231136Z
LAST-MODIFIED:20220302T192834Z
UID:873-1646334000-1646334000@www.freddysbarrocks.com
SUMMARY:LIVE MUSIC: Weekend Comeback
DESCRIPTION:Live music starts at 7pm. Half off Pizza and $12 domestic buckets all night.
URL:http://www.freddysbarrocks.com/event/live-music-weekend-comeback-4/
LOCATION:Freddy’s Bar\, 40000 Garfield Rd\, Clinton Twp\, MI\, 48038
CATEGORIES:Concert
ATTACH;FMTTYPE=image/jpeg:http://www.freddysbarrocks.com/wp-content/uploads/2020/06/live-music.jpg
END:VEVENT
BEGIN:VEVENT
DTSTART;TZID=UTC:20220301T190000
DTEND;TZID=UTC:20220301T190000
DTSTAMP:20260423T174449
CREATED:20220120T230404Z
LAST-MODIFIED:20220120T230404Z
UID:865-1646161200-1646161200@www.freddysbarrocks.com
SUMMARY:Taco Tuesday with Johnny P.
DESCRIPTION:Not only is it Taco Tuesday but it is also our Jack of Spades Raffle. Every Tuesday the pot grows until one lucky winner finds the Jack of Spades. Each week there will be a separate $150 winner just because we love you all! Live music goes on at 7pm and the drawing is at 8pm. Proceeds go to The Kiwanis club of Clinton Township. Come say hi to them\, our staff and your host with the most Doug Simonson every Tuesday night!
URL:http://www.freddysbarrocks.com/event/taco-tuesday-with-johnny-p-2/
LOCATION:Freddy’s Bar\, 40000 Garfield Rd\, Clinton Twp\, MI\, 48038
CATEGORIES:Concert
ATTACH;FMTTYPE=image/jpeg:http://www.freddysbarrocks.com/wp-content/uploads/2020/06/Jack-Of-Spades-Raffle-social.jpg
END:VEVENT
BEGIN:VEVENT
DTSTART;TZID=UTC:20220227T180000
DTEND;TZID=UTC:20220227T180000
DTSTAMP:20260423T174449
CREATED:20220120T231625Z
LAST-MODIFIED:20220209T182416Z
UID:879-1645984800-1645984800@www.freddysbarrocks.com
SUMMARY:Maxx Cadence CD Release Party
DESCRIPTION:Come check out Maxx Cadence live as they play songs off of their new Album\, Black Bells. The show starts at 6pm. Kitchen is open till 8pm so come for dinner and stay for the show.
URL:http://www.freddysbarrocks.com/event/live-music-open-jam-w-planet-of-fun/
LOCATION:Freddy’s Bar\, 40000 Garfield Rd\, Clinton Twp\, MI\, 48038
CATEGORIES:Concert
ATTACH;FMTTYPE=image/jpeg:http://www.freddysbarrocks.com/wp-content/uploads/2022/01/Maxx-Cadence-cd-Release-Conert_20220227.jpg
END:VEVENT
BEGIN:VEVENT
DTSTART;TZID=UTC:20220226T210000
DTEND;TZID=UTC:20220226T210000
DTSTAMP:20260423T174449
CREATED:20211217T220850Z
LAST-MODIFIED:20211217T220850Z
UID:852-1645909200-1645909200@www.freddysbarrocks.com
SUMMARY:LIVE MUSIC: Planet of Fun
DESCRIPTION:Live music starts at 9pm. We do accept a certain amount of reservations so make sure you call and save your spot. Freddy’s is the place to be for all of you live music lovin people!
URL:http://www.freddysbarrocks.com/event/live-music-planet-of-fun-17/
LOCATION:Freddy’s Bar\, 40000 Garfield Rd\, Clinton Twp\, MI\, 48038
CATEGORIES:Concert
ATTACH;FMTTYPE=image/jpeg:http://www.freddysbarrocks.com/wp-content/uploads/2020/10/Planet-of-Fun.jpg
END:VEVENT
BEGIN:VEVENT
DTSTART;TZID=UTC:20220225T210000
DTEND;TZID=UTC:20220225T210000
DTSTAMP:20260423T174449
CREATED:20211217T220316Z
LAST-MODIFIED:20211217T220316Z
UID:850-1645822800-1645822800@www.freddysbarrocks.com
SUMMARY:LIVE MUSIC: Planet of Fun
DESCRIPTION:Live music starts at 9pm. We do accept a certain amount of reservations so make sure you call and save your spot. Freddy’s is the place to be for all of you live music lovin people!
URL:http://www.freddysbarrocks.com/event/live-music-planet-of-fun-16/
LOCATION:Freddy’s Bar\, 40000 Garfield Rd\, Clinton Twp\, MI\, 48038
CATEGORIES:Concert
ATTACH;FMTTYPE=image/jpeg:http://www.freddysbarrocks.com/wp-content/uploads/2020/10/Planet-of-Fun.jpg
END:VEVENT
BEGIN:VEVENT
DTSTART;TZID=UTC:20220224T190000
DTEND;TZID=UTC:20220224T190000
DTSTAMP:20260423T174449
CREATED:20211216T022849Z
LAST-MODIFIED:20211216T022849Z
UID:836-1645729200-1645729200@www.freddysbarrocks.com
SUMMARY:LIVE MUSIC: Sugar Tips Band
DESCRIPTION:Live music starts at 7pm. Half off Pizza and $12 domestic buckets all night.
URL:http://www.freddysbarrocks.com/event/live-music-sugar-tips-band-2/
LOCATION:Freddy’s Bar\, 40000 Garfield Rd\, Clinton Twp\, MI\, 48038
CATEGORIES:Concert
ATTACH;FMTTYPE=image/jpeg:http://www.freddysbarrocks.com/wp-content/uploads/2020/06/live-music.jpg
END:VEVENT
BEGIN:VEVENT
DTSTART;TZID=UTC:20220222T190000
DTEND;TZID=UTC:20220222T190000
DTSTAMP:20260423T174449
CREATED:20211216T021914Z
LAST-MODIFIED:20211216T021914Z
UID:827-1645556400-1645556400@www.freddysbarrocks.com
SUMMARY:Taco Tuesday with Mike Adkins
DESCRIPTION:Not only is it Taco Tuesday but it is also our Jack of Spades Raffle. Every Tuesday the pot grows until one lucky winner finds the Jack of Spades. Each week there will be a separate $150 winner just because we love you all! Live music goes on at 7pm and the drawing is at 8pm. Proceeds go to The Kiwanis club of Clinton Township. Come say hi to them\, our staff and your host with the most Doug Simonson every Tuesday night!
URL:http://www.freddysbarrocks.com/event/taco-tuesday-with-mike-adkins-7/
LOCATION:Freddy’s Bar\, 40000 Garfield Rd\, Clinton Twp\, MI\, 48038
CATEGORIES:Concert
ATTACH;FMTTYPE=image/jpeg:http://www.freddysbarrocks.com/wp-content/uploads/2020/06/Jack-Of-Spades-Raffle-social.jpg
END:VEVENT
BEGIN:VEVENT
DTSTART;TZID=UTC:20220219T210000
DTEND;TZID=UTC:20220219T210000
DTSTAMP:20260423T174449
CREATED:20211217T215634Z
LAST-MODIFIED:20211217T215634Z
UID:847-1645304400-1645304400@www.freddysbarrocks.com
SUMMARY:LIVE MUSIC: Electric Dream
DESCRIPTION:Live music starts at 9pm. We do accept a certain amount of reservations so make sure you call and save your spot. Freddy’s is the place to be for all of you live music lovin people!
URL:http://www.freddysbarrocks.com/event/live-music-electric-dream/
LOCATION:Freddy’s Bar\, 40000 Garfield Rd\, Clinton Twp\, MI\, 48038
CATEGORIES:Concert
ATTACH;FMTTYPE=image/jpeg:http://www.freddysbarrocks.com/wp-content/uploads/2021/12/Electric-Dream.jpeg
END:VEVENT
BEGIN:VEVENT
DTSTART;TZID=UTC:20220217T190000
DTEND;TZID=UTC:20220217T190000
DTSTAMP:20260423T174449
CREATED:20211216T022751Z
LAST-MODIFIED:20211216T022751Z
UID:834-1645124400-1645124400@www.freddysbarrocks.com
SUMMARY:LIVE MUSIC: Moxie Blitz
DESCRIPTION:Live music starts at 7pm. Half off Pizza and $12 domestic buckets all night.
URL:http://www.freddysbarrocks.com/event/live-music-moxie-blitz/
LOCATION:Freddy’s Bar\, 40000 Garfield Rd\, Clinton Twp\, MI\, 48038
CATEGORIES:Concert
ATTACH;FMTTYPE=image/jpeg:http://www.freddysbarrocks.com/wp-content/uploads/2020/06/live-music.jpg
END:VEVENT
BEGIN:VEVENT
DTSTART;TZID=UTC:20220215T190000
DTEND;TZID=UTC:20220215T190000
DTSTAMP:20260423T174449
CREATED:20211216T021743Z
LAST-MODIFIED:20211216T021743Z
UID:825-1644951600-1644951600@www.freddysbarrocks.com
SUMMARY:Taco Tuesday with Weekend Comeback
DESCRIPTION:Not only is it Taco Tuesday but it is also our Jack of Spades Raffle. Every Tuesday the pot grows until one lucky winner finds the Jack of Spades. Each week there will be a separate $150 winner just because we love you all! Live music goes on at 7pm and the drawing is at 8pm. Proceeds go to The Kiwanis club of Clinton Township. Come say hi to them\, our staff and your host with the most Doug Simonson every Tuesday night!
URL:http://www.freddysbarrocks.com/event/taco-tuesday-with-weekend-comeback-10/
LOCATION:Freddy’s Bar\, 40000 Garfield Rd\, Clinton Twp\, MI\, 48038
CATEGORIES:Concert
ATTACH;FMTTYPE=image/jpeg:http://www.freddysbarrocks.com/wp-content/uploads/2020/06/Jack-Of-Spades-Raffle-social.jpg
END:VEVENT
BEGIN:VEVENT
DTSTART;TZID=UTC:20220212T210000
DTEND;TZID=UTC:20220212T210000
DTSTAMP:20260423T174449
CREATED:20211216T025530Z
LAST-MODIFIED:20211216T025530Z
UID:845-1644699600-1644699600@www.freddysbarrocks.com
SUMMARY:LIVE MUSIC: Parallel Fifth
DESCRIPTION:Live music starts at 9pm. We do accept a certain amount of reservations so make sure you call and save your spot. Freddy’s is the place to be for all of you live music lovin people!
URL:http://www.freddysbarrocks.com/event/live-music-parallel-fifth-10/
LOCATION:Freddy’s Bar\, 40000 Garfield Rd\, Clinton Twp\, MI\, 48038
CATEGORIES:Concert
ATTACH;FMTTYPE=image/jpeg:http://www.freddysbarrocks.com/wp-content/uploads/2021/07/Parallel-Fifth.jpg
END:VEVENT
BEGIN:VEVENT
DTSTART;TZID=UTC:20220211T210000
DTEND;TZID=UTC:20220211T210000
DTSTAMP:20260423T174449
CREATED:20211216T025423Z
LAST-MODIFIED:20211216T025423Z
UID:843-1644613200-1644613200@www.freddysbarrocks.com
SUMMARY:LIVE MUSIC: Parallel Fifth
DESCRIPTION:Live music starts at 9pm. We do accept a certain amount of reservations so make sure you call and save your spot. Freddy’s is the place to be for all of you live music lovin people!
URL:http://www.freddysbarrocks.com/event/live-music-parallel-fifth-9/
LOCATION:Freddy’s Bar\, 40000 Garfield Rd\, Clinton Twp\, MI\, 48038
CATEGORIES:Concert
ATTACH;FMTTYPE=image/jpeg:http://www.freddysbarrocks.com/wp-content/uploads/2021/07/Parallel-Fifth.jpg
END:VEVENT
BEGIN:VEVENT
DTSTART;TZID=UTC:20220210T190000
DTEND;TZID=UTC:20220210T190000
DTSTAMP:20260423T174449
CREATED:20211216T022632Z
LAST-MODIFIED:20211216T022632Z
UID:831-1644519600-1644519600@www.freddysbarrocks.com
SUMMARY:LIVE MUSIC: Dave Hamilton Band
DESCRIPTION:Live music starts at 7pm. Half off Pizza and $12 domestic buckets all night.
URL:http://www.freddysbarrocks.com/event/live-music-dave-hamilton-band-3/
LOCATION:Freddy’s Bar\, 40000 Garfield Rd\, Clinton Twp\, MI\, 48038
CATEGORIES:Concert
ATTACH;FMTTYPE=image/jpeg:http://www.freddysbarrocks.com/wp-content/uploads/2021/12/Dave-Hamilton-Band.jpg
END:VEVENT
BEGIN:VEVENT
DTSTART;TZID=UTC:20220208T190000
DTEND;TZID=UTC:20220208T190000
DTSTAMP:20260423T174449
CREATED:20211216T021632Z
LAST-MODIFIED:20211216T021632Z
UID:823-1644346800-1644346800@www.freddysbarrocks.com
SUMMARY:Taco Tuesday with Justin Alexander
DESCRIPTION:Not only is it Taco Tuesday but it is also our Jack of Spades Raffle. Every Tuesday the pot grows until one lucky winner finds the Jack of Spades. Each week there will be a separate $150 winner just because we love you all! Live music goes on at 7pm and the drawing is at 8pm. Proceeds go to The Kiwanis club of Clinton Township. Come say hi to them\, our staff and your host with the most Doug Simonson every Tuesday night!
URL:http://www.freddysbarrocks.com/event/taco-tuesday-with-justin-alexander-10/
LOCATION:Freddy’s Bar\, 40000 Garfield Rd\, Clinton Twp\, MI\, 48038
CATEGORIES:Concert
ATTACH;FMTTYPE=image/jpeg:http://www.freddysbarrocks.com/wp-content/uploads/2020/06/Jack-Of-Spades-Raffle-social.jpg
END:VEVENT
BEGIN:VEVENT
DTSTART;TZID=UTC:20220206T183000
DTEND;TZID=UTC:20220206T213000
DTSTAMP:20260423T174449
CREATED:20220120T224014Z
LAST-MODIFIED:20220120T224014Z
UID:861-1644172200-1644183000@www.freddysbarrocks.com
SUMMARY:COMEDY: J. Chris Newberg LIVE
DESCRIPTION:Freddy’s Bar & Entertainment Venue is Proud to Present: An evening with LA based\, Detroit native\, and (Brother Rice) alum’ Comedian J. Chris Newberg wsg Charles Hill & Paul Pipitone. \nFor over 2 decades\, Newberg has appeared everywhere from the top U.S. Comedy Clubs to Comedy Central\, “America’s Got Talent”\, “Tonight Show”\, “Jimmy Kimmel Live”\, “Arsenio Hall”\, “Conan”. He’s Toured the world with Dane Cook & Russell Peters. \nHe’s also been a writer for Fox Sports\, E!\, Facebook Watch\, and many other outlets\, while his first host-producing stint was for the Game Show Networks “Idiotest”\, which led to similar duties on “Emogenius”\, “Put Your Money Where Your Mouth Is”\, and the Jaime Foxx- Hosted “Beat Shazam”. Currently\, Chris produced ABC’s the “ Chase”. Be sure to check out Chris’ award winning Podcast “Heroine Has A Great Publicist” find it anywhere you Pod. Join us for a brand new hour of laughs with J.Chris! \nFeature: Comedian Charles Hill- \nCharles Hill is an automotive worker by day and at night he’s a guitar playing Comedian who blends jokes and music with his own unique style and wit. He is the host of the popular Tuesday night open mic at the “Gratiot Pub”. Be sure to look for Charles at Clubs all over Michigan. \nEmcee: Comedian Paul Pipitone- \nFor over 15 years\, Paul Pipitone’s been bringing big-time laughs to clubs all over Michigan. He also hosts the long-time “New Way” Bar (open-mic) in Ferndale followed by the New Way “Wrap Up” Podcast with Comedian Dan Grinnell every Monday night.
URL:http://www.freddysbarrocks.com/event/comedy-j-chris-newberg-live/
LOCATION:Freddy’s Bar\, 40000 Garfield Rd\, Clinton Twp\, MI\, 48038
CATEGORIES:Comedy
ATTACH;FMTTYPE=image/jpeg:http://www.freddysbarrocks.com/wp-content/uploads/2022/01/J.-Chris-Newberg-2.6.22.jpg
END:VEVENT
BEGIN:VEVENT
DTSTART;TZID=UTC:20220205T210000
DTEND;TZID=UTC:20220205T210000
DTSTAMP:20260423T174449
CREATED:20211216T025154Z
LAST-MODIFIED:20211216T025154Z
UID:841-1644094800-1644094800@www.freddysbarrocks.com
SUMMARY:LIVE MUSIC: Funhouse
DESCRIPTION:Live music starts at 9pm. We do accept a certain amount of reservations so make sure you call and save your spot. Freddy’s is the place to be for all of you live music lovin people!
URL:http://www.freddysbarrocks.com/event/live-music-funhouse-4/
LOCATION:Freddy’s Bar\, 40000 Garfield Rd\, Clinton Twp\, MI\, 48038
CATEGORIES:Concert
ATTACH;FMTTYPE=image/jpeg:http://www.freddysbarrocks.com/wp-content/uploads/2020/10/FunHouse-Logo-scaled.jpg
END:VEVENT
BEGIN:VEVENT
DTSTART;TZID=UTC:20220204T210000
DTEND;TZID=UTC:20220204T210000
DTSTAMP:20260423T174449
CREATED:20211216T023110Z
LAST-MODIFIED:20220121T204228Z
UID:838-1644008400-1644008400@www.freddysbarrocks.com
SUMMARY:LIVE MUSIC: Mainstreet Soul
DESCRIPTION:Live music starts at 9pm. We do accept a certain amount of reservations so make sure you call and save your spot. Freddy’s is the place to be for all of you live music lovin people!
URL:http://www.freddysbarrocks.com/event/live-music-mainstreet-soul/
LOCATION:Freddy’s Bar\, 40000 Garfield Rd\, Clinton Twp\, MI\, 48038
CATEGORIES:Concert
ATTACH;FMTTYPE=image/jpeg:http://www.freddysbarrocks.com/wp-content/uploads/2021/12/Mainstreet-Soul-2.4.22-social.jpg
END:VEVENT
BEGIN:VEVENT
DTSTART;TZID=UTC:20220203T190000
DTEND;TZID=UTC:20220203T190000
DTSTAMP:20260423T174449
CREATED:20211216T022051Z
LAST-MODIFIED:20211216T022051Z
UID:829-1643914800-1643914800@www.freddysbarrocks.com
SUMMARY:LIVE MUSIC: AJ Kish Band
DESCRIPTION:Live music starts at 7pm. Half off Pizza and $12 domestic buckets all night.
URL:http://www.freddysbarrocks.com/event/live-music-aj-kish-band-2/
LOCATION:Freddy’s Bar\, 40000 Garfield Rd\, Clinton Twp\, MI\, 48038
CATEGORIES:Concert
ATTACH;FMTTYPE=image/jpeg:http://www.freddysbarrocks.com/wp-content/uploads/2020/06/live-music.jpg
END:VEVENT
BEGIN:VEVENT
DTSTART;TZID=UTC:20220201T190000
DTEND;TZID=UTC:20220201T190000
DTSTAMP:20260423T174449
CREATED:20211216T021530Z
LAST-MODIFIED:20211216T021530Z
UID:821-1643742000-1643742000@www.freddysbarrocks.com
SUMMARY:Taco Tuesday with Sugar Tips
DESCRIPTION:Not only is it Taco Tuesday but it is also our Jack of Spades Raffle. Every Tuesday the pot grows until one lucky winner finds the Jack of Spades. Each week there will be a separate $150 winner just because we love you all! Live music goes on at 7pm and the drawing is at 8pm. Proceeds go to The Kiwanis club of Clinton Township. Come say hi to them\, our staff and your host with the most Doug Simonson every Tuesday night!
URL:http://www.freddysbarrocks.com/event/taco-tuesday-with-sugar-tips-3/
LOCATION:Freddy’s Bar\, 40000 Garfield Rd\, Clinton Twp\, MI\, 48038
CATEGORIES:Concert
ATTACH;FMTTYPE=image/jpeg:http://www.freddysbarrocks.com/wp-content/uploads/2020/06/Jack-Of-Spades-Raffle-social.jpg
END:VEVENT
BEGIN:VEVENT
DTSTART;TZID=UTC:20220129T210000
DTEND;TZID=UTC:20220129T210000
DTSTAMP:20260423T174449
CREATED:20211216T021032Z
LAST-MODIFIED:20211216T021032Z
UID:819-1643490000-1643490000@www.freddysbarrocks.com
SUMMARY:Crazy Babies LIVE!
DESCRIPTION:Fresh off there appearance E Network’s Clash of the Cover Bands\, Crazy Babies is back and ready to rock out Freddy’s! We are selling limited tickets to this show and they are $20 each. They can be purchased at the bar. Call (586) 416-7777 for more information.
URL:http://www.freddysbarrocks.com/event/crazy-babies-live-2/
LOCATION:Freddy’s Bar\, 40000 Garfield Rd\, Clinton Twp\, MI\, 48038
CATEGORIES:Concert
ATTACH;FMTTYPE=image/jpeg:http://www.freddysbarrocks.com/wp-content/uploads/2021/12/crazy-baby-flier.jpg
END:VEVENT
BEGIN:VEVENT
DTSTART;TZID=UTC:20220128T210000
DTEND;TZID=UTC:20220128T210000
DTSTAMP:20260423T174449
CREATED:20211216T020954Z
LAST-MODIFIED:20211216T020954Z
UID:816-1643403600-1643403600@www.freddysbarrocks.com
SUMMARY:Crazy Babies LIVE!
DESCRIPTION:Fresh off there appearance E Network’s Clash of the Cover Bands\, Crazy Babies is back and ready to rock out Freddy’s! We are selling limited tickets to this show and they are $20 each. They can be purchased at the bar. Call (586) 416-7777 for more information.
URL:http://www.freddysbarrocks.com/event/crazy-babies-live/
LOCATION:Freddy’s Bar\, 40000 Garfield Rd\, Clinton Twp\, MI\, 48038
CATEGORIES:Concert
ATTACH;FMTTYPE=image/jpeg:http://www.freddysbarrocks.com/wp-content/uploads/2021/12/crazy-baby-flier.jpg
END:VEVENT
BEGIN:VEVENT
DTSTART;TZID=UTC:20220127T190000
DTEND;TZID=UTC:20220127T190000
DTSTAMP:20260423T174449
CREATED:20211216T013732Z
LAST-MODIFIED:20211216T013732Z
UID:801-1643310000-1643310000@www.freddysbarrocks.com
SUMMARY:LIVE MUSIC: Motor City Josh and the Big Three
DESCRIPTION:Live music starts at 7pm. Half off Pizza and $12 domestic buckets all night.
URL:http://www.freddysbarrocks.com/event/live-music-motor-city-josh-and-the-big-three/
LOCATION:Freddy’s Bar\, 40000 Garfield Rd\, Clinton Twp\, MI\, 48038
CATEGORIES:Concert
ATTACH;FMTTYPE=image/jpeg:http://www.freddysbarrocks.com/wp-content/uploads/2021/12/Motor-City-Josh.jpg
END:VEVENT
BEGIN:VEVENT
DTSTART;TZID=UTC:20220125T190000
DTEND;TZID=UTC:20220125T190000
DTSTAMP:20260423T174449
CREATED:20211216T011910Z
LAST-MODIFIED:20211216T011910Z
UID:792-1643137200-1643137200@www.freddysbarrocks.com
SUMMARY:Taco Tuesday with Doug Simonson
DESCRIPTION:Not only is it Taco Tuesday but it is also our Jack of Spades Raffle. Every Tuesday the pot grows until one lucky winner finds the Jack of Spades. Each week there will be a separate $150 winner just because we love you all! Live music goes on at 7pm and the drawing is at 8pm. Proceeds go to The Kiwanis club of Clinton Township. Come say hi to them\, our staff and your host with the most Doug Simonson every Tuesday night!
URL:http://www.freddysbarrocks.com/event/taco-tuesday-with-doug-simonson-3/
LOCATION:Freddy’s Bar\, 40000 Garfield Rd\, Clinton Twp\, MI\, 48038
CATEGORIES:Concert
ATTACH;FMTTYPE=image/jpeg:http://www.freddysbarrocks.com/wp-content/uploads/2020/06/Jack-Of-Spades-Raffle-social.jpg
END:VEVENT
BEGIN:VEVENT
DTSTART;TZID=UTC:20220122T210000
DTEND;TZID=UTC:20220122T210000
DTSTAMP:20260423T174449
CREATED:20211216T020159Z
LAST-MODIFIED:20211216T020159Z
UID:814-1642885200-1642885200@www.freddysbarrocks.com
SUMMARY:LIVE MUSIC: Stone Blossoms
DESCRIPTION:Live music starts at 9pm. We do accept a certain amount of reservations so make sure you call and save your spot. Freddy’s is the place to be for all of you live music lovin people!
URL:http://www.freddysbarrocks.com/event/live-music-stone-blossoms-4/
LOCATION:Freddy’s Bar\, 40000 Garfield Rd\, Clinton Twp\, MI\, 48038
CATEGORIES:Concert
ATTACH;FMTTYPE=image/png:http://www.freddysbarrocks.com/wp-content/uploads/2020/10/stone-blossoms.png
END:VEVENT
BEGIN:VEVENT
DTSTART;TZID=UTC:20220121T210000
DTEND;TZID=UTC:20220121T210000
DTSTAMP:20260423T174449
CREATED:20211216T020036Z
LAST-MODIFIED:20211216T020036Z
UID:812-1642798800-1642798800@www.freddysbarrocks.com
SUMMARY:LIVE MUSIC: Doin' Time
DESCRIPTION:Live music starts at 9pm. We do accept a certain amount of reservations so make sure you call and save your spot. Freddy’s is the place to be for all of you live music lovin people!
URL:http://www.freddysbarrocks.com/event/live-music-doin-time-6/
LOCATION:Freddy’s Bar\, 40000 Garfield Rd\, Clinton Twp\, MI\, 48038
CATEGORIES:Concert
ATTACH;FMTTYPE=image/jpeg:http://www.freddysbarrocks.com/wp-content/uploads/2020/10/Doin-Time-Logo.jpg
END:VEVENT
BEGIN:VEVENT
DTSTART;TZID=UTC:20220120T190000
DTEND;TZID=UTC:20220120T190000
DTSTAMP:20260423T174449
CREATED:20211216T012723Z
LAST-MODIFIED:20211216T012723Z
UID:799-1642705200-1642705200@www.freddysbarrocks.com
SUMMARY:LIVE MUSIC: Weekend Comeback Band
DESCRIPTION:Live music starts at 7pm. Half off Pizza and $12 domestic buckets all night.
URL:http://www.freddysbarrocks.com/event/live-music-weekend-comeback-band/
LOCATION:Freddy’s Bar\, 40000 Garfield Rd\, Clinton Twp\, MI\, 48038
CATEGORIES:Concert
ATTACH;FMTTYPE=image/jpeg:http://www.freddysbarrocks.com/wp-content/uploads/2021/07/Weekend-Comeback.jpg
END:VEVENT
BEGIN:VEVENT
DTSTART;TZID=UTC:20220118T190000
DTEND;TZID=UTC:20220118T190000
DTSTAMP:20260423T174449
CREATED:20211216T011826Z
LAST-MODIFIED:20211216T011826Z
UID:790-1642532400-1642532400@www.freddysbarrocks.com
SUMMARY:Taco Tuesday with Mike Adkins
DESCRIPTION:Not only is it Taco Tuesday but it is also our Jack of Spades Raffle. Every Tuesday the pot grows until one lucky winner finds the Jack of Spades. Each week there will be a separate $150 winner just because we love you all! Live music goes on at 7pm and the drawing is at 8pm. Proceeds go to The Kiwanis club of Clinton Township. Come say hi to them\, our staff and your host with the most Doug Simonson every Tuesday night!
URL:http://www.freddysbarrocks.com/event/taco-tuesday-with-mike-adkins-6/
LOCATION:Freddy’s Bar\, 40000 Garfield Rd\, Clinton Twp\, MI\, 48038
CATEGORIES:Concert
ATTACH;FMTTYPE=image/jpeg:http://www.freddysbarrocks.com/wp-content/uploads/2020/06/Jack-Of-Spades-Raffle-social.jpg
END:VEVENT
END:VCALENDAR