BEGIN:VCALENDAR
VERSION:2.0
PRODID:-//Freddys Bar &amp; Grill - ECPv6.8.3//NONSGML v1.0//EN
CALSCALE:GREGORIAN
METHOD:PUBLISH
X-WR-CALNAME:Freddys Bar &amp; Grill
X-ORIGINAL-URL:http://www.freddysbarrocks.com
X-WR-CALDESC:Events for Freddys Bar &amp; Grill
REFRESH-INTERVAL;VALUE=DURATION:PT1H
X-Robots-Tag:noindex
X-PUBLISHED-TTL:PT1H
BEGIN:VTIMEZONE
TZID:UTC
BEGIN:STANDARD
TZOFFSETFROM:+0000
TZOFFSETTO:+0000
TZNAME:UTC
DTSTART:20210101T000000
END:STANDARD
END:VTIMEZONE
BEGIN:VEVENT
DTSTART;TZID=UTC:20220120T190000
DTEND;TZID=UTC:20220120T190000
DTSTAMP:20260423T192117
CREATED:20211216T012723Z
LAST-MODIFIED:20211216T012723Z
UID:799-1642705200-1642705200@www.freddysbarrocks.com
SUMMARY:LIVE MUSIC: Weekend Comeback Band
DESCRIPTION:Live music starts at 7pm. Half off Pizza and $12 domestic buckets all night.
URL:http://www.freddysbarrocks.com/event/live-music-weekend-comeback-band/
LOCATION:Freddy’s Bar\, 40000 Garfield Rd\, Clinton Twp\, MI\, 48038
CATEGORIES:Concert
ATTACH;FMTTYPE=image/jpeg:http://www.freddysbarrocks.com/wp-content/uploads/2021/07/Weekend-Comeback.jpg
END:VEVENT
BEGIN:VEVENT
DTSTART;TZID=UTC:20220118T190000
DTEND;TZID=UTC:20220118T190000
DTSTAMP:20260423T192117
CREATED:20211216T011826Z
LAST-MODIFIED:20211216T011826Z
UID:790-1642532400-1642532400@www.freddysbarrocks.com
SUMMARY:Taco Tuesday with Mike Adkins
DESCRIPTION:Not only is it Taco Tuesday but it is also our Jack of Spades Raffle. Every Tuesday the pot grows until one lucky winner finds the Jack of Spades. Each week there will be a separate $150 winner just because we love you all! Live music goes on at 7pm and the drawing is at 8pm. Proceeds go to The Kiwanis club of Clinton Township. Come say hi to them\, our staff and your host with the most Doug Simonson every Tuesday night!
URL:http://www.freddysbarrocks.com/event/taco-tuesday-with-mike-adkins-6/
LOCATION:Freddy’s Bar\, 40000 Garfield Rd\, Clinton Twp\, MI\, 48038
CATEGORIES:Concert
ATTACH;FMTTYPE=image/jpeg:http://www.freddysbarrocks.com/wp-content/uploads/2020/06/Jack-Of-Spades-Raffle-social.jpg
END:VEVENT
BEGIN:VEVENT
DTSTART;TZID=UTC:20220115T210000
DTEND;TZID=UTC:20220115T210000
DTSTAMP:20260423T192117
CREATED:20211216T014925Z
LAST-MODIFIED:20211216T014925Z
UID:810-1642280400-1642280400@www.freddysbarrocks.com
SUMMARY:LIVE MUSIC: Parallel Fifth
DESCRIPTION:Live music starts at 9pm. We do accept a certain amount of reservations so make sure you call and save your spot. Freddy’s is the place to be for all of you live music lovin people!
URL:http://www.freddysbarrocks.com/event/live-music-parallel-fifth-8/
LOCATION:Freddy’s Bar\, 40000 Garfield Rd\, Clinton Twp\, MI\, 48038
CATEGORIES:Concert
ATTACH;FMTTYPE=image/jpeg:http://www.freddysbarrocks.com/wp-content/uploads/2021/07/Parallel-Fifth.jpg
END:VEVENT
BEGIN:VEVENT
DTSTART;TZID=UTC:20220114T210000
DTEND;TZID=UTC:20220114T210000
DTSTAMP:20260423T192117
CREATED:20211216T014833Z
LAST-MODIFIED:20211216T014833Z
UID:808-1642194000-1642194000@www.freddysbarrocks.com
SUMMARY:LIVE MUSIC: Parallel Fifth
DESCRIPTION:Live music starts at 9pm. We do accept a certain amount of reservations so make sure you call and save your spot. Freddy’s is the place to be for all of you live music lovin people!
URL:http://www.freddysbarrocks.com/event/live-music-parallel-fifth-7/
LOCATION:Freddy’s Bar\, 40000 Garfield Rd\, Clinton Twp\, MI\, 48038
CATEGORIES:Concert
ATTACH;FMTTYPE=image/jpeg:http://www.freddysbarrocks.com/wp-content/uploads/2021/07/Parallel-Fifth.jpg
END:VEVENT
BEGIN:VEVENT
DTSTART;TZID=UTC:20220113T190000
DTEND;TZID=UTC:20220113T190000
DTSTAMP:20260423T192117
CREATED:20211216T012555Z
LAST-MODIFIED:20211216T012555Z
UID:796-1642100400-1642100400@www.freddysbarrocks.com
SUMMARY:LIVE MUSIC: Eastside Still Alive
DESCRIPTION:Live music starts at 7pm. Half off Pizza and $12 domestic buckets all night.
URL:http://www.freddysbarrocks.com/event/live-music-eastside-still-alive/
LOCATION:Freddy’s Bar\, 40000 Garfield Rd\, Clinton Twp\, MI\, 48038
CATEGORIES:Concert
ATTACH;FMTTYPE=image/jpeg:http://www.freddysbarrocks.com/wp-content/uploads/2021/12/Eastside-Still-Alive.jpg
END:VEVENT
BEGIN:VEVENT
DTSTART;TZID=UTC:20220111T190000
DTEND;TZID=UTC:20220111T190000
DTSTAMP:20260423T192117
CREATED:20211216T011306Z
LAST-MODIFIED:20211216T011732Z
UID:788-1641927600-1641927600@www.freddysbarrocks.com
SUMMARY:Taco Tuesday with Justin Alexander
DESCRIPTION:Not only is it Taco Tuesday but it is also our Jack of Spades Raffle. Every Tuesday the pot grows until one lucky winner finds the Jack of Spades. Each week there will be a separate $150 winner just because we love you all! Live music goes on at 7pm and the drawing is at 8pm. Proceeds go to The Kiwanis club of Clinton Township. Come say hi to them\, our staff and your host with the most Doug Simonson every Tuesday night!
URL:http://www.freddysbarrocks.com/event/taco-tuesday-with-justin-alexander-9/
LOCATION:Freddy’s Bar\, 40000 Garfield Rd\, Clinton Twp\, MI\, 48038
CATEGORIES:Concert
ATTACH;FMTTYPE=image/jpeg:http://www.freddysbarrocks.com/wp-content/uploads/2020/06/Jack-Of-Spades-Raffle-social.jpg
END:VEVENT
BEGIN:VEVENT
DTSTART;TZID=UTC:20220108T210000
DTEND;TZID=UTC:20220108T210000
DTSTAMP:20260423T192117
CREATED:20211216T014016Z
LAST-MODIFIED:20211216T014016Z
UID:806-1641675600-1641675600@www.freddysbarrocks.com
SUMMARY:LIVE MUSIC: Planet
DESCRIPTION:Live music starts at 9pm. We do accept a certain amount of reservations so make sure you call and save your spot. Freddy’s is the place to be for all of you live music lovin people!
URL:http://www.freddysbarrocks.com/event/live-music-planet-2/
LOCATION:Freddy’s Bar\, 40000 Garfield Rd\, Clinton Twp\, MI\, 48038
CATEGORIES:Concert
ATTACH;FMTTYPE=image/jpeg:http://www.freddysbarrocks.com/wp-content/uploads/2020/10/Planet-of-Fun.jpg
END:VEVENT
BEGIN:VEVENT
DTSTART;TZID=UTC:20220107T210000
DTEND;TZID=UTC:20220107T210000
DTSTAMP:20260423T192117
CREATED:20211216T013903Z
LAST-MODIFIED:20211216T013903Z
UID:804-1641589200-1641589200@www.freddysbarrocks.com
SUMMARY:LIVE MUSIC: Planet
DESCRIPTION:Live music starts at 9pm. We do accept a certain amount of reservations so make sure you call and save your spot. Freddy’s is the place to be for all of you live music lovin people!
URL:http://www.freddysbarrocks.com/event/live-music-planet/
LOCATION:Freddy’s Bar\, 40000 Garfield Rd\, Clinton Twp\, MI\, 48038
CATEGORIES:Concert
ATTACH;FMTTYPE=image/jpeg:http://www.freddysbarrocks.com/wp-content/uploads/2020/10/Planet-of-Fun.jpg
END:VEVENT
BEGIN:VEVENT
DTSTART;TZID=UTC:20220106T190000
DTEND;TZID=UTC:20220106T190000
DTSTAMP:20260423T192117
CREATED:20211216T012231Z
LAST-MODIFIED:20211216T012231Z
UID:794-1641495600-1641495600@www.freddysbarrocks.com
SUMMARY:LIVE MUSIC: Sugar Tips Band
DESCRIPTION:Live music starts at 7pm. Half off Pizza and $12 domestic buckets all night.
URL:http://www.freddysbarrocks.com/event/live-music-sugar-tips-band/
LOCATION:Freddy’s Bar\, 40000 Garfield Rd\, Clinton Twp\, MI\, 48038
CATEGORIES:Concert
ATTACH;FMTTYPE=image/jpeg:http://www.freddysbarrocks.com/wp-content/uploads/2020/06/live-music.jpg
END:VEVENT
BEGIN:VEVENT
DTSTART;TZID=UTC:20220104T190000
DTEND;TZID=UTC:20220104T190000
DTSTAMP:20260423T192117
CREATED:20211216T011114Z
LAST-MODIFIED:20211216T011114Z
UID:786-1641322800-1641322800@www.freddysbarrocks.com
SUMMARY:Taco Tuesday with Weekend Comeback
DESCRIPTION:Not only is it Taco Tuesday but it is also our Jack of Spades Raffle. Every Tuesday the pot grows until one lucky winner finds the Jack of Spades. Each week there will be a separate $150 winner just because we love you all! Live music goes on at 7pm and the drawing is at 8pm. Proceeds go to The Kiwanis club of Clinton Township. Come say hi to them\, our staff and your host with the most Doug Simonson every Tuesday night!
URL:http://www.freddysbarrocks.com/event/taco-tuesday-with-weekend-comeback-9/
LOCATION:Freddy’s Bar\, 40000 Garfield Rd\, Clinton Twp\, MI\, 48038
CATEGORIES:Concert
ATTACH;FMTTYPE=image/jpeg:http://www.freddysbarrocks.com/wp-content/uploads/2020/06/Jack-Of-Spades-Raffle-social.jpg
END:VEVENT
BEGIN:VEVENT
DTSTART;TZID=UTC:20211228T190000
DTEND;TZID=UTC:20211228T190000
DTSTAMP:20260423T192117
CREATED:20211016T031315Z
LAST-MODIFIED:20211016T031315Z
UID:757-1640718000-1640718000@www.freddysbarrocks.com
SUMMARY:Taco Tuesday with Mike Adkins
DESCRIPTION:Not only is it Taco Tuesday but it is also our Jack of Spades Raffle. Every Tuesday the pot grows until one lucky winner finds the Jack of Spades. Each week there will be a separate $150 winner just because we love you all! Live music goes on at 7pm and the drawing is at 8pm. Proceeds go to The Kiwanis club of Clinton Township. Come say hi to them\, our staff and your host with the most Doug Simonson every Tuesday night!
URL:http://www.freddysbarrocks.com/event/taco-tuesday-with-mike-adkins-5/
LOCATION:Freddy’s Bar\, 40000 Garfield Rd\, Clinton Twp\, MI\, 48038
CATEGORIES:Concert
ATTACH;FMTTYPE=image/jpeg:http://www.freddysbarrocks.com/wp-content/uploads/2020/06/Jack-Of-Spades-Raffle-social.jpg
END:VEVENT
BEGIN:VEVENT
DTSTART;TZID=UTC:20211223T190000
DTEND;TZID=UTC:20211223T190000
DTSTAMP:20260423T192117
CREATED:20211016T031904Z
LAST-MODIFIED:20211016T031904Z
UID:767-1640286000-1640286000@www.freddysbarrocks.com
SUMMARY:LIVE MUSIC: AJ Kish Band
DESCRIPTION:Live music starts at 7pm. Half off Pizza and $12 domestic buckets all night.
URL:http://www.freddysbarrocks.com/event/live-music-aj-kish-band/
LOCATION:Freddy’s Bar\, 40000 Garfield Rd\, Clinton Twp\, MI\, 48038
CATEGORIES:Concert
ATTACH;FMTTYPE=image/jpeg:http://www.freddysbarrocks.com/wp-content/uploads/2020/06/live-music.jpg
END:VEVENT
BEGIN:VEVENT
DTSTART;TZID=UTC:20211221T190000
DTEND;TZID=UTC:20211221T190000
DTSTAMP:20260423T192117
CREATED:20211016T031208Z
LAST-MODIFIED:20211016T031224Z
UID:755-1640113200-1640113200@www.freddysbarrocks.com
SUMMARY:Taco Tuesday with Justin Alexander
DESCRIPTION:Not only is it Taco Tuesday but it is also our Jack of Spades Raffle. Every Tuesday the pot grows until one lucky winner finds the Jack of Spades. Each week there will be a separate $150 winner just because we love you all! Live music goes on at 7pm and the drawing is at 8pm. Proceeds go to The Kiwanis club of Clinton Township. Come say hi to them\, our staff and your host with the most Doug Simonson every Tuesday night!
URL:http://www.freddysbarrocks.com/event/taco-tuesday-with-justin-alexander-8/
LOCATION:Freddy’s Bar\, 40000 Garfield Rd\, Clinton Twp\, MI\, 48038
CATEGORIES:Concert
ATTACH;FMTTYPE=image/jpeg:http://www.freddysbarrocks.com/wp-content/uploads/2020/06/Jack-Of-Spades-Raffle-social.jpg
END:VEVENT
BEGIN:VEVENT
DTSTART;TZID=UTC:20211218T210000
DTEND;TZID=UTC:20211218T210000
DTSTAMP:20260423T192117
CREATED:20211016T032244Z
LAST-MODIFIED:20211201T213838Z
UID:775-1639861200-1639861200@www.freddysbarrocks.com
SUMMARY:LIVE MUSIC: Reckless Revival Ugly Christmas Sweater Party
DESCRIPTION:Live music starts at 9pm. We do accept a certain amount of reservations so make sure you call and save your spot. Freddy’s is the place to be for all of you live music lovin people!
URL:http://www.freddysbarrocks.com/event/live-music-ocd-3/
LOCATION:Freddy’s Bar\, 40000 Garfield Rd\, Clinton Twp\, MI\, 48038
CATEGORIES:Concert
ATTACH;FMTTYPE=image/jpeg:http://www.freddysbarrocks.com/wp-content/uploads/2021/10/Ugly-Christmas-Sweater-Party-2021-outside.jpg
END:VEVENT
BEGIN:VEVENT
DTSTART;TZID=UTC:20211217T210000
DTEND;TZID=UTC:20211217T210000
DTSTAMP:20260423T192117
CREATED:20211016T032411Z
LAST-MODIFIED:20211215T021202Z
UID:777-1639774800-1639774800@www.freddysbarrocks.com
SUMMARY:LIVE MUSIC: Doin' Time
DESCRIPTION:Live music starts at 9pm. We do accept a certain amount of reservations so make sure you call and save your spot. Freddy’s is the place to be for all of you live music lovin people!
URL:http://www.freddysbarrocks.com/event/live-music-doin-time-5/
LOCATION:Freddy’s Bar\, 40000 Garfield Rd\, Clinton Twp\, MI\, 48038
CATEGORIES:Concert
ATTACH;FMTTYPE=image/jpeg:http://www.freddysbarrocks.com/wp-content/uploads/2021/09/Doin-Time-Logo.jpg
END:VEVENT
BEGIN:VEVENT
DTSTART;TZID=UTC:20211216T190000
DTEND;TZID=UTC:20211216T190000
DTSTAMP:20260423T192117
CREATED:20211016T031818Z
LAST-MODIFIED:20211016T031818Z
UID:765-1639681200-1639681200@www.freddysbarrocks.com
SUMMARY:LIVE MUSIC: Max Cadence
DESCRIPTION:Live music starts at 7pm. Half off Pizza and $12 domestic buckets all night.
URL:http://www.freddysbarrocks.com/event/live-music-max-cadence/
LOCATION:Freddy’s Bar\, 40000 Garfield Rd\, Clinton Twp\, MI\, 48038
CATEGORIES:Concert
ATTACH;FMTTYPE=image/jpeg:http://www.freddysbarrocks.com/wp-content/uploads/2020/06/live-music.jpg
END:VEVENT
BEGIN:VEVENT
DTSTART;TZID=UTC:20211214T190000
DTEND;TZID=UTC:20211214T190000
DTSTAMP:20260423T192117
CREATED:20211016T031125Z
LAST-MODIFIED:20211016T031125Z
UID:753-1639508400-1639508400@www.freddysbarrocks.com
SUMMARY:Taco Tuesday with Weekend Comeback
DESCRIPTION:Not only is it Taco Tuesday but it is also our Jack of Spades Raffle. Every Tuesday the pot grows until one lucky winner finds the Jack of Spades. Each week there will be a separate $150 winner just because we love you all! Live music goes on at 7pm and the drawing is at 8pm. Proceeds go to The Kiwanis club of Clinton Township. Come say hi to them\, our staff and your host with the most Doug Simonson every Tuesday night!
URL:http://www.freddysbarrocks.com/event/taco-tuesday-with-weekend-comeback-8/
LOCATION:Freddy’s Bar\, 40000 Garfield Rd\, Clinton Twp\, MI\, 48038
CATEGORIES:Concert
ATTACH;FMTTYPE=image/jpeg:http://www.freddysbarrocks.com/wp-content/uploads/2020/06/Jack-Of-Spades-Raffle-social.jpg
END:VEVENT
BEGIN:VEVENT
DTSTART;TZID=UTC:20211211T210000
DTEND;TZID=UTC:20211211T210000
DTSTAMP:20260423T192117
CREATED:20211016T032203Z
LAST-MODIFIED:20211201T213934Z
UID:773-1639256400-1639256400@www.freddysbarrocks.com
SUMMARY:LIVE MUSIC: Doin' Time
DESCRIPTION:Live music starts at 9pm. We do accept a certain amount of reservations so make sure you call and save your spot. Freddy’s is the place to be for all of you live music lovin people!
URL:http://www.freddysbarrocks.com/event/live-music-parallel-fifth-6/
LOCATION:Freddy’s Bar\, 40000 Garfield Rd\, Clinton Twp\, MI\, 48038
CATEGORIES:Concert
ATTACH;FMTTYPE=image/jpeg:http://www.freddysbarrocks.com/wp-content/uploads/2021/09/Doin-Time-Logo.jpg
END:VEVENT
BEGIN:VEVENT
DTSTART;TZID=UTC:20211210T210000
DTEND;TZID=UTC:20211210T210000
DTSTAMP:20260423T192117
CREATED:20211016T032127Z
LAST-MODIFIED:20211201T214027Z
UID:771-1639170000-1639170000@www.freddysbarrocks.com
SUMMARY:LIVE MUSIC: Detroit's Own Soul Review
DESCRIPTION:Live music starts at 9pm. We do accept a certain amount of reservations so make sure you call and save your spot. Freddy’s is the place to be for all of you live music lovin people!
URL:http://www.freddysbarrocks.com/event/live-music-parallel-fifth-5/
LOCATION:Freddy’s Bar\, 40000 Garfield Rd\, Clinton Twp\, MI\, 48038
CATEGORIES:Concert
ATTACH;FMTTYPE=image/jpeg:http://www.freddysbarrocks.com/wp-content/uploads/2020/06/live-music.jpg
END:VEVENT
BEGIN:VEVENT
DTSTART;TZID=UTC:20211209T190000
DTEND;TZID=UTC:20211209T190000
DTSTAMP:20260423T192117
CREATED:20211016T031616Z
LAST-MODIFIED:20211016T031709Z
UID:761-1639076400-1639076400@www.freddysbarrocks.com
SUMMARY:BIKE NIGHT CHRISTMAS: With Sugar Tips
DESCRIPTION:We will be giving thanks to all who support us all bike night season with a free holiday dinner starting at 7pm. Live music starts at 7pm. Half off Pizza and $12 domestic buckets all night.
URL:http://www.freddysbarrocks.com/event/bike-night-christmas-with-sugar-tips/
LOCATION:Freddy’s Bar\, 40000 Garfield Rd\, Clinton Twp\, MI\, 48038
CATEGORIES:Concert
ATTACH;FMTTYPE=image/jpeg:http://www.freddysbarrocks.com/wp-content/uploads/2021/10/Bike-Night-Logo-White-Background.jpg
END:VEVENT
BEGIN:VEVENT
DTSTART;TZID=UTC:20211207T190000
DTEND;TZID=UTC:20211207T190000
DTSTAMP:20260423T192117
CREATED:20211016T031048Z
LAST-MODIFIED:20211016T031048Z
UID:751-1638903600-1638903600@www.freddysbarrocks.com
SUMMARY:Taco Tuesday with Johnny P
DESCRIPTION:Not only is it Taco Tuesday but it is also our Jack of Spades Raffle. Every Tuesday the pot grows until one lucky winner finds the Jack of Spades. Each week there will be a separate $150 winner just because we love you all! Live music goes on at 7pm and the drawing is at 8pm. Proceeds go to The Kiwanis club of Clinton Township. Come say hi to them\, our staff and your host with the most Doug Simonson every Tuesday night!
URL:http://www.freddysbarrocks.com/event/taco-tuesday-with-johnny-p/
LOCATION:Freddy’s Bar\, 40000 Garfield Rd\, Clinton Twp\, MI\, 48038
CATEGORIES:Concert
ATTACH;FMTTYPE=image/jpeg:http://www.freddysbarrocks.com/wp-content/uploads/2020/06/Jack-Of-Spades-Raffle-social.jpg
END:VEVENT
BEGIN:VEVENT
DTSTART;TZID=UTC:20211203T210000
DTEND;TZID=UTC:20211203T210000
DTSTAMP:20260423T192117
CREATED:20211016T032029Z
LAST-MODIFIED:20211016T032029Z
UID:769-1638565200-1638565200@www.freddysbarrocks.com
SUMMARY:LIVE MUSIC: Stone Blossoms
DESCRIPTION:Live music starts at 9pm. We do accept a certain amount of reservations so make sure you call and save your spot. Freddy’s is the place to be for all of you live music lovin people!
URL:http://www.freddysbarrocks.com/event/live-music-stone-blossoms-3/
LOCATION:Freddy’s Bar\, 40000 Garfield Rd\, Clinton Twp\, MI\, 48038
CATEGORIES:Concert
ATTACH;FMTTYPE=image/png:http://www.freddysbarrocks.com/wp-content/uploads/2020/10/stone-blossoms.png
END:VEVENT
BEGIN:VEVENT
DTSTART;TZID=UTC:20211202T190000
DTEND;TZID=UTC:20211202T190000
DTSTAMP:20260423T192117
CREATED:20211016T031427Z
LAST-MODIFIED:20211016T031427Z
UID:759-1638471600-1638471600@www.freddysbarrocks.com
SUMMARY:LIVE MUSIC: Weekend Comeback
DESCRIPTION:Live music starts at 7pm. Half off Pizza and $12 domestic buckets all night.
URL:http://www.freddysbarrocks.com/event/live-music-weekend-comeback-3/
LOCATION:Freddy’s Bar\, 40000 Garfield Rd\, Clinton Twp\, MI\, 48038
CATEGORIES:Concert
ATTACH;FMTTYPE=image/jpeg:http://www.freddysbarrocks.com/wp-content/uploads/2021/07/Weekend-Comeback.jpg
END:VEVENT
BEGIN:VEVENT
DTSTART;TZID=UTC:20211130T190000
DTEND;TZID=UTC:20211130T190000
DTSTAMP:20260423T192117
CREATED:20211016T025732Z
LAST-MODIFIED:20211016T025732Z
UID:729-1638298800-1638298800@www.freddysbarrocks.com
SUMMARY:Taco Tuesday with Weekend Comeback
DESCRIPTION:Not only is it Taco Tuesday but it is also our Jack of Spades Raffle. Every Tuesday the pot grows until one lucky winner finds the Jack of Spades. Each week there will be a separate $150 winner just because we love you all! Live music goes on at 7pm and the drawing is at 8pm. Proceeds go to The Kiwanis club of Clinton Township. Come say hi to them\, our staff and your host with the most Doug Simonson every Tuesday night!
URL:http://www.freddysbarrocks.com/event/taco-tuesday-with-weekend-comeback-7/
LOCATION:Freddy’s Bar\, 40000 Garfield Rd\, Clinton Twp\, MI\, 48038
CATEGORIES:Concert
ATTACH;FMTTYPE=image/jpeg:http://www.freddysbarrocks.com/wp-content/uploads/2020/06/Jack-Of-Spades-Raffle-social.jpg
END:VEVENT
BEGIN:VEVENT
DTSTART;TZID=UTC:20211127T210000
DTEND;TZID=UTC:20211127T210000
DTSTAMP:20260423T192117
CREATED:20211016T030600Z
LAST-MODIFIED:20211016T030600Z
UID:744-1638046800-1638046800@www.freddysbarrocks.com
SUMMARY:LIVE MUSIC: Planet of Fun
DESCRIPTION:Live music starts at 9pm. We do accept a certain amount of reservations so make sure you call and save your spot. Freddy’s is the place to be for all of you live music lovin people!
URL:http://www.freddysbarrocks.com/event/live-music-planet-of-fun-14/
LOCATION:Freddy’s Bar\, 40000 Garfield Rd\, Clinton Twp\, MI\, 48038
CATEGORIES:Concert
ATTACH;FMTTYPE=image/jpeg:http://www.freddysbarrocks.com/wp-content/uploads/2020/10/Planet-of-Fun.jpg
END:VEVENT
BEGIN:VEVENT
DTSTART;TZID=UTC:20211126T210000
DTEND;TZID=UTC:20211126T210000
DTSTAMP:20260423T192117
CREATED:20211016T030634Z
LAST-MODIFIED:20211016T030634Z
UID:746-1637960400-1637960400@www.freddysbarrocks.com
SUMMARY:LIVE MUSIC: Planet of Fun
DESCRIPTION:Live music starts at 9pm. We do accept a certain amount of reservations so make sure you call and save your spot. Freddy’s is the place to be for all of you live music lovin people!
URL:http://www.freddysbarrocks.com/event/live-music-planet-of-fun-15/
LOCATION:Freddy’s Bar\, 40000 Garfield Rd\, Clinton Twp\, MI\, 48038
CATEGORIES:Concert
ATTACH;FMTTYPE=image/jpeg:http://www.freddysbarrocks.com/wp-content/uploads/2020/10/Planet-of-Fun.jpg
END:VEVENT
BEGIN:VEVENT
DTSTART;TZID=UTC:20211123T190000
DTEND;TZID=UTC:20211123T190000
DTSTAMP:20260423T192117
CREATED:20211016T025649Z
LAST-MODIFIED:20211016T025649Z
UID:727-1637694000-1637694000@www.freddysbarrocks.com
SUMMARY:Taco Tuesday with Mike Adkins
DESCRIPTION:Not only is it Taco Tuesday but it is also our Jack of Spades Raffle. Every Tuesday the pot grows until one lucky winner finds the Jack of Spades. Each week there will be a separate $150 winner just because we love you all! Live music goes on at 7pm and the drawing is at 8pm. Proceeds go to The Kiwanis club of Clinton Township. Come say hi to them\, our staff and your host with the most Doug Simonson every Tuesday night!
URL:http://www.freddysbarrocks.com/event/taco-tuesday-with-mike-adkins-4/
LOCATION:Freddy’s Bar\, 40000 Garfield Rd\, Clinton Twp\, MI\, 48038
CATEGORIES:Concert
ATTACH;FMTTYPE=image/jpeg:http://www.freddysbarrocks.com/wp-content/uploads/2020/06/Jack-Of-Spades-Raffle-social.jpg
END:VEVENT
BEGIN:VEVENT
DTSTART;TZID=UTC:20211120T210000
DTEND;TZID=UTC:20211120T210000
DTSTAMP:20260423T192117
CREATED:20211016T030516Z
LAST-MODIFIED:20211016T030516Z
UID:742-1637442000-1637442000@www.freddysbarrocks.com
SUMMARY:LIVE MUSIC: Rockstar
DESCRIPTION:Doors open at 8pm for 80’s live music experience of a lifetime. Tickets are $20 and can be purchases at the bar or by calling (586) 416-7777. Limited tickets available so act fast!
URL:http://www.freddysbarrocks.com/event/live-music-rockstar-2/
LOCATION:Freddy’s Bar\, 40000 Garfield Rd\, Clinton Twp\, MI\, 48038
CATEGORIES:Concert
ATTACH;FMTTYPE=image/jpeg:http://www.freddysbarrocks.com/wp-content/uploads/2021/10/Rockstar-Band-Double-Event-Split-screen.jpg
END:VEVENT
BEGIN:VEVENT
DTSTART;TZID=UTC:20211119T210000
DTEND;TZID=UTC:20211119T210000
DTSTAMP:20260423T192117
CREATED:20211016T030444Z
LAST-MODIFIED:20211016T030444Z
UID:739-1637355600-1637355600@www.freddysbarrocks.com
SUMMARY:LIVE MUSIC: Rockstar
DESCRIPTION:Doors open at 8pm for 80’s live music experience of a lifetime. Tickets are $20 and can be purchases at the bar or by calling (586) 416-7777. Limited tickets available so act fast!
URL:http://www.freddysbarrocks.com/event/live-music-rockstar/
LOCATION:Freddy’s Bar\, 40000 Garfield Rd\, Clinton Twp\, MI\, 48038
CATEGORIES:Concert
ATTACH;FMTTYPE=image/jpeg:http://www.freddysbarrocks.com/wp-content/uploads/2021/10/Rockstar-Band-Double-Event-Split-screen.jpg
END:VEVENT
BEGIN:VEVENT
DTSTART;TZID=UTC:20211118T190000
DTEND;TZID=UTC:20211118T190000
DTSTAMP:20260423T192117
CREATED:20210920T211019Z
LAST-MODIFIED:20210920T211019Z
UID:713-1637262000-1637262000@www.freddysbarrocks.com
SUMMARY:LIVE MUSIC: Classic Maniacs
DESCRIPTION:Live music starts at 7pm. Half off Pizza and $12 domestic buckets all night.
URL:http://www.freddysbarrocks.com/event/live-music-classic-maniacs-2/
LOCATION:Freddy’s Bar\, 40000 Garfield Rd\, Clinton Twp\, MI\, 48038
CATEGORIES:Concert
ATTACH;FMTTYPE=image/jpeg:http://www.freddysbarrocks.com/wp-content/uploads/2020/06/live-music.jpg
END:VEVENT
END:VCALENDAR