BEGIN:VCALENDAR
VERSION:2.0
PRODID:-//Freddys Bar &amp; Grill - ECPv6.8.3//NONSGML v1.0//EN
CALSCALE:GREGORIAN
METHOD:PUBLISH
X-WR-CALNAME:Freddys Bar &amp; Grill
X-ORIGINAL-URL:http://www.freddysbarrocks.com
X-WR-CALDESC:Events for Freddys Bar &amp; Grill
REFRESH-INTERVAL;VALUE=DURATION:PT1H
X-Robots-Tag:noindex
X-PUBLISHED-TTL:PT1H
BEGIN:VTIMEZONE
TZID:UTC
BEGIN:STANDARD
TZOFFSETFROM:+0000
TZOFFSETTO:+0000
TZNAME:UTC
DTSTART:20210101T000000
END:STANDARD
END:VTIMEZONE
BEGIN:VEVENT
DTSTART;TZID=UTC:20211105T210000
DTEND;TZID=UTC:20211105T210000
DTSTAMP:20260423T225506
CREATED:20211016T025904Z
LAST-MODIFIED:20211016T025904Z
UID:731-1636146000-1636146000@www.freddysbarrocks.com
SUMMARY:LIVE MUSIC: Parallel Fifth
DESCRIPTION:Live music starts at 9pm. We do accept a certain amount of reservations so make sure you call and save your spot. Freddy’s is the place to be for all of you live music lovin people!
URL:http://www.freddysbarrocks.com/event/live-music-parallel-fifth-3/
LOCATION:Freddy’s Bar\, 40000 Garfield Rd\, Clinton Twp\, MI\, 48038
CATEGORIES:Concert
ATTACH;FMTTYPE=image/jpeg:http://www.freddysbarrocks.com/wp-content/uploads/2021/07/Parallel-Fifth.jpg
END:VEVENT
BEGIN:VEVENT
DTSTART;TZID=UTC:20211104T190000
DTEND;TZID=UTC:20211104T190000
DTSTAMP:20260423T225506
CREATED:20210920T210721Z
LAST-MODIFIED:20210920T210721Z
UID:709-1636052400-1636052400@www.freddysbarrocks.com
SUMMARY:LIVE MUSIC: Planet of Fun
DESCRIPTION:Live music starts at 7pm. Half off Pizza and $12 domestic buckets all night.
URL:http://www.freddysbarrocks.com/event/live-music-planet-of-fun-13/
LOCATION:Freddy’s Bar\, 40000 Garfield Rd\, Clinton Twp\, MI\, 48038
CATEGORIES:Concert
ATTACH;FMTTYPE=image/jpeg:http://www.freddysbarrocks.com/wp-content/uploads/2020/10/Planet-of-Fun.jpg
END:VEVENT
BEGIN:VEVENT
DTSTART;TZID=UTC:20211102T190000
DTEND;TZID=UTC:20211102T190000
DTSTAMP:20260423T225506
CREATED:20211016T025419Z
LAST-MODIFIED:20211016T025419Z
UID:721-1635879600-1635879600@www.freddysbarrocks.com
SUMMARY:Taco Tuesday with Weekend Comeback
DESCRIPTION:Not only is it Taco Tuesday but it is also our Jack of Spades Raffle. Every Tuesday the pot grows until one lucky winner finds the Jack of Spades. Each week there will be a separate $150 winner just because we love you all! Live music goes on at 7pm and the drawing is at 8pm. Proceeds go to The Kiwanis club of Clinton Township. Come say hi to them\, our staff and your host with the most Doug Simonson every Tuesday night!
URL:http://www.freddysbarrocks.com/event/taco-tuesday-with-weekend-comeback-6/
LOCATION:Freddy’s Bar\, 40000 Garfield Rd\, Clinton Twp\, MI\, 48038
CATEGORIES:Concert
ATTACH;FMTTYPE=image/jpeg:http://www.freddysbarrocks.com/wp-content/uploads/2020/06/Jack-Of-Spades-Raffle-social.jpg
END:VEVENT
BEGIN:VEVENT
DTSTART;TZID=UTC:20211030T210000
DTEND;TZID=UTC:20211030T210000
DTSTAMP:20260423T225506
CREATED:20210907T171609Z
LAST-MODIFIED:20211016T030900Z
UID:691-1635627600-1635627600@www.freddysbarrocks.com
SUMMARY:Halloween Bash w/Planet of Fun
DESCRIPTION:Freddy’s annual costume party. $100 best costume\, $50 sexiest and $50 funniest cash prizes to be given out during the second and third set. Planet of Fun rocks the house every year!
URL:http://www.freddysbarrocks.com/event/live-music-planet-of-fun-12/
LOCATION:Freddy’s Bar\, 40000 Garfield Rd\, Clinton Twp\, MI\, 48038
CATEGORIES:Concert
ATTACH;FMTTYPE=image/jpeg:http://www.freddysbarrocks.com/wp-content/uploads/2021/09/Freddys-Halloween-Bash-2021-social-.jpg
END:VEVENT
BEGIN:VEVENT
DTSTART;TZID=UTC:20211029T210000
DTEND;TZID=UTC:20211029T210000
DTSTAMP:20260423T225506
CREATED:20210907T171528Z
LAST-MODIFIED:20210907T171528Z
UID:689-1635541200-1635541200@www.freddysbarrocks.com
SUMMARY:LIVE MUSIC: Planet of Fun
DESCRIPTION:Live music starts at 9pm. We do accept a certain amount of reservations so make sure you call and save your spot. Freddy’s is the place to be for all of you live music lovin people!
URL:http://www.freddysbarrocks.com/event/live-music-planet-of-fun-11/
LOCATION:Freddy’s Bar\, 40000 Garfield Rd\, Clinton Twp\, MI\, 48038
CATEGORIES:Concert
ATTACH;FMTTYPE=image/jpeg:http://www.freddysbarrocks.com/wp-content/uploads/2020/10/Planet-of-Fun.jpg
END:VEVENT
BEGIN:VEVENT
DTSTART;TZID=UTC:20211026T190000
DTEND;TZID=UTC:20211026T190000
DTSTAMP:20260423T225506
CREATED:20210907T172152Z
LAST-MODIFIED:20210907T172152Z
UID:699-1635274800-1635274800@www.freddysbarrocks.com
SUMMARY:Taco Tuesday with Sugar Tips
DESCRIPTION:Not only is it Taco Tuesday but it is also our Jack of Spades Raffle. Every Tuesday the pot grows until one lucky winner finds the Jack of Spades. Each week there will be a separate $150 winner just because we love you all! Live music goes on at 7pm and the drawing is at 8pm. Proceeds go to The Kiwanis club of Clinton Township. Come say hi to them\, our staff and your host with the most Doug Simonson every Tuesday night!
URL:http://www.freddysbarrocks.com/event/taco-tuesday-with-sugar-tips/
LOCATION:Freddy’s Bar\, 40000 Garfield Rd\, Clinton Twp\, MI\, 48038
CATEGORIES:Concert
ATTACH;FMTTYPE=image/jpeg:http://www.freddysbarrocks.com/wp-content/uploads/2020/06/Jack-Of-Spades-Raffle-social.jpg
END:VEVENT
BEGIN:VEVENT
DTSTART;TZID=UTC:20211023T210000
DTEND;TZID=UTC:20211023T210000
DTSTAMP:20260423T225506
CREATED:20210708T020431Z
LAST-MODIFIED:20210907T171358Z
UID:646-1635022800-1635022800@www.freddysbarrocks.com
SUMMARY:LIVE MUSIC: Chit
DESCRIPTION:Live music starts at 9pm. We do accept a certain amount of reservations so make sure you call and save your spot. Freddy’s is the place to be for all of you live music lovin people!
URL:http://www.freddysbarrocks.com/event/live-music-doin-time-3/
LOCATION:Freddy’s Bar\, 40000 Garfield Rd\, Clinton Twp\, MI\, 48038
CATEGORIES:Concert
ATTACH;FMTTYPE=image/jpeg:http://www.freddysbarrocks.com/wp-content/uploads/2020/10/chit.jpg
END:VEVENT
BEGIN:VEVENT
DTSTART;TZID=UTC:20211022T210000
DTEND;TZID=UTC:20211022T210000
DTSTAMP:20260423T225506
CREATED:20210907T171241Z
LAST-MODIFIED:20210907T171241Z
UID:684-1634936400-1634936400@www.freddysbarrocks.com
SUMMARY:LIVE MUSIC: Reckless Abandon
DESCRIPTION:Live music starts at 9pm. We do accept a certain amount of reservations so make sure you call and save your spot. Freddy’s is the place to be for all of you live music lovin people!
URL:http://www.freddysbarrocks.com/event/live-music-reckless-abandon/
LOCATION:Freddy’s Bar\, 40000 Garfield Rd\, Clinton Twp\, MI\, 48038
CATEGORIES:Concert
ATTACH;FMTTYPE=image/jpeg:http://www.freddysbarrocks.com/wp-content/uploads/2021/09/Reckless-Abandon.jpg
END:VEVENT
BEGIN:VEVENT
DTSTART;TZID=UTC:20211021T190000
DTEND;TZID=UTC:20211021T190000
DTSTAMP:20260423T225506
CREATED:20210907T172717Z
LAST-MODIFIED:20210907T172717Z
UID:703-1634842800-1634842800@www.freddysbarrocks.com
SUMMARY:LIVE MUSIC: Weekend Comeback
DESCRIPTION:Live music starts at 7pm. Half off Pizza and $12 domestic buckets all night.
URL:http://www.freddysbarrocks.com/event/live-music-weekend-comeback-2/
LOCATION:Freddy’s Bar\, 40000 Garfield Rd\, Clinton Twp\, MI\, 48038
CATEGORIES:Concert
ATTACH;FMTTYPE=image/jpeg:http://www.freddysbarrocks.com/wp-content/uploads/2021/07/Weekend-Comeback.jpg
END:VEVENT
BEGIN:VEVENT
DTSTART;TZID=UTC:20211019T190000
DTEND;TZID=UTC:20211019T190000
DTSTAMP:20260423T225506
CREATED:20210907T172027Z
LAST-MODIFIED:20210907T172027Z
UID:697-1634670000-1634670000@www.freddysbarrocks.com
SUMMARY:Taco Tuesday with Ricky Ratt and Bobby Black
DESCRIPTION:Not only is it Taco Tuesday but it is also our Jack of Spades Raffle. Every Tuesday the pot grows until one lucky winner finds the Jack of Spades. Each week there will be a separate $150 winner just because we love you all! Live music goes on at 7pm and the drawing is at 8pm. Proceeds go to The Kiwanis club of Clinton Township. Come say hi to them\, our staff and your host with the most Doug Simonson every Tuesday night!
URL:http://www.freddysbarrocks.com/event/taco-tuesday-with-ricky-ratt-and-bobby-black/
LOCATION:Freddy’s Bar\, 40000 Garfield Rd\, Clinton Twp\, MI\, 48038
CATEGORIES:Concert
ATTACH;FMTTYPE=image/jpeg:http://www.freddysbarrocks.com/wp-content/uploads/2020/06/Jack-Of-Spades-Raffle-social.jpg
END:VEVENT
BEGIN:VEVENT
DTSTART;TZID=UTC:20211016T210000
DTEND;TZID=UTC:20211016T210000
DTSTAMP:20260423T225506
CREATED:20210907T171027Z
LAST-MODIFIED:20210907T171027Z
UID:682-1634418000-1634418000@www.freddysbarrocks.com
SUMMARY:LIVE MUSIC: OCD
DESCRIPTION:Live music starts at 9pm. We do accept a certain amount of reservations so make sure you call and save your spot. Freddy’s is the place to be for all of you live music lovin people!
URL:http://www.freddysbarrocks.com/event/live-music-ocd/
LOCATION:Freddy’s Bar\, 40000 Garfield Rd\, Clinton Twp\, MI\, 48038
CATEGORIES:Concert
ATTACH;FMTTYPE=image/png:http://www.freddysbarrocks.com/wp-content/uploads/2021/07/OCD.png
END:VEVENT
BEGIN:VEVENT
DTSTART;TZID=UTC:20211015T210000
DTEND;TZID=UTC:20211015T210000
DTSTAMP:20260423T225506
CREATED:20210907T170914Z
LAST-MODIFIED:20210907T170914Z
UID:679-1634331600-1634331600@www.freddysbarrocks.com
SUMMARY:LIVE MUSIC: The Gobies
DESCRIPTION:Live music starts at 9pm. We do accept a certain amount of reservations so make sure you call and save your spot. Freddy’s is the place to be for all of you live music lovin people!
URL:http://www.freddysbarrocks.com/event/live-music-the-gobies/
LOCATION:Freddy’s Bar\, 40000 Garfield Rd\, Clinton Twp\, MI\, 48038
CATEGORIES:Concert
ATTACH;FMTTYPE=image/jpeg:http://www.freddysbarrocks.com/wp-content/uploads/2021/09/gobies.jpg
END:VEVENT
BEGIN:VEVENT
DTSTART;TZID=UTC:20211014T190000
DTEND;TZID=UTC:20211014T190000
DTSTAMP:20260423T225506
CREATED:20210920T210438Z
LAST-MODIFIED:20210920T210438Z
UID:707-1634238000-1634238000@www.freddysbarrocks.com
SUMMARY:LIVE MUSIC: Kyle and Mike Accoustic
DESCRIPTION:Live music starts at 7pm. Half off Pizza and $12 domestic buckets all night.
URL:http://www.freddysbarrocks.com/event/live-music-kyle-and-mike-accoustic/
LOCATION:Freddy’s Bar\, 40000 Garfield Rd\, Clinton Twp\, MI\, 48038
CATEGORIES:Concert
ATTACH;FMTTYPE=image/jpeg:http://www.freddysbarrocks.com/wp-content/uploads/2020/06/live-music.jpg
END:VEVENT
BEGIN:VEVENT
DTSTART;TZID=UTC:20211012T190000
DTEND;TZID=UTC:20211012T190000
DTSTAMP:20260423T225506
CREATED:20210907T171913Z
LAST-MODIFIED:20210907T171913Z
UID:695-1634065200-1634065200@www.freddysbarrocks.com
SUMMARY:Taco Tuesday with Justin Alexander
DESCRIPTION:Not only is it Taco Tuesday but it is also our Jack of Spades Raffle. Every Tuesday the pot grows until one lucky winner finds the Jack of Spades. Each week there will be a separate $150 winner just because we love you all! Live music goes on at 7pm and the drawing is at 8pm. Proceeds go to The Kiwanis club of Clinton Township. Come say hi to them\, our staff and your host with the most Doug Simonson every Tuesday night!
URL:http://www.freddysbarrocks.com/event/taco-tuesday-with-justin-alexander-6/
LOCATION:Freddy’s Bar\, 40000 Garfield Rd\, Clinton Twp\, MI\, 48038
CATEGORIES:Concert
ATTACH;FMTTYPE=image/jpeg:http://www.freddysbarrocks.com/wp-content/uploads/2020/06/Jack-Of-Spades-Raffle-social.jpg
END:VEVENT
BEGIN:VEVENT
DTSTART;TZID=UTC:20211009T210000
DTEND;TZID=UTC:20211009T210000
DTSTAMP:20260423T225506
CREATED:20210907T170646Z
LAST-MODIFIED:20210920T210212Z
UID:676-1633813200-1633813200@www.freddysbarrocks.com
SUMMARY:LIVE MUSIC: Doin' Time
DESCRIPTION:Live music starts at 9pm. We do accept a certain amount of reservations so make sure you call and save your spot. Freddy’s is the place to be for all of you live music lovin people!
URL:http://www.freddysbarrocks.com/event/live-music-doin-time-4/
LOCATION:Freddy’s Bar\, 40000 Garfield Rd\, Clinton Twp\, MI\, 48038
CATEGORIES:Concert
ATTACH;FMTTYPE=image/jpeg:http://www.freddysbarrocks.com/wp-content/uploads/2021/09/Doin-Time-Logo.jpg
END:VEVENT
BEGIN:VEVENT
DTSTART;TZID=UTC:20211008T210000
DTEND;TZID=UTC:20211008T210000
DTSTAMP:20260423T225506
CREATED:20210907T170444Z
LAST-MODIFIED:20210907T170444Z
UID:674-1633726800-1633726800@www.freddysbarrocks.com
SUMMARY:LIVE MUSIC: Classic Maniacs
DESCRIPTION:Live music starts at 9pm. We do accept a certain amount of reservations so make sure you call and save your spot. Freddy’s is the place to be for all of you live music lovin people!
URL:http://www.freddysbarrocks.com/event/live-music-classic-maniacs/
LOCATION:Freddy’s Bar\, 40000 Garfield Rd\, Clinton Twp\, MI\, 48038
CATEGORIES:Concert
ATTACH;FMTTYPE=image/jpeg:http://www.freddysbarrocks.com/wp-content/uploads/2020/06/live-music.jpg
END:VEVENT
BEGIN:VEVENT
DTSTART;TZID=UTC:20211005T190000
DTEND;TZID=UTC:20211005T190000
DTSTAMP:20260423T225506
CREATED:20210907T171828Z
LAST-MODIFIED:20210907T171828Z
UID:693-1633460400-1633460400@www.freddysbarrocks.com
SUMMARY:Taco Tuesday with Weekend Comeback
DESCRIPTION:Not only is it Taco Tuesday but it is also our Jack of Spades Raffle. Every Tuesday the pot grows until one lucky winner finds the Jack of Spades. Each week there will be a separate $150 winner just because we love you all! Live music goes on at 7pm and the drawing is at 8pm. Proceeds go to The Kiwanis club of Clinton Township. Come say hi to them\, our staff and your host with the most Doug Simonson every Tuesday night!
URL:http://www.freddysbarrocks.com/event/taco-tuesday-with-weekend-comeback-5/
LOCATION:Freddy’s Bar\, 40000 Garfield Rd\, Clinton Twp\, MI\, 48038
CATEGORIES:Concert
ATTACH;FMTTYPE=image/jpeg:http://www.freddysbarrocks.com/wp-content/uploads/2020/06/Jack-Of-Spades-Raffle-social.jpg
END:VEVENT
BEGIN:VEVENT
DTSTART;TZID=UTC:20211002T210000
DTEND;TZID=UTC:20211002T210000
DTSTAMP:20260423T225506
CREATED:20210924T171202Z
LAST-MODIFIED:20210924T171202Z
UID:715-1633208400-1633208400@www.freddysbarrocks.com
SUMMARY:LIVE MUSIC: Blender
DESCRIPTION:Live music starts at 9pm. We do accept a certain amount of reservations so make sure you call and save your spot. Freddy’s is the place to be for all of you live music lovin people!
URL:http://www.freddysbarrocks.com/event/live-music-blender/
LOCATION:Freddy’s Bar\, 40000 Garfield Rd\, Clinton Twp\, MI\, 48038
CATEGORIES:Concert
ATTACH;FMTTYPE=image/jpeg:http://www.freddysbarrocks.com/wp-content/uploads/2020/06/live-music.jpg
END:VEVENT
BEGIN:VEVENT
DTSTART;TZID=UTC:20211001T210000
DTEND;TZID=UTC:20211001T210000
DTSTAMP:20260423T225506
CREATED:20210907T170332Z
LAST-MODIFIED:20210924T171123Z
UID:672-1633122000-1633122000@www.freddysbarrocks.com
SUMMARY:LIVE MUSIC: Mainstreet Soul
DESCRIPTION:Live music starts at 9pm. We do accept a certain amount of reservations so make sure you call and save your spot. Freddy’s is the place to be for all of you live music lovin people!
URL:http://www.freddysbarrocks.com/event/live-music-sugar-tips/
LOCATION:Freddy’s Bar\, 40000 Garfield Rd\, Clinton Twp\, MI\, 48038
CATEGORIES:Concert
ATTACH;FMTTYPE=image/jpeg:http://www.freddysbarrocks.com/wp-content/uploads/2020/06/live-music.jpg
END:VEVENT
BEGIN:VEVENT
DTSTART;TZID=UTC:20210928T190000
DTEND;TZID=UTC:20210928T190000
DTSTAMP:20260423T225506
CREATED:20210708T012237Z
LAST-MODIFIED:20210903T170017Z
UID:602-1632855600-1632855600@www.freddysbarrocks.com
SUMMARY:Taco Tuesday with Justin Alexander
DESCRIPTION:Not only is it Taco Tuesday but it is also our Jack of Spades Raffle. Every Tuesday the pot grows until one lucky winner finds the Jack of Spades. Each week there will be a separate $150 winner just because we love you all! Live music goes on at 7pm and the drawing is at 8pm. Proceeds go to The Kiwanis club of Clinton Township. Come say hi to them\, our staff and your host with the most Doug Simonson every Tuesday night!
URL:http://www.freddysbarrocks.com/event/taco-tuesday-with-weekend-comeback-4/
LOCATION:Freddy’s Bar\, 40000 Garfield Rd\, Clinton Twp\, MI\, 48038
CATEGORIES:Concert
ATTACH;FMTTYPE=image/jpeg:http://www.freddysbarrocks.com/wp-content/uploads/2020/06/Jack-Of-Spades-Raffle-social.jpg
END:VEVENT
BEGIN:VEVENT
DTSTART;TZID=UTC:20210926T120000
DTEND;TZID=UTC:20210926T220000
DTSTAMP:20260423T225506
CREATED:20210903T170507Z
LAST-MODIFIED:20210903T170637Z
UID:668-1632657600-1632693600@www.freddysbarrocks.com
SUMMARY:Jamin for Julie
DESCRIPTION:As many of you know Julie recently spent some time in the hospital. She’s home now and feeling better but can’t return to work. The benefit is to help with loss of income\, medical expenses not covered by insurance and to help purchase an Inogen portable oxygen machine. The benefit will be at Freddy’s from noon to 8pm on Sunday September 26th. More details an entertainment schedule to follow!! This is a public event\, please share and add to the invites!
URL:http://www.freddysbarrocks.com/event/jamin-for-julie/
LOCATION:Freddy’s Bar\, 40000 Garfield Rd\, Clinton Twp\, MI\, 48038
CATEGORIES:Concert
ATTACH;FMTTYPE=image/jpeg:http://www.freddysbarrocks.com/wp-content/uploads/2021/09/Jamin-for-Julie-social.jpg
END:VEVENT
BEGIN:VEVENT
DTSTART;TZID=UTC:20210924T210000
DTEND;TZID=UTC:20210924T210000
DTSTAMP:20260423T225506
CREATED:20210708T020557Z
LAST-MODIFIED:20210708T020557Z
UID:649-1632517200-1632517200@www.freddysbarrocks.com
SUMMARY:LIVE MUSIC: Planet of Fun
DESCRIPTION:Live music starts at 9pm. We do accept a certain amount of reservations so make sure you call and save your spot. Freddy’s is the place to be for all of you live music lovin people!
URL:http://www.freddysbarrocks.com/event/live-music-planet-of-fun-10/
LOCATION:Freddy’s Bar\, 40000 Garfield Rd\, Clinton Twp\, MI\, 48038
CATEGORIES:Concert
ATTACH;FMTTYPE=image/jpeg:http://www.freddysbarrocks.com/wp-content/uploads/2020/10/Planet-of-Fun.jpg
END:VEVENT
BEGIN:VEVENT
DTSTART;TZID=UTC:20210923T190000
DTEND;TZID=UTC:20210923T190000
DTSTAMP:20260423T225506
CREATED:20210708T010709Z
LAST-MODIFIED:20210708T010709Z
UID:582-1632423600-1632423600@www.freddysbarrocks.com
SUMMARY:BIKE NIGHT with Planet of Fun
DESCRIPTION:Live music starts at 7pm. $12 Domestic Buckets\, $5 Calls and Half off Pizza all night.
URL:http://www.freddysbarrocks.com/event/bike-night-with-planet-of-fun-5/
LOCATION:Freddy’s Bar\, 40000 Garfield Rd\, Clinton Twp\, MI\, 48038
CATEGORIES:Concert
ATTACH;FMTTYPE=image/jpeg:http://www.freddysbarrocks.com/wp-content/uploads/2020/10/Freddys-Bike-Night-2021-social.jpg
END:VEVENT
BEGIN:VEVENT
DTSTART;TZID=UTC:20210921T190000
DTEND;TZID=UTC:20210921T190000
DTSTAMP:20260423T225506
CREATED:20210903T165901Z
LAST-MODIFIED:20210903T165901Z
UID:664-1632250800-1632250800@www.freddysbarrocks.com
SUMMARY:Taco Tuesday with Tiffany and Bobby Black
DESCRIPTION:Not only is it Taco Tuesday but it is also our Jack of Spades Raffle. Every Tuesday the pot grows until one lucky winner finds the Jack of Spades. Each week there will be a separate $150 winner just because we love you all! Live music goes on at 7pm and the drawing is at 8pm. Proceeds go to The Kiwanis club of Clinton Township. Come say hi to them\, our staff and your host with the most Doug Simonson every Tuesday night!
URL:http://www.freddysbarrocks.com/event/taco-tuesday-with-tiffany-and-bobby-black/
LOCATION:Freddy’s Bar\, 40000 Garfield Rd\, Clinton Twp\, MI\, 48038
CATEGORIES:Concert
ATTACH;FMTTYPE=image/jpeg:http://www.freddysbarrocks.com/wp-content/uploads/2020/06/Jack-Of-Spades-Raffle-social.jpg
END:VEVENT
BEGIN:VEVENT
DTSTART;TZID=UTC:20210918T210000
DTEND;TZID=UTC:20210918T210000
DTSTAMP:20260423T225507
CREATED:20210708T020329Z
LAST-MODIFIED:20210708T020329Z
UID:644-1631998800-1631998800@www.freddysbarrocks.com
SUMMARY:LIVE MUSIC: Doin' Time
DESCRIPTION:Live music starts at 9pm. We do accept a certain amount of reservations so make sure you call and save your spot. Freddy’s is the place to be for all of you live music lovin people!
URL:http://www.freddysbarrocks.com/event/live-music-doin-time-2/
LOCATION:Freddy’s Bar\, 40000 Garfield Rd\, Clinton Twp\, MI\, 48038
CATEGORIES:Concert
ATTACH;FMTTYPE=image/jpeg:http://www.freddysbarrocks.com/wp-content/uploads/2020/10/Doin-Time-Logo.jpg
END:VEVENT
BEGIN:VEVENT
DTSTART;TZID=UTC:20210917T210000
DTEND;TZID=UTC:20210917T210000
DTSTAMP:20260423T225507
CREATED:20210708T020236Z
LAST-MODIFIED:20210708T020236Z
UID:642-1631912400-1631912400@www.freddysbarrocks.com
SUMMARY:LIVE MUSIC: Reckless Revival
DESCRIPTION:Live music starts at 9pm. We do accept a certain amount of reservations so make sure you call and save your spot. Freddy’s is the place to be for all of you live music lovin people!
URL:http://www.freddysbarrocks.com/event/live-music-reckless-revival-2/
LOCATION:Freddy’s Bar\, 40000 Garfield Rd\, Clinton Twp\, MI\, 48038
CATEGORIES:Concert
ATTACH;FMTTYPE=image/png:http://www.freddysbarrocks.com/wp-content/uploads/2020/10/Reckless-Revival-Logo.png
END:VEVENT
BEGIN:VEVENT
DTSTART;TZID=UTC:20210916T190000
DTEND;TZID=UTC:20210916T190000
DTSTAMP:20260423T225507
CREATED:20210903T165519Z
LAST-MODIFIED:20210903T165519Z
UID:662-1631818800-1631818800@www.freddysbarrocks.com
SUMMARY:BIKE NIGHT with Bobby Black
DESCRIPTION:Live music starts at 7pm. $12 Domestic Buckets\, $5 Calls and Half off Pizza all night.
URL:http://www.freddysbarrocks.com/event/bike-night-with-bobby-black/
LOCATION:Freddy’s Bar\, 40000 Garfield Rd\, Clinton Twp\, MI\, 48038
CATEGORIES:Concert
ATTACH;FMTTYPE=image/jpeg:http://www.freddysbarrocks.com/wp-content/uploads/2020/10/Freddys-Bike-Night-2021-social.jpg
END:VEVENT
BEGIN:VEVENT
DTSTART;TZID=UTC:20210911T210000
DTEND;TZID=UTC:20210911T210000
DTSTAMP:20260423T225507
CREATED:20210708T020130Z
LAST-MODIFIED:20210708T020130Z
UID:639-1631394000-1631394000@www.freddysbarrocks.com
SUMMARY:LIVE MUSIC: O.C.D.
DESCRIPTION:Live music starts at 9pm. We do accept a certain amount of reservations so make sure you call and save your spot. Freddy’s is the place to be for all of you live music lovin people!
URL:http://www.freddysbarrocks.com/event/live-music-o-c-d/
LOCATION:Freddy’s Bar\, 40000 Garfield Rd\, Clinton Twp\, MI\, 48038
CATEGORIES:Concert
ATTACH;FMTTYPE=image/png:http://www.freddysbarrocks.com/wp-content/uploads/2021/07/OCD.png
END:VEVENT
BEGIN:VEVENT
DTSTART;TZID=UTC:20210910T210000
DTEND;TZID=UTC:20210910T210000
DTSTAMP:20260423T225507
CREATED:20210708T015854Z
LAST-MODIFIED:20210708T015854Z
UID:637-1631307600-1631307600@www.freddysbarrocks.com
SUMMARY:LIVE MUSIC: Funhouse
DESCRIPTION:Live music starts at 9pm. We do accept a certain amount of reservations so make sure you call and save your spot. Freddy’s is the place to be for all of you live music lovin people!
URL:http://www.freddysbarrocks.com/event/live-music-funhouse-3/
LOCATION:Freddy’s Bar\, 40000 Garfield Rd\, Clinton Twp\, MI\, 48038
CATEGORIES:Concert
ATTACH;FMTTYPE=image/jpeg:http://www.freddysbarrocks.com/wp-content/uploads/2020/10/FunHouse-Logo-scaled.jpg
END:VEVENT
BEGIN:VEVENT
DTSTART;TZID=UTC:20210909T190000
DTEND;TZID=UTC:20210909T190000
DTSTAMP:20260423T225507
CREATED:20210909T164918Z
LAST-MODIFIED:20210903T165245Z
UID:660-1631214000-1631214000@www.freddysbarrocks.com
SUMMARY:BIKE NIGHT with Suckerpunch
DESCRIPTION:Live music starts at 7pm. $12 Domestic Buckets\, $5 Calls and Half off Pizza all night.
URL:http://www.freddysbarrocks.com/event/bike-night-with-suckerpunch/
LOCATION:Freddy’s Bar\, 40000 Garfield Rd\, Clinton Twp\, MI\, 48038
CATEGORIES:Concert
ATTACH;FMTTYPE=image/jpeg:http://www.freddysbarrocks.com/wp-content/uploads/2020/10/Freddys-Bike-Night-2021-social.jpg
END:VEVENT
END:VCALENDAR