BEGIN:VCALENDAR
VERSION:2.0
PRODID:-//Freddys Bar &amp; Grill - ECPv6.8.3//NONSGML v1.0//EN
CALSCALE:GREGORIAN
METHOD:PUBLISH
X-WR-CALNAME:Freddys Bar &amp; Grill
X-ORIGINAL-URL:http://www.freddysbarrocks.com
X-WR-CALDESC:Events for Freddys Bar &amp; Grill
REFRESH-INTERVAL;VALUE=DURATION:PT1H
X-Robots-Tag:noindex
X-PUBLISHED-TTL:PT1H
BEGIN:VTIMEZONE
TZID:UTC
BEGIN:STANDARD
TZOFFSETFROM:+0000
TZOFFSETTO:+0000
TZNAME:UTC
DTSTART:20210101T000000
END:STANDARD
END:VTIMEZONE
BEGIN:VEVENT
DTSTART;TZID=UTC:20210902T190000
DTEND;TZID=UTC:20210902T190000
DTSTAMP:20260424T065610
CREATED:20210708T010552Z
LAST-MODIFIED:20210708T010552Z
UID:580-1630609200-1630609200@www.freddysbarrocks.com
SUMMARY:BIKE NIGHT with Way Back Machine
DESCRIPTION:Live music starts at 7pm. $12 Domestic Buckets\, $5 Calls and Half off Pizza all night.
URL:http://www.freddysbarrocks.com/event/bike-night-with-way-back-machine/
LOCATION:Freddy’s Bar\, 40000 Garfield Rd\, Clinton Twp\, MI\, 48038
CATEGORIES:Concert
ATTACH;FMTTYPE=image/jpeg:http://www.freddysbarrocks.com/wp-content/uploads/2020/10/Freddys-Bike-Night-2021-social.jpg
END:VEVENT
BEGIN:VEVENT
DTSTART;TZID=UTC:20210831T190000
DTEND;TZID=UTC:20210831T190000
DTSTAMP:20260424T065610
CREATED:20210708T012030Z
LAST-MODIFIED:20210708T012030Z
UID:598-1630436400-1630436400@www.freddysbarrocks.com
SUMMARY:Taco Tuesday with Mike Adkins
DESCRIPTION:Not only is it Taco Tuesday but it is also our Jack of Spades Raffle. Every Tuesday the pot grows until one lucky winner finds the Jack of Spades. Each week there will be a separate $150 winner just because we love you all! Live music goes on at 7pm and the drawing is at 8pm. Proceeds go to The Kiwanis club of Clinton Township. Come say hi to them\, our staff and your host with the most Doug Simonson every Tuesday night!
URL:http://www.freddysbarrocks.com/event/taco-tuesday-with-mike-adkins-3/
LOCATION:Freddy’s Bar\, 40000 Garfield Rd\, Clinton Twp\, MI\, 48038
CATEGORIES:Concert
ATTACH;FMTTYPE=image/jpeg:http://www.freddysbarrocks.com/wp-content/uploads/2020/06/Jack-Of-Spades-Raffle-social.jpg
END:VEVENT
BEGIN:VEVENT
DTSTART;TZID=UTC:20210828T210000
DTEND;TZID=UTC:20210828T210000
DTSTAMP:20260424T065610
CREATED:20210708T015648Z
LAST-MODIFIED:20210708T015648Z
UID:635-1630184400-1630184400@www.freddysbarrocks.com
SUMMARY:LIVE MUSIC: Parallel Fifth
DESCRIPTION:Live music starts at 9pm. We do accept a certain amount of reservations so make sure you call and save your spot. Freddy’s is the place to be for all of you live music lovin people!
URL:http://www.freddysbarrocks.com/event/live-music-parallel-fifth-2/
LOCATION:Freddy’s Bar\, 40000 Garfield Rd\, Clinton Twp\, MI\, 48038
CATEGORIES:Concert
ATTACH;FMTTYPE=image/jpeg:http://www.freddysbarrocks.com/wp-content/uploads/2021/07/Parallel-Fifth.jpg
END:VEVENT
BEGIN:VEVENT
DTSTART;TZID=UTC:20210827T210000
DTEND;TZID=UTC:20210827T210000
DTSTAMP:20260424T065610
CREATED:20210708T015547Z
LAST-MODIFIED:20210708T015547Z
UID:632-1630098000-1630098000@www.freddysbarrocks.com
SUMMARY:LIVE MUSIC: Parallel Fifth
DESCRIPTION:Live music starts at 9pm. We do accept a certain amount of reservations so make sure you call and save your spot. Freddy’s is the place to be for all of you live music lovin people!
URL:http://www.freddysbarrocks.com/event/live-music-parallel-fifth/
LOCATION:Freddy’s Bar\, 40000 Garfield Rd\, Clinton Twp\, MI\, 48038
CATEGORIES:Concert
ATTACH;FMTTYPE=image/jpeg:http://www.freddysbarrocks.com/wp-content/uploads/2021/07/Parallel-Fifth.jpg
END:VEVENT
BEGIN:VEVENT
DTSTART;TZID=UTC:20210826T190000
DTEND;TZID=UTC:20210826T190000
DTSTAMP:20260424T065610
CREATED:20210708T010505Z
LAST-MODIFIED:20210708T010505Z
UID:578-1630004400-1630004400@www.freddysbarrocks.com
SUMMARY:BIKE NIGHT with Thresh Hold
DESCRIPTION:Live music starts at 7pm. $12 Domestic Buckets\, $5 Calls and Half off Pizza all night.
URL:http://www.freddysbarrocks.com/event/bike-night-with-thresh-hold/
LOCATION:Freddy’s Bar\, 40000 Garfield Rd\, Clinton Twp\, MI\, 48038
CATEGORIES:Concert
ATTACH;FMTTYPE=image/jpeg:http://www.freddysbarrocks.com/wp-content/uploads/2020/10/Freddys-Bike-Night-2021-social.jpg
END:VEVENT
BEGIN:VEVENT
DTSTART;TZID=UTC:20210824T190000
DTEND;TZID=UTC:20210824T190000
DTSTAMP:20260424T065610
CREATED:20210708T011932Z
LAST-MODIFIED:20210708T011932Z
UID:596-1629831600-1629831600@www.freddysbarrocks.com
SUMMARY:Taco Tuesday with Weekend Comeback
DESCRIPTION:Not only is it Taco Tuesday but it is also our Jack of Spades Raffle. Every Tuesday the pot grows until one lucky winner finds the Jack of Spades. Each week there will be a separate $150 winner just because we love you all! Live music goes on at 7pm and the drawing is at 8pm. Proceeds go to The Kiwanis club of Clinton Township. Come say hi to them\, our staff and your host with the most Doug Simonson every Tuesday night!
URL:http://www.freddysbarrocks.com/event/taco-tuesday-with-weekend-comeback-3/
LOCATION:Freddy’s Bar\, 40000 Garfield Rd\, Clinton Twp\, MI\, 48038
CATEGORIES:Concert
ATTACH;FMTTYPE=image/jpeg:http://www.freddysbarrocks.com/wp-content/uploads/2020/06/Jack-Of-Spades-Raffle-social.jpg
END:VEVENT
BEGIN:VEVENT
DTSTART;TZID=UTC:20210821T210000
DTEND;TZID=UTC:20210821T210000
DTSTAMP:20260424T065610
CREATED:20210708T015217Z
LAST-MODIFIED:20210708T015217Z
UID:630-1629579600-1629579600@www.freddysbarrocks.com
SUMMARY:LIVE MUSIC: Planet of Fun
DESCRIPTION:Live music starts at 9pm. We do accept a certain amount of reservations so make sure you call and save your spot. Freddy’s is the place to be for all of you live music lovin people!
URL:http://www.freddysbarrocks.com/event/live-music-planet-of-fun-9/
LOCATION:Freddy’s Bar\, 40000 Garfield Rd\, Clinton Twp\, MI\, 48038
CATEGORIES:Concert
ATTACH;FMTTYPE=image/jpeg:http://www.freddysbarrocks.com/wp-content/uploads/2020/10/Planet-of-Fun.jpg
END:VEVENT
BEGIN:VEVENT
DTSTART;TZID=UTC:20210820T210000
DTEND;TZID=UTC:20210820T210000
DTSTAMP:20260424T065610
CREATED:20210708T015053Z
LAST-MODIFIED:20210708T015053Z
UID:628-1629493200-1629493200@www.freddysbarrocks.com
SUMMARY:LIVE MUSIC: Planet of Fun
DESCRIPTION:Live music starts at 9pm. We do accept a certain amount of reservations so make sure you call and save your spot. Freddy’s is the place to be for all of you live music lovin people!
URL:http://www.freddysbarrocks.com/event/live-music-planet-of-fun-8/
LOCATION:Freddy’s Bar\, 40000 Garfield Rd\, Clinton Twp\, MI\, 48038
CATEGORIES:Concert
ATTACH;FMTTYPE=image/jpeg:http://www.freddysbarrocks.com/wp-content/uploads/2020/10/Planet-of-Fun.jpg
END:VEVENT
BEGIN:VEVENT
DTSTART;TZID=UTC:20210819T190000
DTEND;TZID=UTC:20210819T190000
DTSTAMP:20260424T065610
CREATED:20210708T010407Z
LAST-MODIFIED:20210708T010407Z
UID:576-1629399600-1629399600@www.freddysbarrocks.com
SUMMARY:BIKE NIGHT with Planet of Fun
DESCRIPTION:Live music starts at 7pm. $12 Domestic Buckets\, $5 Calls and Half off Pizza all night.
URL:http://www.freddysbarrocks.com/event/bike-night-with-planet-of-fun-4/
LOCATION:Freddy’s Bar\, 40000 Garfield Rd\, Clinton Twp\, MI\, 48038
CATEGORIES:Concert
ATTACH;FMTTYPE=image/jpeg:http://www.freddysbarrocks.com/wp-content/uploads/2020/10/Freddys-Bike-Night-2021-social.jpg
END:VEVENT
BEGIN:VEVENT
DTSTART;TZID=UTC:20210817T190000
DTEND;TZID=UTC:20210817T190000
DTSTAMP:20260424T065610
CREATED:20210708T011529Z
LAST-MODIFIED:20210708T011529Z
UID:594-1629226800-1629226800@www.freddysbarrocks.com
SUMMARY:Taco Tuesday with Doug Simonson
DESCRIPTION:Not only is it Taco Tuesday but it is also our Jack of Spades Raffle. Every Tuesday the pot grows until one lucky winner finds the Jack of Spades. Each week there will be a separate $150 winner just because we love you all! Live music goes on at 7pm and the drawing is at 8pm. Proceeds go to The Kiwanis club of Clinton Township. Come say hi to them\, our staff and your host with the most Doug Simonson every Tuesday night!
URL:http://www.freddysbarrocks.com/event/taco-tuesday-with-doug-simonson-2/
LOCATION:Freddy’s Bar\, 40000 Garfield Rd\, Clinton Twp\, MI\, 48038
CATEGORIES:Concert
ATTACH;FMTTYPE=image/jpeg:http://www.freddysbarrocks.com/wp-content/uploads/2020/06/Jack-Of-Spades-Raffle-social.jpg
END:VEVENT
BEGIN:VEVENT
DTSTART;TZID=UTC:20210812T190000
DTEND;TZID=UTC:20210812T190000
DTSTAMP:20260424T065610
CREATED:20210708T010313Z
LAST-MODIFIED:20210708T010313Z
UID:574-1628794800-1628794800@www.freddysbarrocks.com
SUMMARY:BIKE NIGHT with Motor City Josh
DESCRIPTION:Live music starts at 7pm. $12 Domestic Buckets\, $5 Calls and Half off Pizza all night.
URL:http://www.freddysbarrocks.com/event/bike-night-with-motor-city-josh/
LOCATION:Freddy’s Bar\, 40000 Garfield Rd\, Clinton Twp\, MI\, 48038
CATEGORIES:Concert
ATTACH;FMTTYPE=image/jpeg:http://www.freddysbarrocks.com/wp-content/uploads/2020/10/Freddys-Bike-Night-2021-social.jpg
END:VEVENT
BEGIN:VEVENT
DTSTART;TZID=UTC:20210810T190000
DTEND;TZID=UTC:20210810T190000
DTSTAMP:20260424T065610
CREATED:20210708T011416Z
LAST-MODIFIED:20210708T011826Z
UID:592-1628622000-1628622000@www.freddysbarrocks.com
SUMMARY:Taco Tuesday with Justin Alexander
DESCRIPTION:Not only is it Taco Tuesday but it is also our Jack of Spades Raffle. Every Tuesday the pot grows until one lucky winner finds the Jack of Spades. Each week there will be a separate $150 winner just because we love you all! Live music goes on at 7pm and the drawing is at 8pm. Proceeds go to The Kiwanis club of Clinton Township. Come say hi to them\, our staff and your host with the most Doug Simonson every Tuesday night!
URL:http://www.freddysbarrocks.com/event/taco-tuesday-with-justin-alexander-5/
LOCATION:Freddy’s Bar\, 40000 Garfield Rd\, Clinton Twp\, MI\, 48038
CATEGORIES:Concert
ATTACH;FMTTYPE=image/jpeg:http://www.freddysbarrocks.com/wp-content/uploads/2020/06/Jack-Of-Spades-Raffle-social.jpg
END:VEVENT
BEGIN:VEVENT
DTSTART;TZID=UTC:20210807T210000
DTEND;TZID=UTC:20210807T210000
DTSTAMP:20260424T065610
CREATED:20210708T014933Z
LAST-MODIFIED:20210708T014933Z
UID:626-1628370000-1628370000@www.freddysbarrocks.com
SUMMARY:LIVE MUSIC: Detroit Jedi
DESCRIPTION:Live music starts at 9pm. We do accept a certain amount of reservations so make sure you call and save your spot. Freddy’s is the place to be for all of you live music lovin people!
URL:http://www.freddysbarrocks.com/event/live-music-detroit-jedi/
LOCATION:Freddy’s Bar\, 40000 Garfield Rd\, Clinton Twp\, MI\, 48038
CATEGORIES:Concert
ATTACH;FMTTYPE=image/jpeg:http://www.freddysbarrocks.com/wp-content/uploads/2020/06/live-music.jpg
END:VEVENT
BEGIN:VEVENT
DTSTART;TZID=UTC:20210805T190000
DTEND;TZID=UTC:20210805T190000
DTSTAMP:20260424T065610
CREATED:20210708T010222Z
LAST-MODIFIED:20210708T010222Z
UID:572-1628190000-1628190000@www.freddysbarrocks.com
SUMMARY:BIKE NIGHT with Eastside Still Alive
DESCRIPTION:Live music starts at 7pm. $12 Domestic Buckets\, $5 Calls and Half off Pizza all night.
URL:http://www.freddysbarrocks.com/event/bike-night-with-eastside-still-alive-2/
LOCATION:Freddy’s Bar\, 40000 Garfield Rd\, Clinton Twp\, MI\, 48038
CATEGORIES:Concert
ATTACH;FMTTYPE=image/jpeg:http://www.freddysbarrocks.com/wp-content/uploads/2020/10/Freddys-Bike-Night-2021-social.jpg
END:VEVENT
BEGIN:VEVENT
DTSTART;TZID=UTC:20210803T190000
DTEND;TZID=UTC:20210803T190000
DTSTAMP:20260424T065610
CREATED:20210708T011304Z
LAST-MODIFIED:20210708T011630Z
UID:590-1628017200-1628017200@www.freddysbarrocks.com
SUMMARY:Taco Tuesday with Weekend Comeback
DESCRIPTION:Not only is it Taco Tuesday but it is also our Jack of Spades Raffle. Every Tuesday the pot grows until one lucky winner finds the Jack of Spades. Each week there will be a separate $150 winner just because we love you all! Live music goes on at 7pm and the drawing is at 8pm. Proceeds go to The Kiwanis club of Clinton Township. Come say hi to them\, our staff and your host with the most Doug Simonson every Tuesday night!
URL:http://www.freddysbarrocks.com/event/taco-tuesday-with-weekend-comeback-2/
LOCATION:Freddy’s Bar\, 40000 Garfield Rd\, Clinton Twp\, MI\, 48038
CATEGORIES:Concert
ATTACH;FMTTYPE=image/jpeg:http://www.freddysbarrocks.com/wp-content/uploads/2020/06/Jack-Of-Spades-Raffle-social.jpg
END:VEVENT
BEGIN:VEVENT
DTSTART;TZID=UTC:20210731T210000
DTEND;TZID=UTC:20210731T210000
DTSTAMP:20260424T065610
CREATED:20210708T014223Z
LAST-MODIFIED:20210708T014223Z
UID:623-1627765200-1627765200@www.freddysbarrocks.com
SUMMARY:LIVE MUSIC: Dave Hamilton Band
DESCRIPTION:Live music starts at 9pm. We do accept a certain amount of reservations so make sure you call and save your spot. Freddy’s is the place to be for all of you live music lovin people!
URL:http://www.freddysbarrocks.com/event/live-music-dave-hamilton-band/
LOCATION:Freddy’s Bar\, 40000 Garfield Rd\, Clinton Twp\, MI\, 48038
CATEGORIES:Concert
ATTACH;FMTTYPE=image/jpeg:http://www.freddysbarrocks.com/wp-content/uploads/2021/07/Dave-Hamilton.jpg
END:VEVENT
BEGIN:VEVENT
DTSTART;TZID=UTC:20210730T210000
DTEND;TZID=UTC:20210730T210000
DTSTAMP:20260424T065610
CREATED:20210708T013900Z
LAST-MODIFIED:20210721T195820Z
UID:620-1627678800-1627678800@www.freddysbarrocks.com
SUMMARY:LIVE MUSIC: Martin Chiparro's Super Group
DESCRIPTION:Live music starts at 9pm. We do accept a certain amount of reservations so make sure you call and save your spot. Freddy’s is the place to be for all of you live music lovin people!
URL:http://www.freddysbarrocks.com/event/live-music-digg/
LOCATION:Freddy’s Bar\, 40000 Garfield Rd\, Clinton Twp\, MI\, 48038
CATEGORIES:Concert
ATTACH;FMTTYPE=image/jpeg:http://www.freddysbarrocks.com/wp-content/uploads/2020/06/live-music.jpg
END:VEVENT
BEGIN:VEVENT
DTSTART;TZID=UTC:20210729T190000
DTEND;TZID=UTC:20210729T190000
DTSTAMP:20260424T065610
CREATED:20210708T010120Z
LAST-MODIFIED:20210708T010120Z
UID:570-1627585200-1627585200@www.freddysbarrocks.com
SUMMARY:BIKE NIGHT with Twist of Fate
DESCRIPTION:Live music starts at 7pm. $12 Domestic Buckets\, $5 Calls and Half off Pizza all night.
URL:http://www.freddysbarrocks.com/event/bike-night-with-twist-of-fate/
LOCATION:Freddy’s Bar\, 40000 Garfield Rd\, Clinton Twp\, MI\, 48038
CATEGORIES:Concert
ATTACH;FMTTYPE=image/jpeg:http://www.freddysbarrocks.com/wp-content/uploads/2020/10/Freddys-Bike-Night-2021-social.jpg
END:VEVENT
BEGIN:VEVENT
DTSTART;TZID=UTC:20210727T190000
DTEND;TZID=UTC:20210727T190000
DTSTAMP:20260424T065610
CREATED:20210708T011130Z
LAST-MODIFIED:20210708T011725Z
UID:588-1627412400-1627412400@www.freddysbarrocks.com
SUMMARY:Taco Tuesday with Dave Hamilton
DESCRIPTION:Not only is it Taco Tuesday but it is also our Jack of Spades Raffle. Every Tuesday the pot grows until one lucky winner finds the Jack of Spades. Each week there will be a separate $150 winner just because we love you all! Live music goes on at 7pm and the drawing is at 8pm. Proceeds go to The Kiwanis club of Clinton Township. Come say hi to them\, our staff and your host with the most Doug Simonson every Tuesday night!
URL:http://www.freddysbarrocks.com/event/taco-tuesday-with-dave-hamilton/
LOCATION:Freddy’s Bar\, 40000 Garfield Rd\, Clinton Twp\, MI\, 48038
CATEGORIES:Concert
ATTACH;FMTTYPE=image/jpeg:http://www.freddysbarrocks.com/wp-content/uploads/2020/06/Jack-Of-Spades-Raffle-social.jpg
END:VEVENT
BEGIN:VEVENT
DTSTART;TZID=UTC:20210724T210000
DTEND;TZID=UTC:20210724T210000
DTSTAMP:20260424T065610
CREATED:20210708T013656Z
LAST-MODIFIED:20210708T013656Z
UID:618-1627160400-1627160400@www.freddysbarrocks.com
SUMMARY:LIVE MUSIC: Planet of Fun
DESCRIPTION:Live music starts at 9pm. We do accept a certain amount of reservations so make sure you call and save your spot. Freddy’s is the place to be for all of you live music lovin people!
URL:http://www.freddysbarrocks.com/event/live-music-planet-of-fun-7/
LOCATION:Freddy’s Bar\, 40000 Garfield Rd\, Clinton Twp\, MI\, 48038
CATEGORIES:Concert
ATTACH;FMTTYPE=image/jpeg:http://www.freddysbarrocks.com/wp-content/uploads/2020/10/Planet-of-Fun.jpg
END:VEVENT
BEGIN:VEVENT
DTSTART;TZID=UTC:20210723T210000
DTEND;TZID=UTC:20210723T210000
DTSTAMP:20260424T065610
CREATED:20210708T013601Z
LAST-MODIFIED:20210708T013601Z
UID:616-1627074000-1627074000@www.freddysbarrocks.com
SUMMARY:LIVE MUSIC: Planet of Fun
DESCRIPTION:Live music starts at 9pm. We do accept a certain amount of reservations so make sure you call and save your spot. Freddy’s is the place to be for all of you live music lovin people!
URL:http://www.freddysbarrocks.com/event/live-music-planet-of-fun-6/
LOCATION:Freddy’s Bar\, 40000 Garfield Rd\, Clinton Twp\, MI\, 48038
CATEGORIES:Concert
ATTACH;FMTTYPE=image/jpeg:http://www.freddysbarrocks.com/wp-content/uploads/2020/10/Planet-of-Fun.jpg
END:VEVENT
BEGIN:VEVENT
DTSTART;TZID=UTC:20210722T190000
DTEND;TZID=UTC:20210722T190000
DTSTAMP:20260424T065610
CREATED:20210708T010007Z
LAST-MODIFIED:20210708T010007Z
UID:568-1626980400-1626980400@www.freddysbarrocks.com
SUMMARY:BIKE NIGHT with Planet of Fun
DESCRIPTION:Live music starts at 7pm. $12 Domestic Buckets\, $5 Calls and Half off Pizza all night.
URL:http://www.freddysbarrocks.com/event/bike-night-with-planet-of-fun-3/
LOCATION:Freddy’s Bar\, 40000 Garfield Rd\, Clinton Twp\, MI\, 48038
CATEGORIES:Concert
ATTACH;FMTTYPE=image/jpeg:http://www.freddysbarrocks.com/wp-content/uploads/2020/10/Freddys-Bike-Night-2021-social.jpg
END:VEVENT
BEGIN:VEVENT
DTSTART;TZID=UTC:20210720T190000
DTEND;TZID=UTC:20210720T190000
DTSTAMP:20260424T065610
CREATED:20210708T011031Z
LAST-MODIFIED:20210708T011031Z
UID:586-1626807600-1626807600@www.freddysbarrocks.com
SUMMARY:Taco Tuesday with Sugartips
DESCRIPTION:Not only is it Taco Tuesday but it is also our Jack of Spades Raffle. Every Tuesday the pot grows until one lucky winner finds the Jack of Spades. Each week there will be a separate $150 winner just because we love you all! Live music goes on at 7pm and the drawing is at 8pm. Proceeds go to The Kiwanis club of Clinton Township. Come say hi to them\, our staff and your host with the most Doug Simonson every Tuesday night!
URL:http://www.freddysbarrocks.com/event/taco-tuesday-with-sugartips/
LOCATION:Freddy’s Bar\, 40000 Garfield Rd\, Clinton Twp\, MI\, 48038
CATEGORIES:Concert
ATTACH;FMTTYPE=image/jpeg:http://www.freddysbarrocks.com/wp-content/uploads/2020/06/Jack-Of-Spades-Raffle-social.jpg
END:VEVENT
BEGIN:VEVENT
DTSTART;TZID=UTC:20210717T210000
DTEND;TZID=UTC:20210717T210000
DTSTAMP:20260424T065610
CREATED:20210708T013246Z
LAST-MODIFIED:20210708T013246Z
UID:613-1626555600-1626555600@www.freddysbarrocks.com
SUMMARY:LIVE MUSIC: Pink Pumps
DESCRIPTION:Live music starts at 9pm. We do accept a certain amount of reservations so make sure you call and save your spot. Freddy’s is the place to be for all of you live music lovin people!
URL:http://www.freddysbarrocks.com/event/live-music-pink-pumps/
LOCATION:Freddy’s Bar\, 40000 Garfield Rd\, Clinton Twp\, MI\, 48038
CATEGORIES:Concert
ATTACH;FMTTYPE=image/jpeg:http://www.freddysbarrocks.com/wp-content/uploads/2021/07/Pink-Pumps.jpg
END:VEVENT
BEGIN:VEVENT
DTSTART;TZID=UTC:20210716T210000
DTEND;TZID=UTC:20210716T210000
DTSTAMP:20260424T065610
CREATED:20210708T013022Z
LAST-MODIFIED:20210708T013339Z
UID:610-1626469200-1626469200@www.freddysbarrocks.com
SUMMARY:LIVE MUSIC: Interstate 90's
DESCRIPTION:Live music starts at 9pm. We do accept a certain amount of reservations so make sure you call and save your spot. Freddy’s is the place to be for all of you live music lovin people!
URL:http://www.freddysbarrocks.com/event/live-music-interstate-90s/
LOCATION:Freddy’s Bar\, 40000 Garfield Rd\, Clinton Twp\, MI\, 48038
CATEGORIES:Concert
ATTACH;FMTTYPE=image/jpeg:http://www.freddysbarrocks.com/wp-content/uploads/2021/07/Interstate-90.jpg
END:VEVENT
BEGIN:VEVENT
DTSTART;TZID=UTC:20210715T190000
DTEND;TZID=UTC:20210715T190000
DTSTAMP:20260424T065610
CREATED:20210610T195858Z
LAST-MODIFIED:20210708T005900Z
UID:556-1626375600-1626375600@www.freddysbarrocks.com
SUMMARY:BIKE NIGHT with Blender
DESCRIPTION:Live music starts at 7pm. $12 Domestic Buckets\, $5 Calls and Half off Pizza all night.
URL:http://www.freddysbarrocks.com/event/bike-night-with-bobby-mcmanus-band/
LOCATION:Freddy’s Bar\, 40000 Garfield Rd\, Clinton Twp\, MI\, 48038
CATEGORIES:Concert
ATTACH;FMTTYPE=image/jpeg:http://www.freddysbarrocks.com/wp-content/uploads/2020/10/Freddys-Bike-Night-2021-social.jpg
END:VEVENT
BEGIN:VEVENT
DTSTART;TZID=UTC:20210713T190000
DTEND;TZID=UTC:20210713T190000
DTSTAMP:20260424T065610
CREATED:20210708T010846Z
LAST-MODIFIED:20210708T010846Z
UID:584-1626202800-1626202800@www.freddysbarrocks.com
SUMMARY:Taco Tuesday with Mike Adkins
DESCRIPTION:Not only is it Taco Tuesday but it is also our Jack of Spades Raffle. Every Tuesday the pot grows until one lucky winner finds the Jack of Spades. Each week there will be a separate $150 winner just because we love you all! Live music goes on at 7pm and the drawing is at 8pm. Proceeds go to The Kiwanis club of Clinton Township. Come say hi to them\, our staff and your host with the most Doug Simonson every Tuesday night!
URL:http://www.freddysbarrocks.com/event/taco-tuesday-with-mike-adkins-2/
LOCATION:Freddy’s Bar\, 40000 Garfield Rd\, Clinton Twp\, MI\, 48038
CATEGORIES:Concert
ATTACH;FMTTYPE=image/jpeg:http://www.freddysbarrocks.com/wp-content/uploads/2020/06/Jack-Of-Spades-Raffle-social.jpg
END:VEVENT
BEGIN:VEVENT
DTSTART;TZID=UTC:20210712T190000
DTEND;TZID=UTC:20210712T210000
DTSTAMP:20260424T065610
CREATED:20210708T021318Z
LAST-MODIFIED:20210708T021318Z
UID:654-1626116400-1626123600@www.freddysbarrocks.com
SUMMARY:Customer Appreciation BBQ
DESCRIPTION:FREE FOOD! \nJoin us for some free hot dogs\, hamburgers and all the fixins. We will be serving them free of charge (with the purchase of a beverage) from 12pm-2pm and 7pm-9pm. We couldn’t do what we do with out you all and this one way we like to show our appreciation for your business.
URL:http://www.freddysbarrocks.com/event/customer-appreciation-bbq-2/
LOCATION:Freddy’s Bar\, 40000 Garfield Rd\, Clinton Twp\, MI\, 48038
ATTACH;FMTTYPE=image/jpeg:http://www.freddysbarrocks.com/wp-content/uploads/2021/07/Customer-Appreciation-BBQ-7.12-social.jpg
END:VEVENT
BEGIN:VEVENT
DTSTART;TZID=UTC:20210712T120000
DTEND;TZID=UTC:20210712T140000
DTSTAMP:20260424T065610
CREATED:20210708T021035Z
LAST-MODIFIED:20210708T021035Z
UID:651-1626091200-1626098400@www.freddysbarrocks.com
SUMMARY:Customer Appreciation BBQ
DESCRIPTION:FREE FOOD! \nJoin us for some free hot dogs\, hamburgers and all the fixins. We will be serving them free of charge (with the purchase of a beverage) from 12pm-2pm and 7pm-9pm. We couldn’t do what we do with out you all and this one way we like to show our appreciation for your business.
URL:http://www.freddysbarrocks.com/event/customer-appreciation-bbq/
LOCATION:Freddy’s Bar\, 40000 Garfield Rd\, Clinton Twp\, MI\, 48038
ATTACH;FMTTYPE=image/jpeg:http://www.freddysbarrocks.com/wp-content/uploads/2021/07/Customer-Appreciation-BBQ-7.12-social.jpg
END:VEVENT
BEGIN:VEVENT
DTSTART;TZID=UTC:20210709T210000
DTEND;TZID=UTC:20210709T210000
DTSTAMP:20260424T065610
CREATED:20210708T012653Z
LAST-MODIFIED:20210708T012653Z
UID:604-1625864400-1625864400@www.freddysbarrocks.com
SUMMARY:LIVE MUSIC: Weekend Comeback
DESCRIPTION:Live music starts at 9pm. We do accept a certain amount of reservations so make sure you call and save your spot. Freddy’s is the place to be for all of you live music lovin people!
URL:http://www.freddysbarrocks.com/event/live-music-weekend-comeback/
LOCATION:Freddy’s Bar\, 40000 Garfield Rd\, Clinton Twp\, MI\, 48038
CATEGORIES:Concert
ATTACH;FMTTYPE=image/jpeg:http://www.freddysbarrocks.com/wp-content/uploads/2021/07/Weekend-Comeback.jpg
END:VEVENT
END:VCALENDAR