BEGIN:VCALENDAR
VERSION:2.0
PRODID:-//Freddys Bar &amp; Grill - ECPv6.8.3//NONSGML v1.0//EN
CALSCALE:GREGORIAN
METHOD:PUBLISH
X-WR-CALNAME:Freddys Bar &amp; Grill
X-ORIGINAL-URL:http://www.freddysbarrocks.com
X-WR-CALDESC:Events for Freddys Bar &amp; Grill
REFRESH-INTERVAL;VALUE=DURATION:PT1H
X-Robots-Tag:noindex
X-PUBLISHED-TTL:PT1H
BEGIN:VTIMEZONE
TZID:UTC
BEGIN:STANDARD
TZOFFSETFROM:+0000
TZOFFSETTO:+0000
TZNAME:UTC
DTSTART:20200101T000000
END:STANDARD
END:VTIMEZONE
BEGIN:VEVENT
DTSTART;TZID=UTC:20210709T210000
DTEND;TZID=UTC:20210709T210000
DTSTAMP:20260424T053336
CREATED:20210708T012653Z
LAST-MODIFIED:20210708T012653Z
UID:604-1625864400-1625864400@www.freddysbarrocks.com
SUMMARY:LIVE MUSIC: Weekend Comeback
DESCRIPTION:Live music starts at 9pm. We do accept a certain amount of reservations so make sure you call and save your spot. Freddy’s is the place to be for all of you live music lovin people!
URL:http://www.freddysbarrocks.com/event/live-music-weekend-comeback/
LOCATION:Freddy’s Bar\, 40000 Garfield Rd\, Clinton Twp\, MI\, 48038
CATEGORIES:Concert
ATTACH;FMTTYPE=image/jpeg:http://www.freddysbarrocks.com/wp-content/uploads/2021/07/Weekend-Comeback.jpg
END:VEVENT
BEGIN:VEVENT
DTSTART;TZID=UTC:20210629T190000
DTEND;TZID=UTC:20210629T190000
DTSTAMP:20260424T053336
CREATED:20210610T200413Z
LAST-MODIFIED:20210610T200413Z
UID:562-1624993200-1624993200@www.freddysbarrocks.com
SUMMARY:Taco Tuesday with Justin Alexander
DESCRIPTION:Not only is it Taco Tuesday but it is also our Jack of Spades Raffle. Every Tuesday the pot grows until one lucky winner finds the Jack of Spades. Each week there will be a separate $150 winner just because we love you all! Live music goes on at 7pm and the drawing is at 8pm. Proceeds go to The Kiwanis club of Clinton Township. Come say hi to them\, our staff and your host with the most Doug Simonson every Tuesday night!
URL:http://www.freddysbarrocks.com/event/taco-tuesday-with-justin-alexander-4/
LOCATION:Freddy’s Bar\, 40000 Garfield Rd\, Clinton Twp\, MI\, 48038
CATEGORIES:Concert
ATTACH;FMTTYPE=image/jpeg:http://www.freddysbarrocks.com/wp-content/uploads/2020/06/Jack-Of-Spades-Raffle-social.jpg
END:VEVENT
BEGIN:VEVENT
DTSTART;TZID=UTC:20210626T210000
DTEND;TZID=UTC:20210626T210000
DTSTAMP:20260424T053336
CREATED:20210610T200208Z
LAST-MODIFIED:20210610T200208Z
UID:560-1624741200-1624741200@www.freddysbarrocks.com
SUMMARY:LIVE MUSIC: Planet of Fun
DESCRIPTION:Live music starts at 9pm. We do accept a certain amount of reservations so make sure you call and save your spot. Freddy’s is the place to be for all of you live music lovin people!
URL:http://www.freddysbarrocks.com/event/live-music-planet-of-fun-5/
LOCATION:Freddy’s Bar\, 40000 Garfield Rd\, Clinton Twp\, MI\, 48038
CATEGORIES:Concert
ATTACH;FMTTYPE=image/png:http://www.freddysbarrocks.com/wp-content/uploads/2020/06/Planet-of-Fun-Logo.png
END:VEVENT
BEGIN:VEVENT
DTSTART;TZID=UTC:20210625T210000
DTEND;TZID=UTC:20210625T210000
DTSTAMP:20260424T053336
CREATED:20210610T200033Z
LAST-MODIFIED:20210610T200605Z
UID:558-1624654800-1624654800@www.freddysbarrocks.com
SUMMARY:LIVE MUSIC: Planet of Fun
DESCRIPTION:Live music starts at 9pm. We do accept a certain amount of reservations so make sure you call and save your spot. Freddy’s is the place to be for all of you live music lovin people!
URL:http://www.freddysbarrocks.com/event/live-music-planet-of-fun-4/
LOCATION:Freddy’s Bar\, 40000 Garfield Rd\, Clinton Twp\, MI\, 48038
CATEGORIES:Concert
ATTACH;FMTTYPE=image/png:http://www.freddysbarrocks.com/wp-content/uploads/2020/06/Planet-of-Fun-Logo.png
END:VEVENT
BEGIN:VEVENT
DTSTART;TZID=UTC:20210619T210000
DTEND;TZID=UTC:20210619T210000
DTSTAMP:20260424T053336
CREATED:20201015T224553Z
LAST-MODIFIED:20210610T200454Z
UID:523-1624136400-1624136400@www.freddysbarrocks.com
SUMMARY:LIVE MUSIC: Stone Blossoms
DESCRIPTION:Live music starts at 9pm. We do accept a certain amount of reservations so make sure you call and save your spot. Freddy’s is the place to be for all of you live music lovin people!
URL:http://www.freddysbarrocks.com/event/live-music-jukebox-paradox-2/
LOCATION:Freddy’s Bar\, 40000 Garfield Rd\, Clinton Twp\, MI\, 48038
CATEGORIES:Concert
ATTACH;FMTTYPE=image/png:http://www.freddysbarrocks.com/wp-content/uploads/2020/10/stone-blossoms.png
END:VEVENT
BEGIN:VEVENT
DTSTART;TZID=UTC:20210617T190000
DTEND;TZID=UTC:20210617T190000
DTSTAMP:20260424T053336
CREATED:20201015T223712Z
LAST-MODIFIED:20210610T194940Z
UID:513-1623956400-1623956400@www.freddysbarrocks.com
SUMMARY:BIKE NIGHT with Bobby McManus Band
DESCRIPTION:Live music starts at 7pm. $12 Domestic Buckets\, $5 Calls and Half off Pizza all night.
URL:http://www.freddysbarrocks.com/event/live-music-stone-blossoms/
LOCATION:Freddy’s Bar\, 40000 Garfield Rd\, Clinton Twp\, MI\, 48038
CATEGORIES:Concert
ATTACH;FMTTYPE=image/jpeg:http://www.freddysbarrocks.com/wp-content/uploads/2020/10/Freddys-Bike-Night-2021-social.jpg
END:VEVENT
BEGIN:VEVENT
DTSTART;TZID=UTC:20201215T190000
DTEND;TZID=UTC:20201215T190000
DTSTAMP:20260424T053336
CREATED:20201015T211226Z
LAST-MODIFIED:20201015T211226Z
UID:451-1608058800-1608058800@www.freddysbarrocks.com
SUMMARY:Taco Tuesday with Doug Simonson
DESCRIPTION:Not only is it Taco Tuesday but it is also our Jack of Spades Raffle. Every Tuesday the pot grows until one lucky winner finds the Jack of Spades. Each week there will be a separate $150 winner just because we love you all! Live music goes on at 7pm and the drawing is at 8pm. Proceeds go to The Kiwanis club of Clinton Township. Come say hi to them\, our staff and your host with the most Doug Simonson every Tuesday night!
URL:http://www.freddysbarrocks.com/event/taco-tuesday-with-doug-simonson/
LOCATION:Freddy’s Bar\, 40000 Garfield Rd\, Clinton Twp\, MI\, 48038
CATEGORIES:Concert
ATTACH;FMTTYPE=image/jpeg:http://www.freddysbarrocks.com/wp-content/uploads/2020/06/Jack-Of-Spades-Raffle-social.jpg
END:VEVENT
BEGIN:VEVENT
DTSTART;TZID=UTC:20201212T213000
DTEND;TZID=UTC:20201212T213000
DTSTAMP:20260424T053336
CREATED:20201015T224439Z
LAST-MODIFIED:20201015T224439Z
UID:521-1607808600-1607808600@www.freddysbarrocks.com
SUMMARY:LIVE MUSIC: Jukebox Paradox
DESCRIPTION:Live music starts at 9:30pm. We do accept a certain amount of reservations so make sure you call and save your spot. Freddy’s is the place to be for all of you live music lovin people!
URL:http://www.freddysbarrocks.com/event/live-music-jukebox-paradox/
LOCATION:Freddy’s Bar\, 40000 Garfield Rd\, Clinton Twp\, MI\, 48038
CATEGORIES:Concert
ATTACH;FMTTYPE=image/jpeg:http://www.freddysbarrocks.com/wp-content/uploads/2020/10/Jukebox-Paradox.jpg
END:VEVENT
BEGIN:VEVENT
DTSTART;TZID=UTC:20201211T213000
DTEND;TZID=UTC:20201211T213000
DTSTAMP:20260424T053336
CREATED:20201015T224045Z
LAST-MODIFIED:20201015T224045Z
UID:519-1607722200-1607722200@www.freddysbarrocks.com
SUMMARY:LIVE MUSIC: Mad Rabbit
DESCRIPTION:Live music starts at 9:30pm. We do accept a certain amount of reservations so make sure you call and save your spot. Freddy’s is the place to be for all of you live music lovin people!
URL:http://www.freddysbarrocks.com/event/live-music-mad-rabbit/
LOCATION:Freddy’s Bar\, 40000 Garfield Rd\, Clinton Twp\, MI\, 48038
CATEGORIES:Concert
ATTACH;FMTTYPE=image/jpeg:http://www.freddysbarrocks.com/wp-content/uploads/2020/10/Mad-Rabbit-Logo.jpg
END:VEVENT
BEGIN:VEVENT
DTSTART;TZID=UTC:20201206T213000
DTEND;TZID=UTC:20201206T213000
DTSTAMP:20260424T053336
CREATED:20201015T225315Z
LAST-MODIFIED:20201015T225315Z
UID:528-1607290200-1607290200@www.freddysbarrocks.com
SUMMARY:13th Annual Rock 4 Tots
DESCRIPTION:The event of the year! And with out many events happening this year\, Rock 4 Tots will be a must attend affair. 52 bands in 2 days!!! All for a great cause\, so no kid goes without a Christmas. CAN’T WAIT!
URL:http://www.freddysbarrocks.com/event/13th-annual-rock-4-tots-2/
LOCATION:Freddy’s Bar\, 40000 Garfield Rd\, Clinton Twp\, MI\, 48038
CATEGORIES:Concert
ATTACH;FMTTYPE=image/jpeg:http://www.freddysbarrocks.com/wp-content/uploads/2020/05/logoonblack.jpg
END:VEVENT
BEGIN:VEVENT
DTSTART;TZID=UTC:20201205T213000
DTEND;TZID=UTC:20201205T213000
DTSTAMP:20260424T053336
CREATED:20201015T225232Z
LAST-MODIFIED:20201015T225232Z
UID:525-1607203800-1607203800@www.freddysbarrocks.com
SUMMARY:13th Annual Rock 4 Tots
DESCRIPTION:The event of the year! And with out many events happening this year\, Rock 4 Tots will be a must attend affair. 52 bands in 2 days!!! All for a great cause\, so no kid goes without a Christmas. CAN’T WAIT!
URL:http://www.freddysbarrocks.com/event/13th-annual-rock-4-tots/
LOCATION:Freddy’s Bar\, 40000 Garfield Rd\, Clinton Twp\, MI\, 48038
CATEGORIES:Concert
ATTACH;FMTTYPE=image/jpeg:http://www.freddysbarrocks.com/wp-content/uploads/2020/05/logoonblack.jpg
END:VEVENT
BEGIN:VEVENT
DTSTART;TZID=UTC:20201201T190000
DTEND;TZID=UTC:20201201T190000
DTSTAMP:20260424T053336
CREATED:20201015T211006Z
LAST-MODIFIED:20201015T211006Z
UID:448-1606849200-1606849200@www.freddysbarrocks.com
SUMMARY:Taco Tuesday with Mike Adkins
DESCRIPTION:Not only is it Taco Tuesday but it is also our Jack of Spades Raffle. Every Tuesday the pot grows until one lucky winner finds the Jack of Spades. Each week there will be a separate $150 winner just because we love you all! Live music goes on at 7pm and the drawing is at 8pm. Proceeds go to The Kiwanis club of Clinton Township. Come say hi to them\, our staff and your host with the most Doug Simonson every Tuesday night!
URL:http://www.freddysbarrocks.com/event/taco-tuesday-with-mike-adkins/
LOCATION:Freddy’s Bar\, 40000 Garfield Rd\, Clinton Twp\, MI\, 48038
CATEGORIES:Concert
ATTACH;FMTTYPE=image/jpeg:http://www.freddysbarrocks.com/wp-content/uploads/2020/06/Jack-Of-Spades-Raffle-social.jpg
END:VEVENT
BEGIN:VEVENT
DTSTART;TZID=UTC:20201128T213000
DTEND;TZID=UTC:20201128T213000
DTSTAMP:20260424T053336
CREATED:20201015T223856Z
LAST-MODIFIED:20201015T223856Z
UID:515-1606599000-1606599000@www.freddysbarrocks.com
SUMMARY:LIVE MUSIC: The Almighty CHIT!
DESCRIPTION:Live music starts at 9:30pm. We do accept a certain amount of reservations so make sure you call and save your spot. Freddy’s is the place to be for all of you live music lovin people!
URL:http://www.freddysbarrocks.com/event/live-music-the-almighty-chit/
LOCATION:Freddy’s Bar\, 40000 Garfield Rd\, Clinton Twp\, MI\, 48038
CATEGORIES:Concert
ATTACH;FMTTYPE=image/jpeg:http://www.freddysbarrocks.com/wp-content/uploads/2020/10/chit.jpg
END:VEVENT
BEGIN:VEVENT
DTSTART;TZID=UTC:20201126T190000
DTEND;TZID=UTC:20201126T190000
DTSTAMP:20260424T053336
CREATED:20201015T223938Z
LAST-MODIFIED:20201015T223938Z
UID:517-1606417200-1606417200@www.freddysbarrocks.com
SUMMARY:Ladies Night Jam with the Band - Planet of Fun
DESCRIPTION:Live music and great drink specials! $12 domestic buckets and $5 calls all night long! Live music starts at 8pm. Get here early and get your name on the list if you want to rock out on Freddy’s Stage.
URL:http://www.freddysbarrocks.com/event/ladies-night-jam-with-the-band-planet-of-fun-2/
LOCATION:Freddy’s Bar\, 40000 Garfield Rd\, Clinton Twp\, MI\, 48038
CATEGORIES:Concert
ATTACH;FMTTYPE=image/jpeg:http://www.freddysbarrocks.com/wp-content/uploads/2020/10/Planet-of-Fun.jpg
END:VEVENT
BEGIN:VEVENT
DTSTART;TZID=UTC:20201125T210000
DTEND;TZID=UTC:20201125T210000
DTSTAMP:20260424T053336
CREATED:20201015T213104Z
LAST-MODIFIED:20201015T213104Z
UID:463-1606338000-1606338000@www.freddysbarrocks.com
SUMMARY:Late Night Acoustic with Johnny P
DESCRIPTION:Join us after trivia for some live music and cold drinks! Live music starts at 9pm. $.75 wings and $4 craft drafts all day long!
URL:http://www.freddysbarrocks.com/event/late-night-acoustic-with-johnny-p-2/
LOCATION:Freddy’s Bar\, 40000 Garfield Rd\, Clinton Twp\, MI\, 48038
CATEGORIES:Concert
ATTACH;FMTTYPE=image/jpeg:http://www.freddysbarrocks.com/wp-content/uploads/2020/06/live-music.jpg
END:VEVENT
BEGIN:VEVENT
DTSTART;TZID=UTC:20201124T190000
DTEND;TZID=UTC:20201124T190000
DTSTAMP:20260424T053336
CREATED:20201015T210900Z
LAST-MODIFIED:20201015T210900Z
UID:435-1606244400-1606244400@www.freddysbarrocks.com
SUMMARY:Taco Tuesday with Justin Alexander
DESCRIPTION:Not only is it Taco Tuesday but it is also our Jack of Spades Raffle. Every Tuesday the pot grows until one lucky winner finds the Jack of Spades. Each week there will be a separate $150 winner just because we love you all! Live music goes on at 7pm and the drawing is at 8pm. Proceeds go to The Kiwanis club of Clinton Township. Come say hi to them\, our staff and your host with the most Doug Simonson every Tuesday night!
URL:http://www.freddysbarrocks.com/event/taco-tuesday-with-justin-alexander-3/
LOCATION:Freddy’s Bar\, 40000 Garfield Rd\, Clinton Twp\, MI\, 48038
CATEGORIES:Concert
ATTACH;FMTTYPE=image/jpeg:http://www.freddysbarrocks.com/wp-content/uploads/2020/06/Jack-Of-Spades-Raffle-social.jpg
END:VEVENT
BEGIN:VEVENT
DTSTART;TZID=UTC:20201121T213000
DTEND;TZID=UTC:20201121T213000
DTSTAMP:20260424T053336
CREATED:20201015T223619Z
LAST-MODIFIED:20201015T223619Z
UID:511-1605994200-1605994200@www.freddysbarrocks.com
SUMMARY:LIVE MUSIC: Planet of Fun
DESCRIPTION:Live music starts at 9:30pm. We do accept a certain amount of reservations so make sure you call and save your spot. Freddy’s is the place to be for all of you live music lovin people!
URL:http://www.freddysbarrocks.com/event/live-music-planet-of-fun-3/
LOCATION:Freddy’s Bar\, 40000 Garfield Rd\, Clinton Twp\, MI\, 48038
CATEGORIES:Concert
ATTACH;FMTTYPE=image/jpeg:http://www.freddysbarrocks.com/wp-content/uploads/2020/10/Planet-of-Fun.jpg
END:VEVENT
BEGIN:VEVENT
DTSTART;TZID=UTC:20201120T213000
DTEND;TZID=UTC:20201120T213000
DTSTAMP:20260424T053336
CREATED:20201015T223536Z
LAST-MODIFIED:20201015T223536Z
UID:509-1605907800-1605907800@www.freddysbarrocks.com
SUMMARY:LIVE MUSIC: Planet of Fun
DESCRIPTION:Live music starts at 9:30pm. We do accept a certain amount of reservations so make sure you call and save your spot. Freddy’s is the place to be for all of you live music lovin people!
URL:http://www.freddysbarrocks.com/event/live-music-planet-of-fun-2/
LOCATION:Freddy’s Bar\, 40000 Garfield Rd\, Clinton Twp\, MI\, 48038
CATEGORIES:Concert
ATTACH;FMTTYPE=image/jpeg:http://www.freddysbarrocks.com/wp-content/uploads/2020/10/Planet-of-Fun.jpg
END:VEVENT
BEGIN:VEVENT
DTSTART;TZID=UTC:20201119T190000
DTEND;TZID=UTC:20201119T190000
DTSTAMP:20260424T053336
CREATED:20201015T220427Z
LAST-MODIFIED:20201015T220427Z
UID:471-1605812400-1605812400@www.freddysbarrocks.com
SUMMARY:Ladies Night with Weekend Comeback - Happy Birthday Kayla
DESCRIPTION:Live music and great drink specials! $12 domestic buckets and $5 calls all night long! Live music starts at 8pm. Gonna be celebrating the singer Kayla’s birthday all night.
URL:http://www.freddysbarrocks.com/event/ladies-night-with-weekend-comeback-happy-birthday-kayla/
LOCATION:Freddy’s Bar\, 40000 Garfield Rd\, Clinton Twp\, MI\, 48038
CATEGORIES:Concert
ATTACH;FMTTYPE=image/jpeg:http://www.freddysbarrocks.com/wp-content/uploads/2020/06/Bike-Night-2020-social.jpg
END:VEVENT
BEGIN:VEVENT
DTSTART;TZID=UTC:20201118T210000
DTEND;TZID=UTC:20201118T210000
DTSTAMP:20260424T053336
CREATED:20201015T212950Z
LAST-MODIFIED:20201015T212950Z
UID:453-1605733200-1605733200@www.freddysbarrocks.com
SUMMARY:Late Night Acoustic with Bobby McManus
DESCRIPTION:Join us after trivia for some live music and cold drinks! Live music starts at 9pm. $.75 wings and $4 craft drafts all day long!
URL:http://www.freddysbarrocks.com/event/late-night-acoustic-with-bobby-mcmanus-4/
LOCATION:Freddy’s Bar\, 40000 Garfield Rd\, Clinton Twp\, MI\, 48038
CATEGORIES:Concert
ATTACH;FMTTYPE=image/jpeg:http://www.freddysbarrocks.com/wp-content/uploads/2020/06/live-music.jpg
END:VEVENT
BEGIN:VEVENT
DTSTART;TZID=UTC:20201117T190000
DTEND;TZID=UTC:20201117T190000
DTSTAMP:20260424T053336
CREATED:20201015T210810Z
LAST-MODIFIED:20201015T210810Z
UID:436-1605639600-1605639600@www.freddysbarrocks.com
SUMMARY:Taco Tuesday with Bobby McManus
DESCRIPTION:Not only is it Taco Tuesday but it is also our Jack of Spades Raffle. Every Tuesday the pot grows until one lucky winner finds the Jack of Spades. Each week there will be a separate $150 winner just because we love you all! Live music goes on at 7pm and the drawing is at 8pm. Proceeds go to The Kiwanis club of Clinton Township. Come say hi to them\, our staff and your host with the most Doug Simonson every Tuesday night!
URL:http://www.freddysbarrocks.com/event/taco-tuesday-with-bobby-mcmanus-2/
LOCATION:Freddy’s Bar\, 40000 Garfield Rd\, Clinton Twp\, MI\, 48038
CATEGORIES:Concert
ATTACH;FMTTYPE=image/jpeg:http://www.freddysbarrocks.com/wp-content/uploads/2020/06/Jack-Of-Spades-Raffle-social.jpg
END:VEVENT
BEGIN:VEVENT
DTSTART;TZID=UTC:20201114T213000
DTEND;TZID=UTC:20201114T213000
DTSTAMP:20260424T053336
CREATED:20201015T223357Z
LAST-MODIFIED:20201015T223357Z
UID:507-1605389400-1605389400@www.freddysbarrocks.com
SUMMARY:LIVE MUSIC: Family Tradition Band
DESCRIPTION:Live music starts at 9:30pm. We do accept a certain amount of reservations so make sure you call and save your spot. Freddy’s is the place to be for all of you live music lovin people!
URL:http://www.freddysbarrocks.com/event/live-music-family-tradition-band/
LOCATION:Freddy’s Bar\, 40000 Garfield Rd\, Clinton Twp\, MI\, 48038
CATEGORIES:Concert
ATTACH;FMTTYPE=image/jpeg:http://www.freddysbarrocks.com/wp-content/uploads/2020/10/Family-Tradition-Band.jpg
END:VEVENT
BEGIN:VEVENT
DTSTART;TZID=UTC:20201113T213000
DTEND;TZID=UTC:20201113T213000
DTSTAMP:20260424T053336
CREATED:20201015T223247Z
LAST-MODIFIED:20201015T223247Z
UID:505-1605303000-1605303000@www.freddysbarrocks.com
SUMMARY:LIVE MUSIC: Rusty Toys Band
DESCRIPTION:Live music starts at 9:30pm. We do accept a certain amount of reservations so make sure you call and save your spot. Freddy’s is the place to be for all of you live music lovin people!
URL:http://www.freddysbarrocks.com/event/live-music-rusty-toys-band/
LOCATION:Freddy’s Bar\, 40000 Garfield Rd\, Clinton Twp\, MI\, 48038
CATEGORIES:Concert
ATTACH;FMTTYPE=image/jpeg:http://www.freddysbarrocks.com/wp-content/uploads/2020/10/rusty-toys-band.jpg
END:VEVENT
BEGIN:VEVENT
DTSTART;TZID=UTC:20201111T210000
DTEND;TZID=UTC:20201111T210000
DTSTAMP:20260424T053336
CREATED:20201015T212839Z
LAST-MODIFIED:20201015T212839Z
UID:454-1605128400-1605128400@www.freddysbarrocks.com
SUMMARY:Late Night Acoustic with Mike Adkins
DESCRIPTION:Join us after trivia for some live music and cold drinks! Live music starts at 9pm. $.75 wings and $4 craft drafts all day long!
URL:http://www.freddysbarrocks.com/event/late-night-acoustic-with-mike-adkins-2/
LOCATION:Freddy’s Bar\, 40000 Garfield Rd\, Clinton Twp\, MI\, 48038
CATEGORIES:Concert
ATTACH;FMTTYPE=image/jpeg:http://www.freddysbarrocks.com/wp-content/uploads/2020/06/live-music.jpg
END:VEVENT
BEGIN:VEVENT
DTSTART;TZID=UTC:20201110T190000
DTEND;TZID=UTC:20201110T190000
DTSTAMP:20260424T053336
CREATED:20201015T210601Z
LAST-MODIFIED:20201015T210601Z
UID:437-1605034800-1605034800@www.freddysbarrocks.com
SUMMARY:Taco Tuesday with Justin Alexander
DESCRIPTION:Not only is it Taco Tuesday but it is also our Jack of Spades Raffle. Every Tuesday the pot grows until one lucky winner finds the Jack of Spades. Each week there will be a separate $150 winner just because we love you all! Live music goes on at 7pm and the drawing is at 8pm. Proceeds go to The Kiwanis club of Clinton Township. Come say hi to them\, our staff and your host with the most Doug Simonson every Tuesday night!
URL:http://www.freddysbarrocks.com/event/taco-tuesday-with-justin-alexander-2/
LOCATION:Freddy’s Bar\, 40000 Garfield Rd\, Clinton Twp\, MI\, 48038
CATEGORIES:Concert
ATTACH;FMTTYPE=image/jpeg:http://www.freddysbarrocks.com/wp-content/uploads/2020/06/Jack-Of-Spades-Raffle-social.jpg
END:VEVENT
BEGIN:VEVENT
DTSTART;TZID=UTC:20201107T213000
DTEND;TZID=UTC:20201107T213000
DTSTAMP:20260424T053336
CREATED:20201015T223136Z
LAST-MODIFIED:20201015T223137Z
UID:503-1604784600-1604784600@www.freddysbarrocks.com
SUMMARY:LIVE MUSIC: Doin' Time
DESCRIPTION:Live music starts at 9:30pm. We do accept a certain amount of reservations so make sure you call and save your spot. Freddy’s is the place to be for all of you live music lovin people!
URL:http://www.freddysbarrocks.com/event/live-music-doin-time/
LOCATION:Freddy’s Bar\, 40000 Garfield Rd\, Clinton Twp\, MI\, 48038
CATEGORIES:Concert
ATTACH;FMTTYPE=image/jpeg:http://www.freddysbarrocks.com/wp-content/uploads/2020/10/Doin-Time-Logo.jpg
END:VEVENT
BEGIN:VEVENT
DTSTART;TZID=UTC:20201106T213000
DTEND;TZID=UTC:20201106T213000
DTSTAMP:20260424T053336
CREATED:20201015T223033Z
LAST-MODIFIED:20201015T223033Z
UID:501-1604698200-1604698200@www.freddysbarrocks.com
SUMMARY:LIVE MUSIC: Reckless Revival
DESCRIPTION:Live music starts at 9:30pm. We do accept a certain amount of reservations so make sure you call and save your spot. Freddy’s is the place to be for all of you live music lovin people!
URL:http://www.freddysbarrocks.com/event/live-music-reckless-revival/
LOCATION:Freddy’s Bar\, 40000 Garfield Rd\, Clinton Twp\, MI\, 48038
CATEGORIES:Concert
ATTACH;FMTTYPE=image/png:http://www.freddysbarrocks.com/wp-content/uploads/2020/10/Reckless-Revival-Logo.png
END:VEVENT
BEGIN:VEVENT
DTSTART;TZID=UTC:20201105T190000
DTEND;TZID=UTC:20201105T190000
DTSTAMP:20260424T053336
CREATED:20201015T220235Z
LAST-MODIFIED:20201015T220235Z
UID:470-1604602800-1604602800@www.freddysbarrocks.com
SUMMARY:Ladies Night Jam with the Band - Planet of Fun
DESCRIPTION:Live music and great drink specials! $12 domestic buckets and $5 calls all night long! Live music starts at 8pm. Get here early and get your name on the list if you want to rock out on Freddy’s Stage.
URL:http://www.freddysbarrocks.com/event/ladies-night-jam-with-the-band-planet-of-fun/
LOCATION:Freddy’s Bar\, 40000 Garfield Rd\, Clinton Twp\, MI\, 48038
CATEGORIES:Concert
ATTACH;FMTTYPE=image/jpeg:http://www.freddysbarrocks.com/wp-content/uploads/2020/10/Planet-of-Fun.jpg
END:VEVENT
BEGIN:VEVENT
DTSTART;TZID=UTC:20201104T210000
DTEND;TZID=UTC:20201104T210000
DTSTAMP:20260424T053336
CREATED:20201015T212617Z
LAST-MODIFIED:20201015T212617Z
UID:455-1604523600-1604523600@www.freddysbarrocks.com
SUMMARY:Late Night Acoustic with Weekend Comeback
DESCRIPTION:Join us after trivia for some live music and cold drinks! Live music starts at 9pm. $.75 wings and $4 craft drafts all day long!
URL:http://www.freddysbarrocks.com/event/late-night-acoustic-with-weekend-comeback/
LOCATION:Freddy’s Bar\, 40000 Garfield Rd\, Clinton Twp\, MI\, 48038
CATEGORIES:Concert
ATTACH;FMTTYPE=image/jpeg:http://www.freddysbarrocks.com/wp-content/uploads/2020/06/live-music.jpg
END:VEVENT
BEGIN:VEVENT
DTSTART;TZID=UTC:20201103T190000
DTEND;TZID=UTC:20201103T190000
DTSTAMP:20260424T053336
CREATED:20201015T210441Z
LAST-MODIFIED:20201015T210441Z
UID:438-1604430000-1604430000@www.freddysbarrocks.com
SUMMARY:Taco Tuesday with Bobby and Tiffany
DESCRIPTION:Not only is it Taco Tuesday but it is also our Jack of Spades Raffle. Every Tuesday the pot grows until one lucky winner finds the Jack of Spades. Each week there will be a separate $150 winner just because we love you all! Live music goes on at 7pm and the drawing is at 8pm. Proceeds go to The Kiwanis club of Clinton Township. Come say hi to them\, our staff and your host with the most Doug Simonson every Tuesday night!
URL:http://www.freddysbarrocks.com/event/taco-tuesday-with-bobby-and-tiffany/
LOCATION:Freddy’s Bar\, 40000 Garfield Rd\, Clinton Twp\, MI\, 48038
CATEGORIES:Concert
ATTACH;FMTTYPE=image/jpeg:http://www.freddysbarrocks.com/wp-content/uploads/2020/06/Jack-Of-Spades-Raffle-social.jpg
END:VEVENT
END:VCALENDAR