BEGIN:VCALENDAR
VERSION:2.0
PRODID:-//Freddys Bar &amp; Grill - ECPv6.8.3//NONSGML v1.0//EN
CALSCALE:GREGORIAN
METHOD:PUBLISH
X-WR-CALNAME:Freddys Bar &amp; Grill
X-ORIGINAL-URL:http://www.freddysbarrocks.com
X-WR-CALDESC:Events for Freddys Bar &amp; Grill
REFRESH-INTERVAL;VALUE=DURATION:PT1H
X-Robots-Tag:noindex
X-PUBLISHED-TTL:PT1H
BEGIN:VTIMEZONE
TZID:UTC
BEGIN:STANDARD
TZOFFSETFROM:+0000
TZOFFSETTO:+0000
TZNAME:UTC
DTSTART:20200101T000000
END:STANDARD
END:VTIMEZONE
BEGIN:VEVENT
DTSTART;TZID=UTC:20201030T213000
DTEND;TZID=UTC:20201030T213000
DTSTAMP:20260424T150243
CREATED:20201015T222110Z
LAST-MODIFIED:20201015T222110Z
UID:489-1604093400-1604093400@www.freddysbarrocks.com
SUMMARY:LIVE MUSIC: Planet of Fun
DESCRIPTION:Live music starts at 9:30pm. We do accept a certain amount of reservations so make sure you call and save your spot. Freddy’s is the place to be for all of you live music lovin people!
URL:http://www.freddysbarrocks.com/event/live-music-planet-of-fun/
LOCATION:Freddy’s Bar\, 40000 Garfield Rd\, Clinton Twp\, MI\, 48038
CATEGORIES:Concert
ATTACH;FMTTYPE=image/jpeg:http://www.freddysbarrocks.com/wp-content/uploads/2020/10/Planet-of-Fun.jpg
END:VEVENT
BEGIN:VEVENT
DTSTART;TZID=UTC:20201029T190000
DTEND;TZID=UTC:20201029T190000
DTSTAMP:20260424T150243
CREATED:20201015T215524Z
LAST-MODIFIED:20201015T220710Z
UID:467-1603998000-1603998000@www.freddysbarrocks.com
SUMMARY:Ladies Night with Priceless Live
DESCRIPTION:Live music and great drink specials! $12 domestic buckets and $5 calls all night long! Live music starts at 8pm.
URL:http://www.freddysbarrocks.com/event/ladies-night-with-priceless-live-2/
LOCATION:Freddy’s Bar\, 40000 Garfield Rd\, Clinton Twp\, MI\, 48038
CATEGORIES:Concert
ATTACH;FMTTYPE=image/jpeg:http://www.freddysbarrocks.com/wp-content/uploads/2020/10/Ladies-Night-2020-social.jpg
END:VEVENT
BEGIN:VEVENT
DTSTART;TZID=UTC:20201028T210000
DTEND;TZID=UTC:20201028T210000
DTSTAMP:20260424T150243
CREATED:20201015T212322Z
LAST-MODIFIED:20201015T212322Z
UID:456-1603918800-1603918800@www.freddysbarrocks.com
SUMMARY:Late Night Acoustic with Mike Adkins
DESCRIPTION:Join us after trivia for some live music and cold drinks! Live music starts at 9pm. $.75 wings and $4 craft drafts all day long!
URL:http://www.freddysbarrocks.com/event/late-night-acoustic-with-mike-adkins/
LOCATION:Freddy’s Bar\, 40000 Garfield Rd\, Clinton Twp\, MI\, 48038
CATEGORIES:Concert
ATTACH;FMTTYPE=image/jpeg:http://www.freddysbarrocks.com/wp-content/uploads/2020/06/live-music.jpg
END:VEVENT
BEGIN:VEVENT
DTSTART;TZID=UTC:20201027T190000
DTEND;TZID=UTC:20201027T190000
DTSTAMP:20260424T150243
CREATED:20201015T210155Z
LAST-MODIFIED:20201015T210155Z
UID:439-1603825200-1603825200@www.freddysbarrocks.com
SUMMARY:Taco Tuesday with Bobby McManus
DESCRIPTION:Not only is it Taco Tuesday but it is also our Jack of Spades Raffle. Every Tuesday the pot grows until one lucky winner finds the Jack of Spades. Each week there will be a separate $150 winner just because we love you all! Live music goes on at 7pm and the drawing is at 8pm. Proceeds go to The Kiwanis club of Clinton Township. Come say hi to them\, our staff and your host with the most Doug Simonson every Tuesday night!
URL:http://www.freddysbarrocks.com/event/taco-tuesday-with-bobby-mcmanus/
LOCATION:Freddy’s Bar\, 40000 Garfield Rd\, Clinton Twp\, MI\, 48038
CATEGORIES:Concert
ATTACH;FMTTYPE=image/jpeg:http://www.freddysbarrocks.com/wp-content/uploads/2020/06/Jack-Of-Spades-Raffle-social.jpg
END:VEVENT
BEGIN:VEVENT
DTSTART;TZID=UTC:20201024T213000
DTEND;TZID=UTC:20201024T213000
DTSTAMP:20260424T150243
CREATED:20201015T225734Z
LAST-MODIFIED:20201015T225734Z
UID:530-1603575000-1603575000@www.freddysbarrocks.com
SUMMARY:Trunk or Treat
DESCRIPTION:Decorate your car\, pass out some candy and compete for a $50 gift card. Bring the kids up for some safe trick or treating action. There will be specials inside for lunch afterwards too!
URL:http://www.freddysbarrocks.com/event/trunk-or-treat/
LOCATION:Freddy’s Bar\, 40000 Garfield Rd\, Clinton Twp\, MI\, 48038
CATEGORIES:Concert
ATTACH;FMTTYPE=image/jpeg:http://www.freddysbarrocks.com/wp-content/uploads/2020/10/Trunk-or-Treat-2020.jpg
END:VEVENT
BEGIN:VEVENT
DTSTART;TZID=UTC:20201024T213000
DTEND;TZID=UTC:20201024T213000
DTSTAMP:20260424T150243
CREATED:20201015T221958Z
LAST-MODIFIED:20201015T221958Z
UID:487-1603575000-1603575000@www.freddysbarrocks.com
SUMMARY:LIVE MUSIC: Five Horsemen w/86 Noodles
DESCRIPTION:Live music starts at 9:30pm. We do accept a certain amount of reservations so make sure you call and save your spot. Freddy’s is the place to be for all of you live music lovin people!
URL:http://www.freddysbarrocks.com/event/live-music-five-horsemen-w-86-noodles/
LOCATION:Freddy’s Bar\, 40000 Garfield Rd\, Clinton Twp\, MI\, 48038
CATEGORIES:Concert
ATTACH;FMTTYPE=image/jpeg:http://www.freddysbarrocks.com/wp-content/uploads/2020/05/logoonblack.jpg
END:VEVENT
BEGIN:VEVENT
DTSTART;TZID=UTC:20201023T213000
DTEND;TZID=UTC:20201023T213000
DTSTAMP:20260424T150243
CREATED:20201015T221754Z
LAST-MODIFIED:20201019T171402Z
UID:485-1603488600-1603488600@www.freddysbarrocks.com
SUMMARY:LIVE MUSIC: The Good the Bad and the Ugly
DESCRIPTION:Live music starts at 9:30pm. We do accept a certain amount of reservations so make sure you call and save your spot. Freddy’s is the place to be for all of you live music lovin people!
URL:http://www.freddysbarrocks.com/event/live-music-funhouse-2/
LOCATION:Freddy’s Bar\, 40000 Garfield Rd\, Clinton Twp\, MI\, 48038
CATEGORIES:Concert
ATTACH;FMTTYPE=image/jpeg:http://www.freddysbarrocks.com/wp-content/uploads/2020/10/Good-Bad-Ugly.jpg
END:VEVENT
BEGIN:VEVENT
DTSTART;TZID=UTC:20201022T190000
DTEND;TZID=UTC:20201022T190000
DTSTAMP:20260424T150243
CREATED:20201015T213550Z
LAST-MODIFIED:20201015T220622Z
UID:465-1603393200-1603393200@www.freddysbarrocks.com
SUMMARY:Ladies Night with Priceless Live
DESCRIPTION:Live music and great drink specials! $12 domestic buckets and $5 calls all night long! Live music starts at 8pm.
URL:http://www.freddysbarrocks.com/event/ladies-night-with-priceless-live/
LOCATION:Freddy’s Bar\, 40000 Garfield Rd\, Clinton Twp\, MI\, 48038
CATEGORIES:Concert
ATTACH;FMTTYPE=image/jpeg:http://www.freddysbarrocks.com/wp-content/uploads/2020/10/Ladies-Night-2020-social.jpg
END:VEVENT
BEGIN:VEVENT
DTSTART;TZID=UTC:20201021T210000
DTEND;TZID=UTC:20201021T210000
DTSTAMP:20260424T150243
CREATED:20201015T212153Z
LAST-MODIFIED:20201015T212153Z
UID:457-1603314000-1603314000@www.freddysbarrocks.com
SUMMARY:Late Night Acoustic with Justin Alexander
DESCRIPTION:Join us after trivia for some live music and cold drinks! Live music starts at 9pm. $.75 wings and $4 craft drafts all day long!
URL:http://www.freddysbarrocks.com/event/late-night-acoustic-with-justin-alexander/
LOCATION:Freddy’s Bar\, 40000 Garfield Rd\, Clinton Twp\, MI\, 48038
CATEGORIES:Concert
ATTACH;FMTTYPE=image/jpeg:http://www.freddysbarrocks.com/wp-content/uploads/2020/06/live-music.jpg
END:VEVENT
BEGIN:VEVENT
DTSTART;TZID=UTC:20201020T190000
DTEND;TZID=UTC:20201020T190000
DTSTAMP:20260424T150243
CREATED:20201015T210054Z
LAST-MODIFIED:20201015T210054Z
UID:440-1603220400-1603220400@www.freddysbarrocks.com
SUMMARY:Taco Tuesday with Kyle Andrew
DESCRIPTION:Not only is it Taco Tuesday but it is also our Jack of Spades Raffle. Every Tuesday the pot grows until one lucky winner finds the Jack of Spades. Each week there will be a separate $150 winner just because we love you all! Live music goes on at 7pm and the drawing is at 8pm. Proceeds go to The Kiwanis club of Clinton Township. Come say hi to them\, our staff and your host with the most Doug Simonson every Tuesday night!
URL:http://www.freddysbarrocks.com/event/taco-tuesday-with-kyle-andrew/
LOCATION:Freddy’s Bar\, 40000 Garfield Rd\, Clinton Twp\, MI\, 48038
CATEGORIES:Concert
ATTACH;FMTTYPE=image/jpeg:http://www.freddysbarrocks.com/wp-content/uploads/2020/06/Jack-Of-Spades-Raffle-social.jpg
END:VEVENT
BEGIN:VEVENT
DTSTART;TZID=UTC:20201017T213000
DTEND;TZID=UTC:20201017T213000
DTSTAMP:20260424T150243
CREATED:20201015T221544Z
LAST-MODIFIED:20201015T221544Z
UID:483-1602970200-1602970200@www.freddysbarrocks.com
SUMMARY:LIVE MUSIC: Up in Smoke
DESCRIPTION:Live music starts at 9:30pm. We do accept a certain amount of reservations so make sure you call and save your spot. Freddy’s is the place to be for all of you live music lovin people!
URL:http://www.freddysbarrocks.com/event/live-music-up-in-smoke/
LOCATION:Freddy’s Bar\, 40000 Garfield Rd\, Clinton Twp\, MI\, 48038
CATEGORIES:Concert
ATTACH;FMTTYPE=image/jpeg:http://www.freddysbarrocks.com/wp-content/uploads/2020/05/logoonblack.jpg
END:VEVENT
BEGIN:VEVENT
DTSTART;TZID=UTC:20201016T213000
DTEND;TZID=UTC:20201016T213000
DTSTAMP:20260424T150243
CREATED:20201015T221131Z
LAST-MODIFIED:20201015T221417Z
UID:477-1602883800-1602883800@www.freddysbarrocks.com
SUMMARY:LIVE MUSIC: Armageddon (Metalica Tribute)
DESCRIPTION:Live music starts at 9:30pm. We do accept a certain amount of reservations so make sure you call and save your spot. Freddy’s is the place to be for all of you live music lovin people!
URL:http://www.freddysbarrocks.com/event/live-music-funhouse/
LOCATION:Freddy’s Bar\, 40000 Garfield Rd\, Clinton Twp\, MI\, 48038
CATEGORIES:Concert
ATTACH;FMTTYPE=image/jpeg:http://www.freddysbarrocks.com/wp-content/uploads/2020/10/Armageddon-10.16.20.jpg
END:VEVENT
BEGIN:VEVENT
DTSTART;TZID=UTC:20200831T190000
DTEND;TZID=UTC:20200831T190000
DTSTAMP:20260424T150243
CREATED:20200804T200303Z
LAST-MODIFIED:20200804T200332Z
UID:415-1598900400-1598900400@www.freddysbarrocks.com
SUMMARY:Slide into Mondays with Weekend Comeback
DESCRIPTION:$2 Sliders and $5 Coors Light Pitchers. Live music starts at 7pm.
URL:http://www.freddysbarrocks.com/event/slide-into-mondays-with-weekend-comeback-3/
LOCATION:Freddy’s Bar\, 40000 Garfield Rd\, Clinton Twp\, MI\, 48038
CATEGORIES:Concert
ATTACH;FMTTYPE=image/jpeg:http://www.freddysbarrocks.com/wp-content/uploads/2020/08/Live-Music-Mondays-social.jpg
END:VEVENT
BEGIN:VEVENT
DTSTART;TZID=UTC:20200825T190000
DTEND;TZID=UTC:20200825T190000
DTSTAMP:20260424T150243
CREATED:20200804T194951Z
LAST-MODIFIED:20200804T194951Z
UID:395-1598382000-1598382000@www.freddysbarrocks.com
SUMMARY:Taco Tuesday with John Ross
DESCRIPTION:Not only is it Taco Tuesday but it is also our Jack of Spades Raffle. Every Tuesday the pot grows until one lucky winner finds the Jack of Spades. Each week there will be a separate $150 winner just because we love you all! Live music goes on at 7pm and the drawing is at 8pm. Proceeds go to The Kiwanis club of Clinton Township. Come say hi to them\, our staff and your host with the most Doug Simonson every Tuesday night!
URL:http://www.freddysbarrocks.com/event/taco-tuesday-with-john-ross/
LOCATION:Freddy’s Bar\, 40000 Garfield Rd\, Clinton Twp\, MI\, 48038
CATEGORIES:Concert
ATTACH;FMTTYPE=image/jpeg:http://www.freddysbarrocks.com/wp-content/uploads/2020/06/Jack-Of-Spades-Raffle-social.jpg
END:VEVENT
BEGIN:VEVENT
DTSTART;TZID=UTC:20200824T190000
DTEND;TZID=UTC:20200824T190000
DTSTAMP:20260424T150243
CREATED:20200804T200156Z
LAST-MODIFIED:20200804T200156Z
UID:413-1598295600-1598295600@www.freddysbarrocks.com
SUMMARY:Slide into Mondays with Johnny P
DESCRIPTION:$2 Sliders and $5 Coors Light Pitchers. Live music starts at 7pm.
URL:http://www.freddysbarrocks.com/event/slide-into-mondays-with-johnny-p-3/
LOCATION:Freddy’s Bar\, 40000 Garfield Rd\, Clinton Twp\, MI\, 48038
CATEGORIES:Concert
ATTACH;FMTTYPE=image/jpeg:http://www.freddysbarrocks.com/wp-content/uploads/2020/08/Live-Music-Mondays-social.jpg
END:VEVENT
BEGIN:VEVENT
DTSTART;TZID=UTC:20200821T210000
DTEND;TZID=UTC:20200821T210000
DTSTAMP:20260424T150243
CREATED:20200804T195910Z
LAST-MODIFIED:20200804T200006Z
UID:408-1598043600-1598043600@www.freddysbarrocks.com
SUMMARY:Reckless Revival
DESCRIPTION:LIVE MUSIC starts at 9pm!
URL:http://www.freddysbarrocks.com/event/planet-of-fun-6/
LOCATION:Freddy’s Bar\, 40000 Garfield Rd\, Clinton Twp\, MI\, 48038
CATEGORIES:Concert
ATTACH;FMTTYPE=image/jpeg:http://www.freddysbarrocks.com/wp-content/uploads/2020/06/live-music.jpg
END:VEVENT
BEGIN:VEVENT
DTSTART;TZID=UTC:20200820T190000
DTEND;TZID=UTC:20200820T190000
DTSTAMP:20260424T150243
CREATED:20200804T195613Z
LAST-MODIFIED:20200804T195613Z
UID:403-1597950000-1597950000@www.freddysbarrocks.com
SUMMARY:Bike Night with Erich Goebel
DESCRIPTION:The best bike night on the Eastside with LIVE MUSIC every Thursday at 7pm. Sponsored by Detroit Life and hosted by Victoria Marie. Half Off Pizza all night! Always vendors\, always tons of bikes\, always cold beers and always beautiful women looking for a ride! \n 
URL:http://www.freddysbarrocks.com/event/bike-night-with-erich-goebel/
LOCATION:Freddy’s Bar\, 40000 Garfield Rd\, Clinton Twp\, MI\, 48038
CATEGORIES:Concert
ATTACH;FMTTYPE=image/jpeg:http://www.freddysbarrocks.com/wp-content/uploads/2020/06/Bike-Night-2020-social.jpg
END:VEVENT
BEGIN:VEVENT
DTSTART;TZID=UTC:20200819T210000
DTEND;TZID=UTC:20200819T210000
DTSTAMP:20260424T150243
CREATED:20200804T195317Z
LAST-MODIFIED:20200804T195317Z
UID:399-1597870800-1597870800@www.freddysbarrocks.com
SUMMARY:Late Night Acoustic with AJ Kish
DESCRIPTION:Join us after trivia for some live music and cold drinks! AJ Kish hits the stage at 9pm. $.75 wings and $4 craft drafts all day long!
URL:http://www.freddysbarrocks.com/event/late-night-acoustic-with-aj-kish-2/
LOCATION:Freddy’s Bar\, 40000 Garfield Rd\, Clinton Twp\, MI\, 48038
CATEGORIES:Concert
ATTACH;FMTTYPE=image/jpeg:http://www.freddysbarrocks.com/wp-content/uploads/2020/06/live-music.jpg
END:VEVENT
BEGIN:VEVENT
DTSTART;TZID=UTC:20200818T190000
DTEND;TZID=UTC:20200818T190000
DTSTAMP:20260424T150243
CREATED:20200804T194243Z
LAST-MODIFIED:20200804T194243Z
UID:393-1597777200-1597777200@www.freddysbarrocks.com
SUMMARY:Taco Tuesday with Michael Quatro
DESCRIPTION:Not only is it Taco Tuesday but it is also our Jack of Spades Raffle. Every Tuesday the pot grows until one lucky winner finds the Jack of Spades. Each week there will be a separate $150 winner just because we love you all! Live music goes on at 7pm and the drawing is at 8pm. Proceeds go to The Kiwanis club of Clinton Township. Come say hi to them\, our staff and your host with the most Doug Simonson every Tuesday night!
URL:http://www.freddysbarrocks.com/event/taco-tuesday-with-michael-quatro/
LOCATION:Freddy’s Bar\, 40000 Garfield Rd\, Clinton Twp\, MI\, 48038
CATEGORIES:Concert
ATTACH;FMTTYPE=image/jpeg:http://www.freddysbarrocks.com/wp-content/uploads/2020/06/Jack-Of-Spades-Raffle-social.jpg
END:VEVENT
BEGIN:VEVENT
DTSTART;TZID=UTC:20200817T190000
DTEND;TZID=UTC:20200817T190000
DTSTAMP:20260424T150243
CREATED:20200804T200111Z
LAST-MODIFIED:20200804T200408Z
UID:411-1597690800-1597690800@www.freddysbarrocks.com
SUMMARY:Slide into Mondays with Weekend Comeback
DESCRIPTION:$2 Sliders and $5 Coors Light Pitchers. Live music starts at 7pm.
URL:http://www.freddysbarrocks.com/event/slide-into-mondays-with-weekend-comeback-2/
LOCATION:Freddy’s Bar\, 40000 Garfield Rd\, Clinton Twp\, MI\, 48038
CATEGORIES:Concert
ATTACH;FMTTYPE=image/jpeg:http://www.freddysbarrocks.com/wp-content/uploads/2020/08/Live-Music-Mondays-social.jpg
END:VEVENT
BEGIN:VEVENT
DTSTART;TZID=UTC:20200813T190000
DTEND;TZID=UTC:20200813T190000
DTSTAMP:20260424T150243
CREATED:20200804T195446Z
LAST-MODIFIED:20200804T195446Z
UID:401-1597345200-1597345200@www.freddysbarrocks.com
SUMMARY:Bike Night with Planet of Fun
DESCRIPTION:The best bike night on the Eastside with LIVE MUSIC every Thursday at 7pm. Sponsored by Detroit Life and hosted by Victoria Marie. Half Off Pizza all night! Always vendors\, always tons of bikes\, always cold beers and always beautiful women looking for a ride! \n 
URL:http://www.freddysbarrocks.com/event/bike-night-with-planet-of-fun-2/
LOCATION:Freddy’s Bar\, 40000 Garfield Rd\, Clinton Twp\, MI\, 48038
CATEGORIES:Concert
ATTACH;FMTTYPE=image/jpeg:http://www.freddysbarrocks.com/wp-content/uploads/2020/06/Bike-Night-2020-social.jpg
END:VEVENT
BEGIN:VEVENT
DTSTART;TZID=UTC:20200812T210000
DTEND;TZID=UTC:20200812T210000
DTSTAMP:20260424T150244
CREATED:20200804T195205Z
LAST-MODIFIED:20200804T195205Z
UID:397-1597266000-1597266000@www.freddysbarrocks.com
SUMMARY:Late Night Acoustic with Bobby McManus
DESCRIPTION:Join us after trivia for some live music and cold drinks! Bobby McManus hits the stage at 9pm. $.75 wings and $4 craft drafts all day long!
URL:http://www.freddysbarrocks.com/event/late-night-acoustic-with-bobby-mcmanus-3/
LOCATION:Freddy’s Bar\, 40000 Garfield Rd\, Clinton Twp\, MI\, 48038
CATEGORIES:Concert
ATTACH;FMTTYPE=image/jpeg:http://www.freddysbarrocks.com/wp-content/uploads/2020/06/live-music.jpg
END:VEVENT
BEGIN:VEVENT
DTSTART;TZID=UTC:20200811T190000
DTEND;TZID=UTC:20200811T190000
DTSTAMP:20260424T150244
CREATED:20200804T194148Z
LAST-MODIFIED:20200804T194148Z
UID:391-1597172400-1597172400@www.freddysbarrocks.com
SUMMARY:Taco Tuesday with Kyle
DESCRIPTION:Not only is it Taco Tuesday but it is also our Jack of Spades Raffle. Every Tuesday the pot grows until one lucky winner finds the Jack of Spades. Each week there will be a separate $150 winner just because we love you all! Live music goes on at 7pm and the drawing is at 8pm. Proceeds go to The Kiwanis club of Clinton Township. Come say hi to them\, our staff and your host with the most Doug Simonson every Tuesday night!
URL:http://www.freddysbarrocks.com/event/taco-tuesday-with-kyle/
LOCATION:Freddy’s Bar\, 40000 Garfield Rd\, Clinton Twp\, MI\, 48038
CATEGORIES:Concert
ATTACH;FMTTYPE=image/jpeg:http://www.freddysbarrocks.com/wp-content/uploads/2020/06/Jack-Of-Spades-Raffle-social.jpg
END:VEVENT
BEGIN:VEVENT
DTSTART;TZID=UTC:20200810T190000
DTEND;TZID=UTC:20200810T190000
DTSTAMP:20260424T150244
CREATED:20200804T194040Z
LAST-MODIFIED:20200804T194040Z
UID:388-1597086000-1597086000@www.freddysbarrocks.com
SUMMARY:Slide into Mondays with Johnny P
DESCRIPTION:$2 Sliders and $5 Coors Light Pitchers. Live music starts at 7pm.
URL:http://www.freddysbarrocks.com/event/slide-into-mondays-with-johnny-p-2/
LOCATION:Freddy’s Bar\, 40000 Garfield Rd\, Clinton Twp\, MI\, 48038
CATEGORIES:Concert
ATTACH;FMTTYPE=image/jpeg:http://www.freddysbarrocks.com/wp-content/uploads/2020/08/Live-Music-Mondays-social.jpg
END:VEVENT
BEGIN:VEVENT
DTSTART;TZID=UTC:20200808T210000
DTEND;TZID=UTC:20200808T210000
DTSTAMP:20260424T150244
CREATED:20200804T193704Z
LAST-MODIFIED:20200804T193704Z
UID:386-1596920400-1596920400@www.freddysbarrocks.com
SUMMARY:Dr. Jimmy & Mr. Jim
DESCRIPTION:LIVE MUSIC starts at 9pm!
URL:http://www.freddysbarrocks.com/event/dr-jimmy-mr-jim/
LOCATION:Freddy’s Bar\, 40000 Garfield Rd\, Clinton Twp\, MI\, 48038
CATEGORIES:Concert
ATTACH;FMTTYPE=image/jpeg:http://www.freddysbarrocks.com/wp-content/uploads/2020/06/live-music.jpg
END:VEVENT
BEGIN:VEVENT
DTSTART;TZID=UTC:20200807T210000
DTEND;TZID=UTC:20200807T210000
DTSTAMP:20260424T150244
CREATED:20200805T164151Z
LAST-MODIFIED:20200805T164151Z
UID:418-1596834000-1596834000@www.freddysbarrocks.com
SUMMARY:Faze Too
DESCRIPTION:LIVE MUSIC starts at 9pm!
URL:http://www.freddysbarrocks.com/event/faze-too/
LOCATION:Freddy’s Bar\, 40000 Garfield Rd\, Clinton Twp\, MI\, 48038
CATEGORIES:Concert
ATTACH;FMTTYPE=image/jpeg:http://www.freddysbarrocks.com/wp-content/uploads/2020/06/live-music.jpg
END:VEVENT
BEGIN:VEVENT
DTSTART;TZID=UTC:20200806T190000
DTEND;TZID=UTC:20200806T190000
DTSTAMP:20260424T150244
CREATED:20200804T193151Z
LAST-MODIFIED:20200804T193151Z
UID:383-1596740400-1596740400@www.freddysbarrocks.com
SUMMARY:Bike Night with Bobby Black & Tiffany
DESCRIPTION:The best bike night on the Eastside with LIVE MUSIC every Thursday at 7pm. Sponsored by Detroit Life and hosted by Victoria Marie. Half Off Pizza all night! Always vendors\, always tons of bikes\, always cold beers and always beautiful women looking for a ride! \n 
URL:http://www.freddysbarrocks.com/event/bike-night-with-bobby-black-tiffany/
LOCATION:Freddy’s Bar\, 40000 Garfield Rd\, Clinton Twp\, MI\, 48038
CATEGORIES:Concert
ATTACH;FMTTYPE=image/jpeg:http://www.freddysbarrocks.com/wp-content/uploads/2020/06/Bike-Night-2020-social.jpg
END:VEVENT
BEGIN:VEVENT
DTSTART;TZID=UTC:20200805T210000
DTEND;TZID=UTC:20200805T210000
DTSTAMP:20260424T150244
CREATED:20200804T191740Z
LAST-MODIFIED:20200804T191754Z
UID:380-1596661200-1596661200@www.freddysbarrocks.com
SUMMARY:Late Night Acoustic with Dave Hamilton
DESCRIPTION:Join us after trivia for some live music and cold drinks! Dave Hamilton hits the stage at 9pm. $.75 wings and $4 craft drafts all day long!
URL:http://www.freddysbarrocks.com/event/late-night-acoustic-with-dave-hamilton-2/
LOCATION:Freddy’s Bar\, 40000 Garfield Rd\, Clinton Twp\, MI\, 48038
CATEGORIES:Concert
ATTACH;FMTTYPE=image/jpeg:http://www.freddysbarrocks.com/wp-content/uploads/2020/06/live-music.jpg
END:VEVENT
BEGIN:VEVENT
DTSTART;TZID=UTC:20200804T190000
DTEND;TZID=UTC:20200804T190000
DTSTAMP:20260424T150244
CREATED:20200804T191600Z
LAST-MODIFIED:20200804T191600Z
UID:378-1596567600-1596567600@www.freddysbarrocks.com
SUMMARY:Taco Tuesday with Justin Alexander
DESCRIPTION:Not only is it Taco Tuesday but it is also our Jack of Spades Raffle. Every Tuesday the pot grows until one lucky winner finds the Jack of Spades. Each week there will be a separate $150 winner just because we love you all! Live music goes on at 7pm and the drawing is at 8pm. Proceeds go to The Kiwanis club of Clinton Township. Come say hi to them\, our staff and your host with the most Doug Simonson every Tuesday night!
URL:http://www.freddysbarrocks.com/event/taco-tuesday-with-justin-alexander/
LOCATION:Freddy’s Bar\, 40000 Garfield Rd\, Clinton Twp\, MI\, 48038
CATEGORIES:Concert
ATTACH;FMTTYPE=image/jpeg:http://www.freddysbarrocks.com/wp-content/uploads/2020/06/Jack-Of-Spades-Raffle-social.jpg
END:VEVENT
BEGIN:VEVENT
DTSTART;TZID=UTC:20200730T190000
DTEND;TZID=UTC:20200730T190000
DTSTAMP:20260424T150244
CREATED:20200630T183106Z
LAST-MODIFIED:20200630T183106Z
UID:352-1596135600-1596135600@www.freddysbarrocks.com
SUMMARY:Bike Night with Chit
DESCRIPTION:The best bike night on the Eastside with LIVE MUSIC every Thursday at 7pm. Sponsored by Detroit Life and hosted by Victoria Marie. Half Off Pizza all night! Always vendors\, always tons of bikes\, always cold beers and always beautiful women looking for a ride! \n 
URL:http://www.freddysbarrocks.com/event/bike-night-with-chit/
LOCATION:Freddy’s Bar\, 40000 Garfield Rd\, Clinton Twp\, MI\, 48038
CATEGORIES:Concert
ATTACH;FMTTYPE=image/jpeg:http://www.freddysbarrocks.com/wp-content/uploads/2020/06/Bike-Night-2020-social.jpg
END:VEVENT
END:VCALENDAR