BEGIN:VCALENDAR
VERSION:2.0
PRODID:-//Freddys Bar &amp; Grill - ECPv6.8.3//NONSGML v1.0//EN
CALSCALE:GREGORIAN
METHOD:PUBLISH
X-WR-CALNAME:Freddys Bar &amp; Grill
X-ORIGINAL-URL:http://www.freddysbarrocks.com
X-WR-CALDESC:Events for Freddys Bar &amp; Grill
REFRESH-INTERVAL;VALUE=DURATION:PT1H
X-Robots-Tag:noindex
X-PUBLISHED-TTL:PT1H
BEGIN:VTIMEZONE
TZID:UTC
BEGIN:STANDARD
TZOFFSETFROM:+0000
TZOFFSETTO:+0000
TZNAME:UTC
DTSTART:20200101T000000
END:STANDARD
END:VTIMEZONE
BEGIN:VEVENT
DTSTART;TZID=UTC:20200721T190000
DTEND;TZID=UTC:20200721T190000
DTSTAMP:20260424T190839
CREATED:20200630T181455Z
LAST-MODIFIED:20200630T181455Z
UID:330-1595358000-1595358000@www.freddysbarrocks.com
SUMMARY:Taco Tuesday with Joey Fava & Christina Chriss
DESCRIPTION:Not only is it Taco Tuesday but it is also our Jack of Spades Raffle. Every Tuesday the pot grows until one lucky winner finds the Jack of Spades. Each week there will be a separate $150 winner just because we love you all! Live music goes on at 7pm and the drawing is at 8pm. Proceeds go to The Kiwanis club of Clinton Township. Come say hi to them\, our staff and your host with the most Doug Simonson every Tuesday night!
URL:http://www.freddysbarrocks.com/event/taco-tuesday-with-joey-fava-christina-chriss/
LOCATION:Freddy’s Bar\, 40000 Garfield Rd\, Clinton Twp\, MI\, 48038
CATEGORIES:Concert
ATTACH;FMTTYPE=image/jpeg:http://www.freddysbarrocks.com/wp-content/uploads/2020/06/Jack-Of-Spades-Raffle-social.jpg
END:VEVENT
BEGIN:VEVENT
DTSTART;TZID=UTC:20200720T190000
DTEND;TZID=UTC:20200720T190000
DTSTAMP:20260424T190839
CREATED:20200630T180615Z
LAST-MODIFIED:20200630T180833Z
UID:317-1595271600-1595271600@www.freddysbarrocks.com
SUMMARY:Slide into Mondays with Weekend Comeback
DESCRIPTION:$2 Sliders and $5 Coors Light Pitchers. Live music starts at 7pm.
URL:http://www.freddysbarrocks.com/event/slide-into-mondays-with-johnny-p/
LOCATION:Freddy’s Bar\, 40000 Garfield Rd\, Clinton Twp\, MI\, 48038
CATEGORIES:Concert
ATTACH;FMTTYPE=image/jpeg:http://www.freddysbarrocks.com/wp-content/uploads/2020/06/Monday-Night-Party-Good-social.jpg
END:VEVENT
BEGIN:VEVENT
DTSTART;TZID=UTC:20200720T183000
DTEND;TZID=UTC:20200720T183000
DTSTAMP:20260424T190839
CREATED:20200630T185714Z
LAST-MODIFIED:20200630T185714Z
UID:373-1595269800-1595269800@www.freddysbarrocks.com
SUMMARY:Andi & Tylers Pure Romance Game Night
DESCRIPTION:Attend in person or virtually. 18 and over\, women only. Lots of fun games with great prizes to win and also some to purchase. Check the event link for more details and how to sign up.
URL:http://www.freddysbarrocks.com/event/andi-tylers-pure-romance-game-night/
LOCATION:Freddy’s Bar\, 40000 Garfield Rd\, Clinton Twp\, MI\, 48038
CATEGORIES:Concert
ATTACH;FMTTYPE=image/jpeg:http://www.freddysbarrocks.com/wp-content/uploads/2020/06/pure-romance-7.20.20.jpg
END:VEVENT
BEGIN:VEVENT
DTSTART;TZID=UTC:20200718T210000
DTEND;TZID=UTC:20200718T210000
DTSTAMP:20260424T190839
CREATED:20200630T184354Z
LAST-MODIFIED:20200630T184354Z
UID:361-1595106000-1595106000@www.freddysbarrocks.com
SUMMARY:Planet of Fun
DESCRIPTION:LIVE MUSIC starts at 9pm!
URL:http://www.freddysbarrocks.com/event/planet-of-fun-3/
LOCATION:Freddy’s Bar\, 40000 Garfield Rd\, Clinton Twp\, MI\, 48038
CATEGORIES:Concert
ATTACH;FMTTYPE=image/png:http://www.freddysbarrocks.com/wp-content/uploads/2020/06/Planet-of-Fun-Logo.png
END:VEVENT
BEGIN:VEVENT
DTSTART;TZID=UTC:20200717T210000
DTEND;TZID=UTC:20200717T210000
DTSTAMP:20260424T190839
CREATED:20200630T184444Z
LAST-MODIFIED:20200630T184444Z
UID:364-1595019600-1595019600@www.freddysbarrocks.com
SUMMARY:Planet of Fun
DESCRIPTION:LIVE MUSIC starts at 9pm!
URL:http://www.freddysbarrocks.com/event/planet-of-fun-4/
LOCATION:Freddy’s Bar\, 40000 Garfield Rd\, Clinton Twp\, MI\, 48038
CATEGORIES:Concert
ATTACH;FMTTYPE=image/png:http://www.freddysbarrocks.com/wp-content/uploads/2020/06/Planet-of-Fun-Logo.png
END:VEVENT
BEGIN:VEVENT
DTSTART;TZID=UTC:20200716T190000
DTEND;TZID=UTC:20200716T190000
DTSTAMP:20260424T190839
CREATED:20200630T182939Z
LAST-MODIFIED:20200630T182939Z
UID:348-1594926000-1594926000@www.freddysbarrocks.com
SUMMARY:Bike Night with Planet of Fun
DESCRIPTION:The best bike night on the Eastside with LIVE MUSIC every Thursday at 7pm. Sponsored by Detroit Life and hosted by Victoria Marie. Half Off Pizza all night! Always vendors\, always tons of bikes\, always cold beers and always beautiful women looking for a ride! \n 
URL:http://www.freddysbarrocks.com/event/bike-night-with-planet-of-fun/
LOCATION:Freddy’s Bar\, 40000 Garfield Rd\, Clinton Twp\, MI\, 48038
CATEGORIES:Concert
ATTACH;FMTTYPE=image/jpeg:http://www.freddysbarrocks.com/wp-content/uploads/2020/06/Bike-Night-2020-social.jpg
END:VEVENT
BEGIN:VEVENT
DTSTART;TZID=UTC:20200715T210000
DTEND;TZID=UTC:20200715T210000
DTSTAMP:20260424T190839
CREATED:20200630T182134Z
LAST-MODIFIED:20200630T190249Z
UID:336-1594846800-1594846800@www.freddysbarrocks.com
SUMMARY:Late Night Acoustic with Bobby McManus
DESCRIPTION:Join us after trivia for some live music and cold drinks! Bobby McManus hits the stage at 9pm. $.75 wings and $4 craft drafts all day long!
URL:http://www.freddysbarrocks.com/event/late-night-acoustic-with-bobby-mcmanus-2/
LOCATION:Freddy’s Bar\, 40000 Garfield Rd\, Clinton Twp\, MI\, 48038
CATEGORIES:Concert
ATTACH;FMTTYPE=image/jpeg:http://www.freddysbarrocks.com/wp-content/uploads/2020/06/live-music.jpg
END:VEVENT
BEGIN:VEVENT
DTSTART;TZID=UTC:20200714T190000
DTEND;TZID=UTC:20200714T190000
DTSTAMP:20260424T190839
CREATED:20200630T181349Z
LAST-MODIFIED:20200630T181349Z
UID:328-1594753200-1594753200@www.freddysbarrocks.com
SUMMARY:Taco Tuesday with Brothers Mogan
DESCRIPTION:Not only is it Taco Tuesday but it is also our Jack of Spades Raffle. Every Tuesday the pot grows until one lucky winner finds the Jack of Spades. Each week there will be a separate $150 winner just because we love you all! Live music goes on at 7pm and the drawing is at 8pm. Proceeds go to The Kiwanis club of Clinton Township. Come say hi to them\, our staff and your host with the most Doug Simonson every Tuesday night!
URL:http://www.freddysbarrocks.com/event/taco-tuesday-with-brothers-mogan/
LOCATION:Freddy’s Bar\, 40000 Garfield Rd\, Clinton Twp\, MI\, 48038
CATEGORIES:Concert
ATTACH;FMTTYPE=image/jpeg:http://www.freddysbarrocks.com/wp-content/uploads/2020/06/Jack-Of-Spades-Raffle-social.jpg
END:VEVENT
BEGIN:VEVENT
DTSTART;TZID=UTC:20200713T190000
DTEND;TZID=UTC:20200713T190000
DTSTAMP:20260424T190839
CREATED:20200630T180734Z
LAST-MODIFIED:20200630T180734Z
UID:322-1594666800-1594666800@www.freddysbarrocks.com
SUMMARY:Slide into Mondays with Weekend Comeback
DESCRIPTION:$2 Sliders and $5 Coors Light Pitchers. Live music starts at 7pm.
URL:http://www.freddysbarrocks.com/event/slide-into-mondays-with-weekend-comeback/
LOCATION:Freddy’s Bar\, 40000 Garfield Rd\, Clinton Twp\, MI\, 48038
CATEGORIES:Concert
ATTACH;FMTTYPE=image/jpeg:http://www.freddysbarrocks.com/wp-content/uploads/2020/06/Monday-Night-Party-Good-social.jpg
END:VEVENT
BEGIN:VEVENT
DTSTART;TZID=UTC:20200711T210000
DTEND;TZID=UTC:20200711T210000
DTSTAMP:20260424T190839
CREATED:20200630T183938Z
LAST-MODIFIED:20200630T183938Z
UID:358-1594501200-1594501200@www.freddysbarrocks.com
SUMMARY:Stone Blossoms
DESCRIPTION:LIVE MUSIC starts at 9pm!
URL:http://www.freddysbarrocks.com/event/stone-blossoms/
LOCATION:Freddy’s Bar\, 40000 Garfield Rd\, Clinton Twp\, MI\, 48038
CATEGORIES:Concert
ATTACH;FMTTYPE=image/png:http://www.freddysbarrocks.com/wp-content/uploads/2020/06/stone-blossoms.png
END:VEVENT
BEGIN:VEVENT
DTSTART;TZID=UTC:20200710T210000
DTEND;TZID=UTC:20200710T210000
DTSTAMP:20260424T190839
CREATED:20200630T183626Z
LAST-MODIFIED:20200630T183740Z
UID:354-1594414800-1594414800@www.freddysbarrocks.com
SUMMARY:Room 13
DESCRIPTION:LIVE MUSIC starts at 9pm!
URL:http://www.freddysbarrocks.com/event/room-13/
LOCATION:Freddy’s Bar\, 40000 Garfield Rd\, Clinton Twp\, MI\, 48038
CATEGORIES:Concert
ATTACH;FMTTYPE=image/jpeg:http://www.freddysbarrocks.com/wp-content/uploads/2020/06/room-13.jpg
END:VEVENT
BEGIN:VEVENT
DTSTART;TZID=UTC:20200709T190000
DTEND;TZID=UTC:20200709T190000
DTSTAMP:20260424T190839
CREATED:20200630T182809Z
LAST-MODIFIED:20200630T183211Z
UID:346-1594321200-1594321200@www.freddysbarrocks.com
SUMMARY:Bike Night with Wait Until Dark
DESCRIPTION:The best bike night on the Eastside with LIVE MUSIC every Thursday at 7pm. Sponsored by Detroit Life and hosted by Victoria Marie. Half Off Pizza all night! Always vendors\, always tons of bikes\, always cold beers and always beautiful women looking for a ride! \n 
URL:http://www.freddysbarrocks.com/event/bike-night-with-wait-until-dark/
LOCATION:Freddy’s Bar\, 40000 Garfield Rd\, Clinton Twp\, MI\, 48038
CATEGORIES:Concert
ATTACH;FMTTYPE=image/jpeg:http://www.freddysbarrocks.com/wp-content/uploads/2020/06/Bike-Night-2020-social.jpg
END:VEVENT
BEGIN:VEVENT
DTSTART;TZID=UTC:20200708T210000
DTEND;TZID=UTC:20200708T210000
DTSTAMP:20260424T190839
CREATED:20200630T181930Z
LAST-MODIFIED:20200630T190221Z
UID:334-1594242000-1594242000@www.freddysbarrocks.com
SUMMARY:Late Night Acoustic with Dave Hamilton
DESCRIPTION:Join us after trivia for some live music and cold drinks! Dave Hamilton hits the stage at 9pm. $.75 wings and $4 craft drafts all day long!
URL:http://www.freddysbarrocks.com/event/late-night-acoustic-with-dave-hamilton/
LOCATION:Freddy’s Bar\, 40000 Garfield Rd\, Clinton Twp\, MI\, 48038
CATEGORIES:Concert
ATTACH;FMTTYPE=image/jpeg:http://www.freddysbarrocks.com/wp-content/uploads/2020/06/live-music.jpg
END:VEVENT
BEGIN:VEVENT
DTSTART;TZID=UTC:20200707T190000
DTEND;TZID=UTC:20200707T190000
DTSTAMP:20260424T190839
CREATED:20200630T181241Z
LAST-MODIFIED:20200630T181241Z
UID:325-1594148400-1594148400@www.freddysbarrocks.com
SUMMARY:Taco Tuesday with Weekend Comeback
DESCRIPTION:Not only is it Taco Tuesday but it is also our Jack of Spades Raffle. Every Tuesday the pot grows until one lucky winner finds the Jack of Spades. Each week there will be a separate $150 winner just because we love you all! Live music goes on at 7pm and the drawing is at 8pm. Proceeds go to The Kiwanis club of Clinton Township. Come say hi to them\, our staff and your host with the most Doug Simonson every Tuesday night!
URL:http://www.freddysbarrocks.com/event/taco-tuesday-with-weekend-comeback/
LOCATION:Freddy’s Bar\, 40000 Garfield Rd\, Clinton Twp\, MI\, 48038
CATEGORIES:Concert
ATTACH;FMTTYPE=image/jpeg:http://www.freddysbarrocks.com/wp-content/uploads/2020/06/Jack-Of-Spades-Raffle-social.jpg
END:VEVENT
BEGIN:VEVENT
DTSTART;TZID=UTC:20200703T210000
DTEND;TZID=UTC:20200703T210000
DTSTAMP:20260424T190839
CREATED:20200630T180308Z
LAST-MODIFIED:20200630T180308Z
UID:314-1593810000-1593810000@www.freddysbarrocks.com
SUMMARY:Stone Gypsy
DESCRIPTION:LIVE MUSIC starts at 9pm!
URL:http://www.freddysbarrocks.com/event/stone-gypsy/
LOCATION:Freddy’s Bar\, 40000 Garfield Rd\, Clinton Twp\, MI\, 48038
CATEGORIES:Concert
ATTACH;FMTTYPE=image/jpeg:http://www.freddysbarrocks.com/wp-content/uploads/2020/06/stone-gypsy-7.3.20.jpg
END:VEVENT
BEGIN:VEVENT
DTSTART;TZID=UTC:20200702T190000
DTEND;TZID=UTC:20200702T190000
DTSTAMP:20260424T190839
CREATED:20200630T175607Z
LAST-MODIFIED:20200630T183136Z
UID:310-1593716400-1593716400@www.freddysbarrocks.com
SUMMARY:Bike Night with Eastside Still Alive
DESCRIPTION:The best bike night on the Eastside with LIVE MUSIC every Thursday at 7pm. Sponsored by Detroit Life and hosted by Victoria Marie. Half Off Pizza all night! Always vendors\, always tons of bikes\, always cold beers and always beautiful women looking for a ride! \n 
URL:http://www.freddysbarrocks.com/event/bike-night-with-eastside-still-alive/
LOCATION:Freddy’s Bar\, 40000 Garfield Rd\, Clinton Twp\, MI\, 48038
CATEGORIES:Concert
ATTACH;FMTTYPE=image/jpeg:http://www.freddysbarrocks.com/wp-content/uploads/2020/06/Bike-Night-2020-social.jpg
END:VEVENT
BEGIN:VEVENT
DTSTART;TZID=UTC:20200701T210000
DTEND;TZID=UTC:20200701T210000
DTSTAMP:20260424T190839
CREATED:20200630T174948Z
LAST-MODIFIED:20200630T190157Z
UID:308-1593637200-1593637200@www.freddysbarrocks.com
SUMMARY:Late Night Acoustic with Bobby McManus
DESCRIPTION:Join us after trivia for some live music and cold drinks! Bobby McManus hits the stage at 9pm. $.75 wings and $4 craft drafts all day long!
URL:http://www.freddysbarrocks.com/event/late-night-acoustic-with-bobby-mcmanus/
LOCATION:Freddy’s Bar\, 40000 Garfield Rd\, Clinton Twp\, MI\, 48038
ATTACH;FMTTYPE=image/jpeg:http://www.freddysbarrocks.com/wp-content/uploads/2020/06/live-music.jpg
END:VEVENT
BEGIN:VEVENT
DTSTART;TZID=UTC:20200628T210000
DTEND;TZID=UTC:20200628T210000
DTSTAMP:20260424T190839
CREATED:20200624T193728Z
LAST-MODIFIED:20200624T194003Z
UID:300-1593378000-1593378000@www.freddysbarrocks.com
SUMMARY:CHIT Rocks Freddy's
DESCRIPTION:The bad boys of noise are back at Freddy’s for a fun night of silliness\, music and laughter.
URL:http://www.freddysbarrocks.com/event/chit-rocks-freddys/
LOCATION:Freddy’s Bar\, 40000 Garfield Rd\, Clinton Twp\, MI\, 48038
ATTACH;FMTTYPE=image/jpeg:http://www.freddysbarrocks.com/wp-content/uploads/2019/08/logoonblack.jpg
END:VEVENT
BEGIN:VEVENT
DTSTART;TZID=UTC:20200620T210000
DTEND;TZID=UTC:20200620T210000
DTSTAMP:20260424T190839
CREATED:20200609T194545Z
LAST-MODIFIED:20200609T194545Z
UID:290-1592686800-1592686800@www.freddysbarrocks.com
SUMMARY:Planet of Fun
DESCRIPTION:
URL:http://www.freddysbarrocks.com/event/planet-of-fun-2/
LOCATION:Freddy’s Bar\, 40000 Garfield Rd\, Clinton Twp\, MI\, 48038
CATEGORIES:Concert
END:VEVENT
BEGIN:VEVENT
DTSTART;TZID=UTC:20200619T210000
DTEND;TZID=UTC:20200619T210000
DTSTAMP:20260424T190839
CREATED:20200609T194521Z
LAST-MODIFIED:20200609T194521Z
UID:288-1592600400-1592600400@www.freddysbarrocks.com
SUMMARY:Planet of Fun
DESCRIPTION:
URL:http://www.freddysbarrocks.com/event/planet-of-fun/
LOCATION:Freddy’s Bar\, 40000 Garfield Rd\, Clinton Twp\, MI\, 48038
CATEGORIES:Concert
END:VEVENT
BEGIN:VEVENT
DTSTART;TZID=UTC:20200618T070000
DTEND;TZID=UTC:20200618T190000
DTSTAMP:20260424T190839
CREATED:20200609T194438Z
LAST-MODIFIED:20200609T194442Z
UID:286-1592463600-1592506800@www.freddysbarrocks.com
SUMMARY:Bike Night & Planet of Fun
DESCRIPTION:
URL:http://www.freddysbarrocks.com/event/bike-night-planet-of-fun/
LOCATION:Freddy’s Bar\, 40000 Garfield Rd\, Clinton Twp\, MI\, 48038
CATEGORIES:Concert
END:VEVENT
BEGIN:VEVENT
DTSTART;TZID=UTC:20200616T190000
DTEND;TZID=UTC:20200616T230000
DTSTAMP:20260424T190839
CREATED:20200609T194355Z
LAST-MODIFIED:20200609T194355Z
UID:284-1592334000-1592348400@www.freddysbarrocks.com
SUMMARY:Acoustic Royal
DESCRIPTION:
URL:http://www.freddysbarrocks.com/event/acoustic-royal/
LOCATION:Freddy’s Bar\, 40000 Garfield Rd\, Clinton Twp\, MI\, 48038
END:VEVENT
BEGIN:VEVENT
DTSTART;TZID=UTC:20200613T210000
DTEND;TZID=UTC:20200613T210000
DTSTAMP:20260424T190839
CREATED:20200609T194315Z
LAST-MODIFIED:20200609T194315Z
UID:282-1592082000-1592082000@www.freddysbarrocks.com
SUMMARY:Funhouse
DESCRIPTION:
URL:http://www.freddysbarrocks.com/event/funhouse/
LOCATION:Freddy’s Bar\, 40000 Garfield Rd\, Clinton Twp\, MI\, 48038
END:VEVENT
BEGIN:VEVENT
DTSTART;TZID=UTC:20200612T210000
DTEND;TZID=UTC:20200612T210000
DTSTAMP:20260424T190839
CREATED:20200609T194247Z
LAST-MODIFIED:20200609T194247Z
UID:280-1591995600-1591995600@www.freddysbarrocks.com
SUMMARY:Reckless Revival
DESCRIPTION:
URL:http://www.freddysbarrocks.com/event/reckless-revival/
LOCATION:Freddy’s Bar\, 40000 Garfield Rd\, Clinton Twp\, MI\, 48038
END:VEVENT
BEGIN:VEVENT
DTSTART;TZID=UTC:20200609T190000
DTEND;TZID=UTC:20200609T190000
DTSTAMP:20260424T190839
CREATED:20200609T202309Z
LAST-MODIFIED:20200630T175844Z
UID:293-1591729200-1591729200@www.freddysbarrocks.com
SUMMARY:End Of The Apocalypse Tour
DESCRIPTION:Our first show since the end of the apocalypses! Join me and some very talented friends as we entertain you with acoustic covers and some originals. It also happens to be Taco Tuesday and don’t forget about getting into the running to win the Jack of Spades game that they do every Tuesday.
URL:http://www.freddysbarrocks.com/event/end-of-the-apocalypse-tour/
LOCATION:Freddy’s Bar\, 40000 Garfield Rd\, Clinton Twp\, MI\, 48038
CATEGORIES:Concert
ATTACH;FMTTYPE=image/jpeg:http://www.freddysbarrocks.com/wp-content/uploads/2020/06/apocalypse.jpg
END:VEVENT
END:VCALENDAR