BEGIN:VCALENDAR
VERSION:2.0
PRODID:-//Freddys Bar &amp; Grill - ECPv6.8.3//NONSGML v1.0//EN
CALSCALE:GREGORIAN
METHOD:PUBLISH
X-ORIGINAL-URL:http://www.freddysbarrocks.com
X-WR-CALDESC:Events for Freddys Bar &amp; Grill
REFRESH-INTERVAL;VALUE=DURATION:PT1H
X-Robots-Tag:noindex
X-PUBLISHED-TTL:PT1H
BEGIN:VTIMEZONE
TZID:UTC
BEGIN:STANDARD
TZOFFSETFROM:+0000
TZOFFSETTO:+0000
TZNAME:UTC
DTSTART:20200101T000000
END:STANDARD
END:VTIMEZONE
BEGIN:VEVENT
DTSTART;TZID=UTC:20200702T190000
DTEND;TZID=UTC:20200702T190000
DTSTAMP:20260421T101037
CREATED:20200630T175607Z
LAST-MODIFIED:20200630T183136Z
UID:310-1593716400-1593716400@www.freddysbarrocks.com
SUMMARY:Bike Night with Eastside Still Alive
DESCRIPTION:The best bike night on the Eastside with LIVE MUSIC every Thursday at 7pm. Sponsored by Detroit Life and hosted by Victoria Marie. Half Off Pizza all night! Always vendors\, always tons of bikes\, always cold beers and always beautiful women looking for a ride! \n 
URL:http://www.freddysbarrocks.com/event/bike-night-with-eastside-still-alive/
LOCATION:Freddy’s Bar\, 40000 Garfield Rd\, Clinton Twp\, MI\, 48038
CATEGORIES:Concert
ATTACH;FMTTYPE=image/jpeg:http://www.freddysbarrocks.com/wp-content/uploads/2020/06/Bike-Night-2020-social.jpg
END:VEVENT
BEGIN:VEVENT
DTSTART;TZID=UTC:20200709T190000
DTEND;TZID=UTC:20200709T190000
DTSTAMP:20260421T101037
CREATED:20200630T182809Z
LAST-MODIFIED:20200630T183211Z
UID:346-1594321200-1594321200@www.freddysbarrocks.com
SUMMARY:Bike Night with Wait Until Dark
DESCRIPTION:The best bike night on the Eastside with LIVE MUSIC every Thursday at 7pm. Sponsored by Detroit Life and hosted by Victoria Marie. Half Off Pizza all night! Always vendors\, always tons of bikes\, always cold beers and always beautiful women looking for a ride! \n 
URL:http://www.freddysbarrocks.com/event/bike-night-with-wait-until-dark/
LOCATION:Freddy’s Bar\, 40000 Garfield Rd\, Clinton Twp\, MI\, 48038
CATEGORIES:Concert
ATTACH;FMTTYPE=image/jpeg:http://www.freddysbarrocks.com/wp-content/uploads/2020/06/Bike-Night-2020-social.jpg
END:VEVENT
BEGIN:VEVENT
DTSTART;TZID=UTC:20200716T190000
DTEND;TZID=UTC:20200716T190000
DTSTAMP:20260421T101037
CREATED:20200630T182939Z
LAST-MODIFIED:20200630T182939Z
UID:348-1594926000-1594926000@www.freddysbarrocks.com
SUMMARY:Bike Night with Planet of Fun
DESCRIPTION:The best bike night on the Eastside with LIVE MUSIC every Thursday at 7pm. Sponsored by Detroit Life and hosted by Victoria Marie. Half Off Pizza all night! Always vendors\, always tons of bikes\, always cold beers and always beautiful women looking for a ride! \n 
URL:http://www.freddysbarrocks.com/event/bike-night-with-planet-of-fun/
LOCATION:Freddy’s Bar\, 40000 Garfield Rd\, Clinton Twp\, MI\, 48038
CATEGORIES:Concert
ATTACH;FMTTYPE=image/jpeg:http://www.freddysbarrocks.com/wp-content/uploads/2020/06/Bike-Night-2020-social.jpg
END:VEVENT
BEGIN:VEVENT
DTSTART;TZID=UTC:20200723T190000
DTEND;TZID=UTC:20200723T190000
DTSTAMP:20260421T101037
CREATED:20200630T183022Z
LAST-MODIFIED:20200630T183022Z
UID:350-1595530800-1595530800@www.freddysbarrocks.com
SUMMARY:Bike Night with Bobby Black Band
DESCRIPTION:The best bike night on the Eastside with LIVE MUSIC every Thursday at 7pm. Sponsored by Detroit Life and hosted by Victoria Marie. Half Off Pizza all night! Always vendors\, always tons of bikes\, always cold beers and always beautiful women looking for a ride! \n 
URL:http://www.freddysbarrocks.com/event/bike-night-with-bobby-black-band/
LOCATION:Freddy’s Bar\, 40000 Garfield Rd\, Clinton Twp\, MI\, 48038
CATEGORIES:Concert
ATTACH;FMTTYPE=image/jpeg:http://www.freddysbarrocks.com/wp-content/uploads/2020/06/Bike-Night-2020-social.jpg
END:VEVENT
BEGIN:VEVENT
DTSTART;TZID=UTC:20200730T190000
DTEND;TZID=UTC:20200730T190000
DTSTAMP:20260421T101037
CREATED:20200630T183106Z
LAST-MODIFIED:20200630T183106Z
UID:352-1596135600-1596135600@www.freddysbarrocks.com
SUMMARY:Bike Night with Chit
DESCRIPTION:The best bike night on the Eastside with LIVE MUSIC every Thursday at 7pm. Sponsored by Detroit Life and hosted by Victoria Marie. Half Off Pizza all night! Always vendors\, always tons of bikes\, always cold beers and always beautiful women looking for a ride! \n 
URL:http://www.freddysbarrocks.com/event/bike-night-with-chit/
LOCATION:Freddy’s Bar\, 40000 Garfield Rd\, Clinton Twp\, MI\, 48038
CATEGORIES:Concert
ATTACH;FMTTYPE=image/jpeg:http://www.freddysbarrocks.com/wp-content/uploads/2020/06/Bike-Night-2020-social.jpg
END:VEVENT
END:VCALENDAR